BEGIN:VCALENDAR
VERSION:2.0
PRODID:-//Woodland Hills Warner - Center Neighborhood Council | Your most local part of CIty Government - ECPv6.15.20//NONSGML v1.0//EN
CALSCALE:GREGORIAN
METHOD:PUBLISH
X-ORIGINAL-URL:https://whcouncil.org
X-WR-CALDESC:Events for Woodland Hills Warner - Center Neighborhood Council | Your most local part of CIty Government
REFRESH-INTERVAL;VALUE=DURATION:PT1H
X-Robots-Tag:noindex
X-PUBLISHED-TTL:PT1H
BEGIN:VTIMEZONE
TZID:America/Los_Angeles
BEGIN:DAYLIGHT
TZOFFSETFROM:-0800
TZOFFSETTO:-0700
TZNAME:PDT
DTSTART:20220313T100000
END:DAYLIGHT
BEGIN:STANDARD
TZOFFSETFROM:-0700
TZOFFSETTO:-0800
TZNAME:PST
DTSTART:20221106T090000
END:STANDARD
BEGIN:DAYLIGHT
TZOFFSETFROM:-0800
TZOFFSETTO:-0700
TZNAME:PDT
DTSTART:20230312T100000
END:DAYLIGHT
BEGIN:STANDARD
TZOFFSETFROM:-0700
TZOFFSETTO:-0800
TZNAME:PST
DTSTART:20231105T090000
END:STANDARD
BEGIN:DAYLIGHT
TZOFFSETFROM:-0800
TZOFFSETTO:-0700
TZNAME:PDT
DTSTART:20240310T100000
END:DAYLIGHT
BEGIN:STANDARD
TZOFFSETFROM:-0700
TZOFFSETTO:-0800
TZNAME:PST
DTSTART:20241103T090000
END:STANDARD
END:VTIMEZONE
BEGIN:VEVENT
DTSTART;TZID=America/Los_Angeles:20230429T100000
DTEND;TZID=America/Los_Angeles:20230429T130000
DTSTAMP:20260424T002413
CREATED:20230419T161116Z
LAST-MODIFIED:20230419T161116Z
UID:10001297-1682762400-1682773200@whcouncil.org
SUMMARY:Pet Wellness Day
DESCRIPTION:
URL:https://whcouncil.org/event/pet-wellness-day/
LOCATION:Winnetka Recreation Center\, 8401 Winnetka Ave\, Winnetka
CATEGORIES:Community
GEO:34.2223031;-118.5715636
X-APPLE-STRUCTURED-LOCATION;VALUE=URI;X-ADDRESS=Winnetka Recreation Center 8401 Winnetka Ave Winnetka;X-APPLE-RADIUS=500;X-TITLE=8401 Winnetka Ave:geo:-118.5715636,34.2223031
END:VEVENT
END:VCALENDAR