BEGIN:VCALENDAR
VERSION:2.0
PRODID:-//Woodland Hills Warner - Center Neighborhood Council | Your most local part of CIty Government - ECPv6.15.20//NONSGML v1.0//EN
CALSCALE:GREGORIAN
METHOD:PUBLISH
X-ORIGINAL-URL:https://whcouncil.org
X-WR-CALDESC:Events for Woodland Hills Warner - Center Neighborhood Council | Your most local part of CIty Government
REFRESH-INTERVAL;VALUE=DURATION:PT1H
X-Robots-Tag:noindex
X-PUBLISHED-TTL:PT1H
BEGIN:VTIMEZONE
TZID:America/Los_Angeles
BEGIN:DAYLIGHT
TZOFFSETFROM:-0800
TZOFFSETTO:-0700
TZNAME:PDT
DTSTART:20190310T100000
END:DAYLIGHT
BEGIN:STANDARD
TZOFFSETFROM:-0700
TZOFFSETTO:-0800
TZNAME:PST
DTSTART:20191103T090000
END:STANDARD
BEGIN:DAYLIGHT
TZOFFSETFROM:-0800
TZOFFSETTO:-0700
TZNAME:PDT
DTSTART:20200308T100000
END:DAYLIGHT
BEGIN:STANDARD
TZOFFSETFROM:-0700
TZOFFSETTO:-0800
TZNAME:PST
DTSTART:20201101T090000
END:STANDARD
BEGIN:DAYLIGHT
TZOFFSETFROM:-0800
TZOFFSETTO:-0700
TZNAME:PDT
DTSTART:20210314T100000
END:DAYLIGHT
BEGIN:STANDARD
TZOFFSETFROM:-0700
TZOFFSETTO:-0800
TZNAME:PST
DTSTART:20211107T090000
END:STANDARD
END:VTIMEZONE
BEGIN:VEVENT
DTSTART;TZID=America/Los_Angeles:20200305T183000
DTEND;TZID=America/Los_Angeles:20200305T220000
DTSTAMP:20260423T174538
CREATED:20200229T183922Z
LAST-MODIFIED:20200302T184930Z
UID:10000804-1583433000-1583445600@whcouncil.org
SUMMARY:PLUM Meeting
DESCRIPTION:Woodland Hills Warner Center Neighborhood Council\nPLANNING LAND USE & MOBILITY COMMITTEE\nThursday\, March 5\, 2020 – 6:30 pm\nSt. Bernardine’s Church – Child Care Center\n24425 Calvert St.\, Woodland Hills\, CA 91367 \nClick for Agenda \nStakeholders and the public are permitted to address the Committee on any item on the Agenda prior to the\nCommittee taking action on said item. It is requested speakers complete a “Speaker Card” and hand it to the\nChair. Comments from Stakeholders on Agenda items will be heard only when the respective item is being\nconsidered. Comments within the Committee’s subject matter jurisdiction not appearing on the Agenda will\nbe heard during the Public Comment period. Public Comment is limited to 15 minutes total per item. Each\nspeaker is limited to two minutes\, unless waived by the presiding officer of the Committee.\nOpinions\, positions or actions taken by the Woodland Hills-Warner Center Neighborhood Council do not represent\nor imply similar opinions held by the Owner\, Landlord\, L.A.U.S.D\, Business or representatives of any\nvenue hosting a meeting of the Council\, Board\, or Committee.\nMeeting Agenda\n1. Call to Order\n2. Public Comment\n3. Approval of Minutes\n4. AA-2019-5473-PMLA; 6738 Shoup Avenue\, WH 91307\nPursuant to LAMC Section 17.56 A3-Parcel\, subdivision located within the RS-1-Rio Zone. The property\nhas one existing single family residence which will be demolished.\nSecond presentation.\n5. AA-2018-1619-PMLA; 5063 N. Medina Road\, WH 91364\nRequesting a preliminary parcel map subdivision pursuant to LAMC section 17.50 in order to split a\nproperty into two (updated 5.15.19 / from request for three parcels originally) different legal properties\nin the R1-1 zone in the Canoga Park-Winnetka-Woodland Hills West Hills Community Plan area.\nSecond presentation.\n6. ENV-2020-33-CE; ZA-2020-0032-CUB; 20600 W. Ventura Blvd WH 91364\nPursuant to LAMC Sec 12\,23-W.1\, a conditional use for on site sales and dispensing of a full line of alcoholic\nbeverages at a 180 seat restaurant\, in an RA zone\, with hours of operation of Monday – Sunday\, 7\nAM to 2 AM.\n6. Future Agenda Items\nPage 2 of 2\nW O O D L A N D H I L L S – W A R N E R C E N T E R N E I G H B O R H O O D C O U N C I L\n20929 Ventura Boulevard Suite 47-535\, Woodland Hills\, CA 91364\nToll Free 888. 680.7770 │ Local & Fax 818. 484.3270 │www.whcouncil.org\nCommittee members may raise issues for discussion at future meetings relevant to areas under the committee’s purview.\n7. New cases\, review of current cases\, and committee business.\nThe committee will discuss the status of currently outstanding cases and assignment of new cases for consideration at future meetings.\n8. Adjournment\nThe AMERICAN WITH DISABILITIES ACT – As a covered entity under Title II of the Americans with Disabilities Act\, the City of Los Angeles does not discriminate on the basis of disability and\, upon request\, will provide reasonable accommo-dation to ensure equal access to its programs\, services and activities. Sign language interpreters\, assistive listening de-vices and other auxiliary aids and/or services\, may be provided upon request. To ensure availability of services\, please make your request at least 3 business days (72 hours) prior to the meeting you wish to attend by contacting Don Patter-son Board Member\, at (818) 639-9444 or email d.patterson@whcouncil.org.\nPUBLIC ACCESS OF RECORDS – In compliance with Government Code section 54957.5\, non-exempt writings that are distributed to a majority or all of the board in advance of a meeting may be viewed at our website www.whcouncil.org or at the scheduled meeting. In addition\, if you would like a copy of any record related to an item on the agenda\, please contact Don Patterson\, at at (818) 639-9444 or email d.patterson@whcouncil.org\nBrown Act Notification:\nIn compliance with Government Code 54957.5\, non-exempt writings that are distributed to a majority or all of the board in advance of a meeting\, may be viewed at www.whcouncil.org. If you would like a copy of any record related to an item on the agenda\, please contact: j.fletcher@whcouncil.org
URL:https://whcouncil.org/event/plum-meeting-4/
LOCATION:St Bernardine of Siena Church Child Care Center\, 24425 Calvert St\, Woodland Hills\, 91367\, United States
CATEGORIES:PLUM
GEO:34.1828547;-118.6568773
X-APPLE-STRUCTURED-LOCATION;VALUE=URI;X-ADDRESS=St Bernardine of Siena Church Child Care Center 24425 Calvert St Woodland Hills 91367 United States;X-APPLE-RADIUS=500;X-TITLE=24425 Calvert St:geo:-118.6568773,34.1828547
END:VEVENT
BEGIN:VEVENT
DTSTART;TZID=America/Los_Angeles:20200220T183000
DTEND;TZID=America/Los_Angeles:20200220T220000
DTSTAMP:20260423T174538
CREATED:20200217T161634Z
LAST-MODIFIED:20200217T161837Z
UID:10000796-1582223400-1582236000@whcouncil.org
SUMMARY:PLANNING LAND USE & MOBILITY COMMITTEE
DESCRIPTION:Notice of a Public Meeting of the\nWoodland Hills Warner Center Neighborhood Council\nPLANNING LAND USE & MOBILITY COMMITTEE\nThursday\, February 20\, 2020 – 6:30 pm\nSt. Bernardine’s Church – Child Care Center\n24425 Calvert St.\, Woodland Hills\, CA 91367 \nClick For Agenda \nStakeholders and the public are permitted to address the Committee on any item on the Agenda prior to the\nCommittee taking action on said item. It is requested speakers complete a “Speaker Card” and hand it to the\nChair. Comments from Stakeholders on Agenda items will be heard only when the respective item is being\nconsidered. Comments within the Committee’s subject matter jurisdiction not appearing on the Agenda will\nbe heard during the Public Comment period. Public Comment is limited to 15 minutes total per item. Each\nspeaker is limited to two minutes\, unless waived by the presiding officer of the Committee.\nOpinions\, positions or actions taken by the Woodland Hills-Warner Center Neighborhood Council do not represent\nor imply similar opinions held by the Owner\, Landlord\, L.A.U.S.D\, Business or representatives of any\nvenue hosting a meeting of the Council\, Board\, or Committee.\nMeeting Agenda\n1. Call to Order\n2. Public Comment\n3. Approval of Minutes\n4. DIR-2019-4606; 21075 Topochico Drive\, WH 91364\nPursuant to LAMC Sections 11.5.7 and 16.50\, specific plan review and design review for a new two-story\nsingle family dwelling with attached 2-car garage in the Mulholland Specific Plan outer corridor.\n5. AA-2018-1619-PMLA; 5063 N. Medina Road\, WH 91364\nRequesting a preliminary parcel map subdivision pursuant to LAMC section 17.50 in order to split a\nproperty into two (updated 5.15.19 / from request for three parcels originally) different legal properties\nin the R1-1 zone in the Canoga Park-Winnetka-Woodland Hills West Hills Community Plan area.\n6. Future Agenda Items\nCommittee members may raise issues for discussion at future meetings relevant to areas under the\ncommittee’s purview.\n7. New cases\, review of current cases\, and committee business.\nThe committee will discuss the status of currently outstanding cases and assignment of new cases for\nconsideration at future meetings.\nPage 2 of 2\nW O O D L A N D H I L L S – W A R N E R C E N T E R N E I G H B O R H O O D C O U N C I L\n20929 Ventura Boulevard Suite 47-535\, Woodland Hills\, CA 91364\nToll Free 888. 680.7770 │ Local & Fax 818. 484.3270 │www.whcouncil.org\n8. Adjournment\nThe AMERICAN WITH DISABILITIES ACT – As a covered entity under Title II of the Americans with Disabilities Act\, the\nCity of Los Angeles does not discriminate on the basis of disability and\, upon request\, will provide reasonable accommodation\nto ensure equal access to its programs\, services and activities. Sign language interpreters\, assistive listening devices\nand other auxiliary aids and/or services\, may be provided upon request. To ensure availability of services\, please\nmake your request at least 3 business days (72 hours) prior to the meeting you wish to attend by contacting Don Patterson\nBoard Member\, at (818) 639-9444 or email d.patterson@whcouncil.org.\nPUBLIC ACCESS OF RECORDS – In compliance with Government Code section 54957.5\, non-exempt writings that are\ndistributed to a majority or all of the board in advance of a meeting may be viewed at our website www.whcouncil.org\nor at the scheduled meeting. In addition\, if you would like a copy of any record related to an item on the agenda\,\nplease contact Don Patterson\, at at (818) 639-9444 or email d.patterson@whcouncil.org\nBrown Act Notification:\nIn compliance with Government Code 54957.5\, non-exempt writings that are distributed to a majority or all of the\nboard in advance of a meeting\, may be viewed at www.whcouncil.org. If you would like a copy of any record related to\nan item on the agenda\, please contact: j.fletcher@whcouncil.org \n 
URL:https://whcouncil.org/event/planning-land-use-mobility-committee-11/
LOCATION:St Bernardine of Siena Church Child Care Center\, 24425 Calvert St\, Woodland Hills\, 91367\, United States
CATEGORIES:PLUM
ATTACH;FMTTYPE=image/jpeg:https://whcouncil.org/wp-content/uploads/2019/10/21300-w-Califa-c.jpg
GEO:34.1828547;-118.6568773
X-APPLE-STRUCTURED-LOCATION;VALUE=URI;X-ADDRESS=St Bernardine of Siena Church Child Care Center 24425 Calvert St Woodland Hills 91367 United States;X-APPLE-RADIUS=500;X-TITLE=24425 Calvert St:geo:-118.6568773,34.1828547
END:VEVENT
END:VCALENDAR