BEGIN:VCALENDAR
VERSION:2.0
PRODID:-//Woodland Hills Warner - Center Neighborhood Council | Your most local part of CIty Government - ECPv6.15.20//NONSGML v1.0//EN
CALSCALE:GREGORIAN
METHOD:PUBLISH
X-WR-CALNAME:Woodland Hills Warner - Center Neighborhood Council | Your most local part of CIty Government
X-ORIGINAL-URL:https://whcouncil.org
X-WR-CALDESC:Events for Woodland Hills Warner - Center Neighborhood Council | Your most local part of CIty Government
REFRESH-INTERVAL;VALUE=DURATION:PT1H
X-Robots-Tag:noindex
X-PUBLISHED-TTL:PT1H
BEGIN:VTIMEZONE
TZID:America/Los_Angeles
BEGIN:DAYLIGHT
TZOFFSETFROM:-0800
TZOFFSETTO:-0700
TZNAME:PDT
DTSTART:20230312T100000
END:DAYLIGHT
BEGIN:STANDARD
TZOFFSETFROM:-0700
TZOFFSETTO:-0800
TZNAME:PST
DTSTART:20231105T090000
END:STANDARD
BEGIN:DAYLIGHT
TZOFFSETFROM:-0800
TZOFFSETTO:-0700
TZNAME:PDT
DTSTART:20240310T100000
END:DAYLIGHT
BEGIN:STANDARD
TZOFFSETFROM:-0700
TZOFFSETTO:-0800
TZNAME:PST
DTSTART:20241103T090000
END:STANDARD
BEGIN:DAYLIGHT
TZOFFSETFROM:-0800
TZOFFSETTO:-0700
TZNAME:PDT
DTSTART:20250309T100000
END:DAYLIGHT
BEGIN:STANDARD
TZOFFSETFROM:-0700
TZOFFSETTO:-0800
TZNAME:PST
DTSTART:20251102T090000
END:STANDARD
END:VTIMEZONE
BEGIN:VEVENT
DTSTART;TZID=America/Los_Angeles:20240610T183000
DTEND;TZID=America/Los_Angeles:20240610T200000
DTSTAMP:20260423T180918
CREATED:20240606T231406Z
LAST-MODIFIED:20240610T234459Z
UID:10001405-1718044200-1718049600@whcouncil.org
SUMMARY:Outreach Committee Meeting 6/10/24 - Canceled
DESCRIPTION:We apologize but tonight’s Outreach Committee meeting is canceled due to an unexpected closure of our meeting location.
URL:https://whcouncil.org/event/regular-outreach-committee-meeting-6-10-24/
LOCATION:Community Room\, Capital One Cafe\, 6600 CA-27 Suite 1038 Suite 103\, Canoga Park\, CA\, 91303\, United States
CATEGORIES:Community Outreach
ORGANIZER;CN="Tracey Rosen":MAILTO:tracey.rosen@gmail.com
GEO:34.1900362;-118.6035049
X-APPLE-STRUCTURED-LOCATION;VALUE=URI;X-ADDRESS=Community Room Capital One Cafe 6600 CA-27 Suite 1038 Suite 103 Canoga Park CA 91303 United States;X-APPLE-RADIUS=500;X-TITLE=6600 CA-27 Suite 1038 Suite 103:geo:-118.6035049,34.1900362
END:VEVENT
BEGIN:VEVENT
DTSTART;TZID=America/Los_Angeles:20240527T183000
DTEND;TZID=America/Los_Angeles:20240527T200000
DTSTAMP:20260423T180918
CREATED:20240421T211544Z
LAST-MODIFIED:20240522T061946Z
UID:10001394-1716834600-1716840000@whcouncil.org
SUMMARY:Outreach Committee Meeting - 5/27/24 CANCELED
DESCRIPTION:Please note that the Community Outreach meeting on Monday\, May 27th has been canceled due to the holiday
URL:https://whcouncil.org/event/outreach-committee-meeting-5-27-24/
LOCATION:Community Room\, Capital One Cafe\, 6600 CA-27 Suite 1038 Suite 103\, Canoga Park\, CA\, 91303\, United States
CATEGORIES:Community Outreach
ORGANIZER;CN="Tracey Rosen":MAILTO:tracey.rosen@gmail.com
GEO:34.1900362;-118.6035049
X-APPLE-STRUCTURED-LOCATION;VALUE=URI;X-ADDRESS=Community Room Capital One Cafe 6600 CA-27 Suite 1038 Suite 103 Canoga Park CA 91303 United States;X-APPLE-RADIUS=500;X-TITLE=6600 CA-27 Suite 1038 Suite 103:geo:-118.6035049,34.1900362
END:VEVENT
BEGIN:VEVENT
DTSTART;TZID=America/Los_Angeles:20240513T183000
DTEND;TZID=America/Los_Angeles:20240513T200000
DTSTAMP:20260423T180918
CREATED:20240421T211133Z
LAST-MODIFIED:20240511T060414Z
UID:10001393-1715625000-1715630400@whcouncil.org
SUMMARY:Outreach Committee Meeting - 5/13/24
DESCRIPTION:Please join us for our next Community Outreach meeting on Monday\, May 13th\, 2024 at 6:30pm \nWe will be meeting in the Community Room at the CapitalOne Cafe in the Westfield Topanga Mall (6600 Topanga Canyon\nSte. 1038 ) \n  \nThe agenda can be downloaded at May 13\, 2024  or viewed below \n        \n                                    \n                        \n                            \n\n\n 
URL:https://whcouncil.org/event/outreach-committee-meeting-5-13-24/
LOCATION:Community Room\, Capital One Cafe\, 6600 CA-27 Suite 1038 Suite 103\, Canoga Park\, CA\, 91303\, United States
CATEGORIES:Community Outreach
ORGANIZER;CN="Tracey Rosen":MAILTO:tracey.rosen@gmail.com
GEO:34.1900362;-118.6035049
X-APPLE-STRUCTURED-LOCATION;VALUE=URI;X-ADDRESS=Community Room Capital One Cafe 6600 CA-27 Suite 1038 Suite 103 Canoga Park CA 91303 United States;X-APPLE-RADIUS=500;X-TITLE=6600 CA-27 Suite 1038 Suite 103:geo:-118.6035049,34.1900362
END:VEVENT
BEGIN:VEVENT
DTSTART;TZID=America/Los_Angeles:20240411T183000
DTEND;TZID=America/Los_Angeles:20240411T200000
DTSTAMP:20260423T180918
CREATED:20240406T003932Z
LAST-MODIFIED:20240407T023618Z
UID:10001385-1712860200-1712865600@whcouncil.org
SUMMARY:Special Outreach Committee Meeting - 4/11/24
DESCRIPTION:Please join us for a special Outreach Committee Meeting on Thursday\, April 11th at 6:30pm in the Community Room of the CapitalOne Cafe at Westfield Topanga. \nThe agenda can be downloaded at Apr 11\, 2024 \n 
URL:https://whcouncil.org/event/special-outreach-committee-meeting-4-11-24/
LOCATION:Community Room\, Capital One Cafe\, 6600 CA-27 Suite 1038 Suite 103\, Canoga Park\, CA\, 91303\, United States
CATEGORIES:Community Outreach
ATTACH;FMTTYPE=image/jpeg:https://whcouncil.org/wp-content/uploads/2024/04/Outreach-Committee-2.jpg
ORGANIZER;CN="Tracey Rosen":MAILTO:tracey.rosen@gmail.com
GEO:34.1900362;-118.6035049
X-APPLE-STRUCTURED-LOCATION;VALUE=URI;X-ADDRESS=Community Room Capital One Cafe 6600 CA-27 Suite 1038 Suite 103 Canoga Park CA 91303 United States;X-APPLE-RADIUS=500;X-TITLE=6600 CA-27 Suite 1038 Suite 103:geo:-118.6035049,34.1900362
END:VEVENT
BEGIN:VEVENT
DTSTART;TZID=America/Los_Angeles:20240408T183000
DTEND;TZID=America/Los_Angeles:20240408T200000
DTSTAMP:20260423T180918
CREATED:20240224T075043Z
LAST-MODIFIED:20240406T002138Z
UID:10001113-1712601000-1712606400@whcouncil.org
SUMMARY:Outreach Committee Meeting 4/8/ - Canceled
DESCRIPTION:Please note that our Outreach Committee meeting on April 8th has been canceled.  We will be holding a special meeting on April 11th. \nThe agenda will be available closer to the meeting date
URL:https://whcouncil.org/event/outreach-committee-meeting-4-8-24/
LOCATION:Community Room\, Capital One Cafe\, 6600 CA-27 Suite 1038 Suite 103\, Canoga Park\, CA\, 91303\, United States
CATEGORIES:Community Outreach
ORGANIZER;CN="Tracey Rosen":MAILTO:tracey.rosen@gmail.com
GEO:34.1900362;-118.6035049
X-APPLE-STRUCTURED-LOCATION;VALUE=URI;X-ADDRESS=Community Room Capital One Cafe 6600 CA-27 Suite 1038 Suite 103 Canoga Park CA 91303 United States;X-APPLE-RADIUS=500;X-TITLE=6600 CA-27 Suite 1038 Suite 103:geo:-118.6035049,34.1900362
END:VEVENT
BEGIN:VEVENT
DTSTART;TZID=America/Los_Angeles:20240325T183000
DTEND;TZID=America/Los_Angeles:20240325T200000
DTSTAMP:20260423T180918
CREATED:20240224T074856Z
LAST-MODIFIED:20240322T004445Z
UID:10001112-1711391400-1711396800@whcouncil.org
SUMMARY:Outreach Committee Meeting 3/25/24
DESCRIPTION:Please join us for our next Outreach Committee meeting on March 25th at 6:30pm.  As the Library is not available on this date\, we will be meeting in the Community Room of the CapitalOne Cafe in Westfield Topanga.
URL:https://whcouncil.org/event/outreach-committee-meeting-3-25-24/
LOCATION:Community Room\, Capital One Cafe\, 6600 CA-27 Suite 1038 Suite 103\, Canoga Park\, CA\, 91303\, United States
CATEGORIES:Community Outreach
ORGANIZER;CN="Tracey Rosen":MAILTO:tracey.rosen@gmail.com
GEO:34.1900362;-118.6035049
X-APPLE-STRUCTURED-LOCATION;VALUE=URI;X-ADDRESS=Community Room Capital One Cafe 6600 CA-27 Suite 1038 Suite 103 Canoga Park CA 91303 United States;X-APPLE-RADIUS=500;X-TITLE=6600 CA-27 Suite 1038 Suite 103:geo:-118.6035049,34.1900362
END:VEVENT
BEGIN:VEVENT
DTSTART;TZID=America/Los_Angeles:20240320T110000
DTEND;TZID=America/Los_Angeles:20240320T123000
DTSTAMP:20260423T180918
CREATED:20240315T211944Z
LAST-MODIFIED:20240322T004035Z
UID:10001365-1710932400-1710937800@whcouncil.org
SUMMARY:Public Safety Committee 3/20/24
DESCRIPTION:The Public Safety Committee is hosting their first meeting on Wednesday\,March 20\,2024 at 11:00 AM at the Community Room at the Capital One Cafe at the Westfield Topanga Mall. The address is 6600 Topanga Canyon Blvd-1038\, Woodland Hills CA 91303. Please come and join us!  For Agenda and supporting documents click here:  Mar 20\, 2024
URL:https://whcouncil.org/event/public-safety-committee-2/
LOCATION:Community Room\, Capital One Cafe\, 6600 CA-27 Suite 1038 Suite 103\, Canoga Park\, CA\, 91303\, United States
CATEGORIES:Public Safety
GEO:34.1900362;-118.6035049
X-APPLE-STRUCTURED-LOCATION;VALUE=URI;X-ADDRESS=Community Room Capital One Cafe 6600 CA-27 Suite 1038 Suite 103 Canoga Park CA 91303 United States;X-APPLE-RADIUS=500;X-TITLE=6600 CA-27 Suite 1038 Suite 103:geo:-118.6035049,34.1900362
END:VEVENT
BEGIN:VEVENT
DTSTART;TZID=America/Los_Angeles:20240311T183000
DTEND;TZID=America/Los_Angeles:20240311T200000
DTSTAMP:20260423T180918
CREATED:20240224T074730Z
LAST-MODIFIED:20240309T022611Z
UID:10001111-1710181800-1710187200@whcouncil.org
SUMMARY:Outreach Committee Meeting 3/11/24
DESCRIPTION:Please join us for our next Outreach Committee meeting on March 11th at 6:30pm.  As the Library is not available on this date\, we will be meeting in the Community Room of the CapitalOne Cafe in Westfield Topanga. \nThe agenda is available HERE
URL:https://whcouncil.org/event/outreach-committee-meeting-3-11-24/
LOCATION:Community Room\, Capital One Cafe\, 6600 CA-27 Suite 1038 Suite 103\, Canoga Park\, CA\, 91303\, United States
CATEGORIES:Community Outreach
ORGANIZER;CN="Tracey Rosen":MAILTO:tracey.rosen@gmail.com
GEO:34.1900362;-118.6035049
X-APPLE-STRUCTURED-LOCATION;VALUE=URI;X-ADDRESS=Community Room Capital One Cafe 6600 CA-27 Suite 1038 Suite 103 Canoga Park CA 91303 United States;X-APPLE-RADIUS=500;X-TITLE=6600 CA-27 Suite 1038 Suite 103:geo:-118.6035049,34.1900362
END:VEVENT
BEGIN:VEVENT
DTSTART;TZID=America/Los_Angeles:20240226T183000
DTEND;TZID=America/Los_Angeles:20240226T200000
DTSTAMP:20260423T180918
CREATED:20240224T074500Z
LAST-MODIFIED:20240224T074500Z
UID:10001110-1708972200-1708977600@whcouncil.org
SUMMARY:Outreach Committee Meeting 2/26/24
DESCRIPTION:Please join us for our next Outreach Committee meeting on February 26th at 6:30pm.  As the Library is not available on this date\, we will be meeting in the Community Room of the CapitalOne Cafe in Westfield Topanga. \nThe agenda can be found HERE \n 
URL:https://whcouncil.org/event/outreach-committee-meeting-2-26-24/
LOCATION:Community Room\, Capital One Cafe\, 6600 CA-27 Suite 1038 Suite 103\, Canoga Park\, CA\, 91303\, United States
CATEGORIES:Community Outreach
ORGANIZER;CN="Tracey Rosen":MAILTO:tracey.rosen@gmail.com
GEO:34.1900362;-118.6035049
X-APPLE-STRUCTURED-LOCATION;VALUE=URI;X-ADDRESS=Community Room Capital One Cafe 6600 CA-27 Suite 1038 Suite 103 Canoga Park CA 91303 United States;X-APPLE-RADIUS=500;X-TITLE=6600 CA-27 Suite 1038 Suite 103:geo:-118.6035049,34.1900362
END:VEVENT
END:VCALENDAR