BEGIN:VCALENDAR
VERSION:2.0
PRODID:-//Woodland Hills Warner - Center Neighborhood Council | Your most local part of CIty Government - ECPv6.15.20//NONSGML v1.0//EN
CALSCALE:GREGORIAN
METHOD:PUBLISH
X-ORIGINAL-URL:https://whcouncil.org
X-WR-CALDESC:Events for Woodland Hills Warner - Center Neighborhood Council | Your most local part of CIty Government
REFRESH-INTERVAL;VALUE=DURATION:PT1H
X-Robots-Tag:noindex
X-PUBLISHED-TTL:PT1H
BEGIN:VTIMEZONE
TZID:America/Los_Angeles
BEGIN:DAYLIGHT
TZOFFSETFROM:-0800
TZOFFSETTO:-0700
TZNAME:PDT
DTSTART:20190310T100000
END:DAYLIGHT
BEGIN:STANDARD
TZOFFSETFROM:-0700
TZOFFSETTO:-0800
TZNAME:PST
DTSTART:20191103T090000
END:STANDARD
BEGIN:DAYLIGHT
TZOFFSETFROM:-0800
TZOFFSETTO:-0700
TZNAME:PDT
DTSTART:20200308T100000
END:DAYLIGHT
BEGIN:STANDARD
TZOFFSETFROM:-0700
TZOFFSETTO:-0800
TZNAME:PST
DTSTART:20201101T090000
END:STANDARD
BEGIN:DAYLIGHT
TZOFFSETFROM:-0800
TZOFFSETTO:-0700
TZNAME:PDT
DTSTART:20210314T100000
END:DAYLIGHT
BEGIN:STANDARD
TZOFFSETFROM:-0700
TZOFFSETTO:-0800
TZNAME:PST
DTSTART:20211107T090000
END:STANDARD
BEGIN:DAYLIGHT
TZOFFSETFROM:-0800
TZOFFSETTO:-0700
TZNAME:PDT
DTSTART:20220313T100000
END:DAYLIGHT
BEGIN:STANDARD
TZOFFSETFROM:-0700
TZOFFSETTO:-0800
TZNAME:PST
DTSTART:20221106T090000
END:STANDARD
BEGIN:DAYLIGHT
TZOFFSETFROM:-0800
TZOFFSETTO:-0700
TZNAME:PDT
DTSTART:20230312T100000
END:DAYLIGHT
BEGIN:STANDARD
TZOFFSETFROM:-0700
TZOFFSETTO:-0800
TZNAME:PST
DTSTART:20231105T090000
END:STANDARD
BEGIN:DAYLIGHT
TZOFFSETFROM:-0800
TZOFFSETTO:-0700
TZNAME:PDT
DTSTART:20240310T100000
END:DAYLIGHT
BEGIN:STANDARD
TZOFFSETFROM:-0700
TZOFFSETTO:-0800
TZNAME:PST
DTSTART:20241103T090000
END:STANDARD
BEGIN:DAYLIGHT
TZOFFSETFROM:-0800
TZOFFSETTO:-0700
TZNAME:PDT
DTSTART:20250309T100000
END:DAYLIGHT
BEGIN:STANDARD
TZOFFSETFROM:-0700
TZOFFSETTO:-0800
TZNAME:PST
DTSTART:20251102T090000
END:STANDARD
END:VTIMEZONE
BEGIN:VEVENT
DTSTART;TZID=America/Los_Angeles:20240406T080000
DTEND;TZID=America/Los_Angeles:20240406T083000
DTSTAMP:20260423T194227
CREATED:20240331T215039Z
LAST-MODIFIED:20240331T215039Z
UID:10001384-1712390400-1712392200@whcouncil.org
SUMMARY:1st Saturday Clean-Up Canceled
DESCRIPTION:Please note that our 1st Saturday Clean-Up has been canceled so that we can take part in the Grateful Hearts event at Warner Park on April 6th. \n  \nWe are also planning to participate in a community service project at Jesse Gabriel’s Day of Service on April 14th
URL:https://whcouncil.org/event/1st-saturday-clean-up-canceled/
CATEGORIES:Environment & Beautification
END:VEVENT
BEGIN:VEVENT
DTSTART;TZID=America/Los_Angeles:20240302T080000
DTEND;TZID=America/Los_Angeles:20240302T110000
DTSTAMP:20260423T194227
CREATED:20240229T194258Z
LAST-MODIFIED:20240229T222828Z
UID:10001121-1709366400-1709377200@whcouncil.org
SUMMARY:Saturday Clean-Up  3/2/24
DESCRIPTION:For this month’s Clean-Up\, we will be identifying and counting the empty Tree Wells in the area so that we can request new trees from the city. \nIf you are available to help\, please join us on \nSaturday March 2\, 2024 \nMeet at 8am.  Rain or Shine. \nCoffee Bean at 21851 Ventura Blvd.\, Woodland Hills. \nWe will be driving and counting the empty tree wells on the concrete sidewalk only. \nThis is for missing street trees. \n\nYou will: \n\nIdentify by name the street you are counting including your direction (North\, South\, East\, West)\nNote the street cross street where you begin and end.\nCount the empty tree wells to your right. Turn around and count the empty tree wells on the same street going in the opposite direction.\nSend the information you collected to Karen so we can consolidate a report.
URL:https://whcouncil.org/event/saturday-clean-up-3-2-24/
CATEGORIES:Environment & Beautification
END:VEVENT
BEGIN:VEVENT
DTSTART;TZID=America/Los_Angeles:20240213T183000
DTEND;TZID=America/Los_Angeles:20240213T200000
DTSTAMP:20260423T194227
CREATED:20240211T065542Z
LAST-MODIFIED:20240229T194909Z
UID:10001356-1707849000-1707854400@whcouncil.org
SUMMARY:Special Environment & Beautification Committee Meeting
DESCRIPTION:Please join us for a special Environment & Beautification Meeting on Tuesday\, February 13th at 6:30pm at the Woodland Hills Public Library (2nd floor meeting room). \nThe agenda can be found HERE
URL:https://whcouncil.org/event/special-environment-beautification-committee-meeting/
LOCATION:Woodland Hills Public Library\, Upper Room\, 22200 Ventura Blvd.\, Woodland Hills\, CA\, 91364\, United States
CATEGORIES:Environment & Beautification
GEO:34.1678825;-118.6106854
X-APPLE-STRUCTURED-LOCATION;VALUE=URI;X-ADDRESS=Woodland Hills Public Library Upper Room 22200 Ventura Blvd. Woodland Hills CA 91364 United States;X-APPLE-RADIUS=500;X-TITLE=22200 Ventura Blvd.:geo:-118.6106854,34.1678825
END:VEVENT
BEGIN:VEVENT
DTSTART;TZID=America/Los_Angeles:20240210T083000
DTEND;TZID=America/Los_Angeles:20240210T103000
DTSTAMP:20260423T194227
CREATED:20240130T214013Z
LAST-MODIFIED:20240130T214013Z
UID:10001352-1707553800-1707561000@whcouncil.org
SUMMARY:Saturday Clean-Up - Feb 10th
DESCRIPTION:We can use your help to clean-up Woodland Hills! \nEvery month\, the Neighborhood Council identifies an area in our community that needs a little TLC and volunteers remove overgrowth and trash as well as trim trees and bushes as needed.  The more volunteers we have\, the more impact we can make.  No experience necessary. Simply show up and we’ll provide the tools. \nOn February 10th (please note date change due to expected rain on Feb 3rd)\, we will be clearing the Center Divider on Ventura Blvd at Oakdale (across from the ex-Osh business)\, from 8:30-10:30am \nWe look forward to seeing you there!
URL:https://whcouncil.org/event/saturday-clean-up-feb-10th/
CATEGORIES:Community,Environment & Beautification
END:VEVENT
BEGIN:VEVENT
DTSTART;TZID=America/Los_Angeles:20240125T183000
DTEND;TZID=America/Los_Angeles:20240125T200000
DTSTAMP:20260423T194227
CREATED:20240123T173107Z
LAST-MODIFIED:20240123T220758Z
UID:10001349-1706207400-1706212800@whcouncil.org
SUMMARY:Special Environmental / Beautification Committee Meeting
DESCRIPTION:Please join us for our next Environmental / Beautification Committee Meeting on January 23\, 2024 at the Woodland Hills Library (Upper room) from 6:30pm to 8:00pm. \n  \nThe agenda can be found HERE
URL:https://whcouncil.org/event/environmental-beautification-committee-meeting/
LOCATION:Woodland Hills Public Library\, Upper Room\, 22200 Ventura Blvd.\, Woodland Hills\, CA\, 91364\, United States
CATEGORIES:Environment & Beautification
ATTACH;FMTTYPE=image/jpeg:https://whcouncil.org/wp-content/uploads/2024/01/Environmental-Committee-2.jpg
GEO:34.1678825;-118.6106854
X-APPLE-STRUCTURED-LOCATION;VALUE=URI;X-ADDRESS=Woodland Hills Public Library Upper Room 22200 Ventura Blvd. Woodland Hills CA 91364 United States;X-APPLE-RADIUS=500;X-TITLE=22200 Ventura Blvd.:geo:-118.6106854,34.1678825
END:VEVENT
BEGIN:VEVENT
DTSTART;TZID=America/Los_Angeles:20240106T083000
DTEND;TZID=America/Los_Angeles:20240106T113000
DTSTAMP:20260423T194227
CREATED:20240103T235135Z
LAST-MODIFIED:20240229T194941Z
UID:10001342-1704529800-1704540600@whcouncil.org
SUMMARY:1st Saturday Clean-Up 1/6/24
DESCRIPTION:Please join us for our first 1st Saturdays Clean Up of 2024 from 8:30 to 11:30 AM Saturday\, January 6th!  We will remove trash and trim street trees. \n  \nWe will clean the two blocks east of Canoga to Variel\, north side of Vanowen. We can meet at Milwood Ave. (see map below for exact location) \nThere is no rain expected.  Parking available on Milwood. \n  \nPlease spread the word\, we can use more volunteers to help beautify our community \n 
URL:https://whcouncil.org/event/1st-saturday-clean-up-1-6-24/
CATEGORIES:Environment & Beautification
END:VEVENT
BEGIN:VEVENT
DTSTART;TZID=America/Los_Angeles:20231018T183000
DTEND;TZID=America/Los_Angeles:20231018T193000
DTSTAMP:20260423T194227
CREATED:20231018T210554Z
LAST-MODIFIED:20231018T210913Z
UID:10001081-1697653800-1697657400@whcouncil.org
SUMMARY:Environmental Committee Meeting - CANCELLED
DESCRIPTION:Please note that the Environmental Committee Meeting on October 18th has been cancelled
URL:https://whcouncil.org/event/environmental-committee-meeting-canceled/
CATEGORIES:Environment & Beautification
END:VEVENT
BEGIN:VEVENT
DTSTART;TZID=America/Los_Angeles:20230131T183000
DTEND;TZID=America/Los_Angeles:20230131T200000
DTSTAMP:20260423T194227
CREATED:20230128T205039Z
LAST-MODIFIED:20240229T194817Z
UID:10001028-1675189800-1675195200@whcouncil.org
SUMMARY:SPECIAL ENVIRONMENTAL\, SUSTAINABILITY AND BEAUTIFICATION COMMITTEE MEETING
DESCRIPTION:Link Jan 31  \nAGENDA – SPECIAL ENVIRONMENTAL\, SUSTAINABILITY AND BEAUTIFICATION COMMITTEE MEETING \nTuesday\, January 31\, 2023 at 6:30pm VIRTUAL MEETING BY TELECONFERENCE \nZoom Meeting Online or By Telephone  \nhttps://us02web.zoom.us/j/83705336667 \nDial (1 669 900 6833) to Join the Meeting \nThen Enter This Webinar ID: 837 0533 6667 and Press #\nVIRTUAL MEETING TELECONFERENCING and PHONE NUMBER FOR PUBLIC PARTICIPATION \nIn conformity with the September 16\, 2021\, Enactment of California Assembly Bill 361 (Rivas) and due to concerns over COVID-19\, the Woodland Hills-Warner Center Neighborhood Council meeting will be conducted entirely telephonically with a call-in option or internet-based service option. \nEvery person wishing to address the Neighborhood Council must either dial 1 669 900 6833 or go online via Zoom and enter Webinar ID # 837 0533 6667 and then press # to join the meeting. \nInstructions on how to sign up for public comment will be given to listeners at the start of the meeting. When calling-in telephonically\, the public is requested to dial *9\, when prompted by the presiding officer\, to address the Board on any agenda item before the Board takes an action on an item. Zoom users should use the “raise hand” feature. \nAB 361 Updates: Public comment cannot be required to be submitted in advance of the meeting\, only real-time public comment is required. If there are any broadcasting interruptions that prevent the public from observing or hearing the meeting\, the meeting must be recessed or adjourned. If members of the public are unable to provide public comment or be heard due to issues within the Neighborhood \nCouncil’s control\, the meeting must be recessed or adjourned. \nAny messaging or virtual background is in the control of the individual board member in their personal capacity and does not reflect any formal position of the Neighborhood Council or the City of Los Angeles. \n*PUBLIC INPUT ON AGENDA ITEMS – The public may address the Board on any agenda item before the Board takes an action on an item. Comments from the public on agenda items will be heard only when the respective item is being considered. Public comment is limited to (1) minute per speaker. \n*PUBLIC INPUT ON MATTERS NOT ON THE AGENDA – Comments from the public on other matters not appearing on the agenda that are within the Board’s jurisdiction will be heard during the General Public Comment period. Please note that under the Brown Act\, the Board is prevented from acting on a matter that you bring to its attention during the General Public Comment period; however\, the issue raised by a member of the public may become the subject of a future Board meeting. \nGeneral Public Comment is limited to (1) minute per speaker and 20 minutes total unless adjusted by the presiding officer of the board. \n  \nAGENDA\n\nCall to Order\nRoll Cass: Members: Chair – Karen DiBiase\, Sean McCarthy\, Chris Waddy\, Gretchen Gesell\, Christine Robinson.\n\n  \n\nPublic Announcements by city officials and representatives: (3) minutes per speaker\nStakeholder Public Comment Period (on items NOT on the agenda): (1) minute per speaker\nApproval of Committee Minutes: None\n\n\n\n\n\n\n\n\n\n\n\n\nItems for discussion and possible action:\nStakeholder Public Comment will be taken on each agenda item: (2) minutes per speaker \n  \n\nDiscussion of ways to promote Woodland Hills to be greener\, cleaner and improve our shared community.  Possible tree plantings and maintenance.\n\n  \n\nDiscussion on support for WHWCNC’s FIRST SATURDAY CLEAN-UP TEAM\n\n  \n\nDiscussion on dates to hold the monthly committee meeting. Roll Call Vote\n\n  \n\nDiscussion on location to hold the monthly committee meetings when return to in-person meetings. Roll Call Vote\n\n  \n\nNew business to be placed on the next committee meeting agenda.\n\n  \n  \nAdjournment of Meeting: \n  \n  \nThe next Committee Meeting will be held on a date to be determined by teleconference. Please visit the calendar page at whcouncil.org for the complete details and to confirm the date and time of meeting dates for the 2022 year: the third Tuesday of every month at 6:30pm. Check the NC website calendar for a complete list of committee and board meetings. Meeting dates and times are subject to change. Check the NC calendar for updated meeting schedules. Due to COVID 19 ALL in person meetings have been moved to virtual teleconference. HOWEVER\, please check the www.whcouncil.org website calendar page for any changes that may occur. \n  \n*THE AMERICAN WITH DISABILITIES ACT – As a covered entity under Title II of the Americans with Disabilities Act\, the City of Los Angeles does not discriminate on the basis of disability and\, upon request\, will provide reasonable accommodation to ensure equal access to its programs\, services and activities. Sign language interpreters\, assistive listening devices and other auxiliary aids and/or services\, may be provided upon request. To ensure availability of services\, please make your request at least (3) business days (72 hours) prior to the meeting you wish to attend by contacting Karen DiBiase by email at k.dibiase@whcouncil.org or the Department of Neighborhood Empowerment at (213) 978-1551 EmpowerLa@LACity.org \n  \n*PUBLIC ACCESS OF RECORDS – In compliance with Government Code section 54957.5\, non-exempt writings that are distributed to a majority or all of the board in advance of a meeting may be viewed at our website: www.whcouncil.org or at the scheduled meeting. In addition\, if you would like a copy of any record related to an item on the agenda\, please contact Karen DiBiase at k.dibiase@whcouncil.org or the Department of Neighborhood Empowerment at (213) 978-1551 EmpowerLa@LACity.org \n*PUBLIC POSTING OF AGENDAS – agendas are posted for public review as follows: \n\nwhcouncil.org and go to the website Calendar page and click on the date – Board meetings are held on the second Wednesday of each month. Check the calendar for any change of meeting date and/or time.\nYou can also receive our agendas via email by subscribing to A. City’s Early Notification System at https://www.lacity.org/subscriptions\n\n  \n·       A copy of this agenda is also physically posted at the Woodland Hills Branch Public Library (located at 22200 Ventura Blvd.\, Woodland Hills\, CA 91364).\n·        A copy of this agenda is also physically posted on the outside of the window of the West Valley Warner Center Chamber (located at 6100 Topanga Canyon Blvd\, Ste 2330\, Woodland Hills\, CA 91367). The Chamber is located at the Promenade Mall outside the east entrance of the mall and to the left of Ruth Chris Restaurant. The Chamber office is accessed from Owensmouth Street. Parking is free.\n  \n*RECONSIDERATION AND GRIEVANCE PROCESS – For information on the WHWCNC process for board action reconsideration\, stakeholder grievance policy\, or any other procedural matters related to this Council\, please consult the WHWCNC Bylaws. The Bylaws are available at our website at www.whcouncil.org \n  \nSERVICIOS DE TRADUCCIÓN – Si requiere servicios de traducción\, favor de avisar al Concejo Vecinal 3 días de trabajo (72 horas) antes del evento. Por favor contacte a Dena Weiss de la Mesa Directiva\, al d\,weiss@whcouncil.org o por correo electrónico avisar al Concejo Vecinal. \n  \nNotice to Paid Representatives – If you are compensated to monitor\, attend\, or speak at this meeting\, City law may require you to register as a lobbyist and report your activity. See Los Angeles Municipal Code §§ 48.01 et seq. More information is available at ethics.lacity.org/lobbying. For assistance\, please contact the Ethics Commission at {213) 978- 1960 or ethics.commission@lacity.org
URL:https://whcouncil.org/event/special-environmental-sustainability-and-beautification-committee-meeting/
CATEGORIES:Environment & Beautification
END:VEVENT
BEGIN:VEVENT
DTSTART;TZID=America/Los_Angeles:20200225T183000
DTEND;TZID=America/Los_Angeles:20200225T200000
DTSTAMP:20260423T194227
CREATED:20200221T194550Z
LAST-MODIFIED:20200221T194550Z
UID:10000798-1582655400-1582660800@whcouncil.org
SUMMARY:ENVIRONMENTAL COMMITTEE MEETING
DESCRIPTION:WHWCNC ENVIRONMENTAL COMMITTEE MEETING\nTuesday\, Feb. 25th\, 2020 – 6:30 p.m.\nWoodland Hills Public Library\n2nd Floor community Room\, 22200 Ventura Blvd.\, Woodland Hills\, CA \nClick For Agenda \n*PUBLIC INPUT AT NEIGHBORHOOD COUNCIL COMMITTEE MEETINGS – The Public is permitted to\naddress the Committee on any item on the agenda prior to the Committee taking action on said item. It is requested that\nspeakers complete a “Speaker Card” and hand it to the Chair. Comments from the public on agenda items will be heard\nonly when the respective item is being considered. Comments from the public on other matters not appearing on the\nagenda that are within the Committee’s jurisdiction will be heard during the General Public Comment period. Please note\nthat under the Brown Act\, the Committee is prevented from acting on a matter that you bring to its attention during the\nGeneral Public Comment period; however\, the issue raised by a member of the public may become the subject of a future\nCommittee meeting.\nPublic comment is limited to 2 minutes per speaker\, unless adjusted by the presiding officer of the Board.\nComments from Stakeholders and the Public on Agenda items will be heard only when the respective item is being\nconsidered. Comments within the Board’s subject matter jurisdiction on other matters not appearing on the Agenda will\nbe heard during the Public Comment period. Public Comment is limited to 20 minutes.\nThe opinions\, positions or actions taken by the Woodland Hills-Warner Center Neighborhood Council do not represent or\nimply similar opinions held by the Owner\, Landlord\, L.A.U.S.D\, or representatives of any venue hosting a meeting of the\nNeighborhood Council Board\, or affiliated committees.\nAGENDA\nCommittee members: Karen DiBiase-Chair\, Don Patterson\, Tamara Johnson\, Dena Weiss\, Angela Dawson\nCall to Order\nRoll Call\nPublic & Non-Agenda Announcements\n1) General announcements & info from city departments\, public officials or their representatives – if present.\nPublic Comment on matters of committee jurisdiction not on the agenda: (2) minutes per speaker\nApproval of Minutes: September 18\, 2019 and October 29\, 2019 and November 26\, 2019\nItems for discussion and possible vote:\n1) Discussion of joint community project with California Conservation Corps. and/or The Tree People\n2) Update on list of dead LA City trees that need replacing/maintenance: discussion and possible letter to\nForestry Dept/Street Services\n3) Discussion of Rocketdyne site cleanup status\n4) Discussion of issues\, projects and budget funding for future meetings\nAdjournment of meeting:\n*THE AMERICAN WITH DISABILITIES ACT – As a covered entity under Title II of the Americans with\nDisabilities Act\, the City of Los Angeles does not discriminate on the basis of disability and\, upon request\, will provide reasonable accommodation to ensure equal access to its programs\, services and activities. Sign language interpreters\, assistive listening devices and other auxiliary aids and/or services\, may be provided upon request. To ensure availability of services\, please make your request at least 3 business days (72 hours) prior to the meeting you wish to attend by contacting Karen DiBiase\, at (818) 429-5483 or email k.dibiase@whcouncil.org or the Department of Neighborhood Empowerment at (213) 978-1551 EmpowerLa@LACity.org\n*PUBLIC ACCESS OF RECORDS – In compliance with Government Code section 54957.5\, non-exempt writings\nthat are distributed to a majority or all of the board in advance of a meeting may be viewed at our website: www.whcouncil.org or at the scheduled meeting. In addition\, if you would like a copy of any record related to an item\non the agenda\, please contact Karen DiBiase at (818) 429-5483 or email k.dibiase@whcouncil.org\n*PUBLIC POSTING OF AGENDAS – agendas are posted for public review as follows:\n• www.whcouncil.org – go to the website Calendar page and click on the date – Board meetings are held on the second Wednesday of each month. Check the calendar for any change of meeting date.\n• You can also receive our agendas via email by subscribing to L.A. City’s Early Notification System at https://www.lacity.org/subscriptions\n*RECONSIDERATION AND GRIEVANCE PROCESS – For information on the WHWCNC process for board action reconsideration\, stakeholder grievance policy\, or any other procedural matters related to this Council\, please consult the WHWCNC Bylaws. The Bylaws are available at our Board meetings and our website at www.whcouncil.org
URL:https://whcouncil.org/event/environmental-committee-meeting-7/
LOCATION:Woodland Hills Public Library\, Upper Room\, 22200 Ventura Blvd.\, Woodland Hills\, CA\, 91364\, United States
CATEGORIES:Environment & Beautification
ATTACH;FMTTYPE=image/jpeg:https://whcouncil.org/wp-content/uploads/2018/09/ssfl.jpg
GEO:34.1678825;-118.6106854
X-APPLE-STRUCTURED-LOCATION;VALUE=URI;X-ADDRESS=Woodland Hills Public Library Upper Room 22200 Ventura Blvd. Woodland Hills CA 91364 United States;X-APPLE-RADIUS=500;X-TITLE=22200 Ventura Blvd.:geo:-118.6106854,34.1678825
END:VEVENT
END:VCALENDAR