BEGIN:VCALENDAR
VERSION:2.0
PRODID:-//Woodland Hills Warner - Center Neighborhood Council | Your most local part of CIty Government - ECPv6.15.20//NONSGML v1.0//EN
CALSCALE:GREGORIAN
METHOD:PUBLISH
X-ORIGINAL-URL:https://whcouncil.org
X-WR-CALDESC:Events for Woodland Hills Warner - Center Neighborhood Council | Your most local part of CIty Government
REFRESH-INTERVAL;VALUE=DURATION:PT1H
X-Robots-Tag:noindex
X-PUBLISHED-TTL:PT1H
BEGIN:VTIMEZONE
TZID:America/Los_Angeles
BEGIN:DAYLIGHT
TZOFFSETFROM:-0800
TZOFFSETTO:-0700
TZNAME:PDT
DTSTART:20230312T100000
END:DAYLIGHT
BEGIN:STANDARD
TZOFFSETFROM:-0700
TZOFFSETTO:-0800
TZNAME:PST
DTSTART:20231105T090000
END:STANDARD
BEGIN:DAYLIGHT
TZOFFSETFROM:-0800
TZOFFSETTO:-0700
TZNAME:PDT
DTSTART:20240310T100000
END:DAYLIGHT
BEGIN:STANDARD
TZOFFSETFROM:-0700
TZOFFSETTO:-0800
TZNAME:PST
DTSTART:20241103T090000
END:STANDARD
BEGIN:DAYLIGHT
TZOFFSETFROM:-0800
TZOFFSETTO:-0700
TZNAME:PDT
DTSTART:20250309T100000
END:DAYLIGHT
BEGIN:STANDARD
TZOFFSETFROM:-0700
TZOFFSETTO:-0800
TZNAME:PST
DTSTART:20251102T090000
END:STANDARD
END:VTIMEZONE
BEGIN:VEVENT
DTSTART;TZID=America/Los_Angeles:20240917T113000
DTEND;TZID=America/Los_Angeles:20240917T133000
DTSTAMP:20260423T190015
CREATED:20240914T181721Z
LAST-MODIFIED:20240914T181721Z
UID:10001436-1726572600-1726579800@whcouncil.org
SUMMARY:Public Safety Committee
DESCRIPTION:The WHWCNC Public Safety Committee hosts their monthly meeting on Tuesday September 17th from 11:30 am to 1:30 pm at the Capital One Cafe Conference Room inside the Westfield Topanga Mall.  See agenda for details by clicking here: Sep 17\, 2024
URL:https://whcouncil.org/event/public-safety-committee-4/
LOCATION:Community Room\, Capital One Cafe\, 6600 CA-27 Suite 1038 Suite 103\, Canoga Park\, CA\, 91303\, United States
CATEGORIES:Public Safety
ORGANIZER;CN="Julie Waltrip":MAILTO:J.waltrip@whcouncil.org
GEO:34.1900362;-118.6035049
X-APPLE-STRUCTURED-LOCATION;VALUE=URI;X-ADDRESS=Community Room Capital One Cafe 6600 CA-27 Suite 1038 Suite 103 Canoga Park CA 91303 United States;X-APPLE-RADIUS=500;X-TITLE=6600 CA-27 Suite 1038 Suite 103:geo:-118.6035049,34.1900362
END:VEVENT
BEGIN:VEVENT
DTSTART;TZID=America/Los_Angeles:20240717T110000
DTEND;TZID=America/Los_Angeles:20240717T120000
DTSTAMP:20260423T190015
CREATED:20240714T060751Z
LAST-MODIFIED:20240714T060751Z
UID:10001425-1721214000-1721217600@whcouncil.org
SUMMARY:Public Safety Committee Meeting 7/17/24 - Canceled
DESCRIPTION:Please note that the July 17\, 2024 Public Safety Committee meeting has been canceled.  Jul 17\, 2024
URL:https://whcouncil.org/event/public-safety-committee-meeting-7-17-24-canceled/
LOCATION:ZOOM\, NONE\, NONE\, CA\, NONE\, United States
CATEGORIES:Public Safety
ORGANIZER;CN="Julie Waltrip":MAILTO:J.waltrip@whcouncil.org
GEO:37.0982847;-122.0979399
X-APPLE-STRUCTURED-LOCATION;VALUE=URI;X-ADDRESS=ZOOM NONE NONE CA NONE United States;X-APPLE-RADIUS=500;X-TITLE=NONE:geo:-122.0979399,37.0982847
END:VEVENT
BEGIN:VEVENT
DTSTART;TZID=America/Los_Angeles:20240702T183000
DTEND;TZID=America/Los_Angeles:20240702T200000
DTSTAMP:20260423T190015
CREATED:20240701T234640Z
LAST-MODIFIED:20240701T234640Z
UID:10001420-1719945000-1719950400@whcouncil.org
SUMMARY:Education Committee Meeting - 7/2/24 CANCELED
DESCRIPTION:Please note that the Education Committee meeting on Tuesday\, July 2nd has been canceled.  Thank you for your understanding.
URL:https://whcouncil.org/event/education-committee-meeting-7-2-24-canceled/
CATEGORIES:Education
ORGANIZER;CN="Julie Waltrip":MAILTO:J.waltrip@whcouncil.org
END:VEVENT
BEGIN:VEVENT
DTSTART;TZID=America/Los_Angeles:20240619T110000
DTEND;TZID=America/Los_Angeles:20240619T130000
DTSTAMP:20260423T190015
CREATED:20240615T045903Z
LAST-MODIFIED:20240617T235912Z
UID:10001409-1718794800-1718802000@whcouncil.org
SUMMARY:Public Safety Meeting
DESCRIPTION:The WHWCNC Public Safety Committee is hosting their regular meeting on Wednesday June 19\, 2024 at 11:00 AM via ZOOM.  All are welcome.  For agenda and zoom link\, click here: Jun 19\, 2024 \n  \nZoom Meeting Online or By Telephone \nPlease click the link below to join the webinar: https://us02web.zoom.us/j/87976688955  \nOr Dial (669) 900-6833 to Join the Meeting Then Enter This Webinar ID: 87976688955 and Press #
URL:https://whcouncil.org/event/public-safety-meeting/
LOCATION:ZOOM\, NONE\, NONE\, CA\, NONE\, United States
CATEGORIES:Public Safety
ORGANIZER;CN="Julie Waltrip":MAILTO:J.waltrip@whcouncil.org
GEO:37.0982847;-122.0979399
X-APPLE-STRUCTURED-LOCATION;VALUE=URI;X-ADDRESS=ZOOM NONE NONE CA NONE United States;X-APPLE-RADIUS=500;X-TITLE=NONE:geo:-122.0979399,37.0982847
END:VEVENT
BEGIN:VEVENT
DTSTART;TZID=America/Los_Angeles:20240604T184500
DTEND;TZID=America/Los_Angeles:20240604T203000
DTSTAMP:20260423T190015
CREATED:20240604T010341Z
LAST-MODIFIED:20240604T031044Z
UID:10001170-1717526700-1717533000@whcouncil.org
SUMMARY:Special Meeting Education Committee
DESCRIPTION:The WHWCNC Education Committee is hosting a Special Meeting on Tuesday June 4\, 2024 at 6:45 pm via ZOOM.  All are welcome.  For agenda and ZOOM instructions\, click here:  Jun 4\, 2024
URL:https://whcouncil.org/event/special-meeting-education-committee/
LOCATION:ZOOM\, NONE\, NONE\, CA\, NONE\, United States
CATEGORIES:Education
ORGANIZER;CN="Julie Waltrip":MAILTO:J.waltrip@whcouncil.org
GEO:37.0982847;-122.0979399
X-APPLE-STRUCTURED-LOCATION;VALUE=URI;X-ADDRESS=ZOOM NONE NONE CA NONE United States;X-APPLE-RADIUS=500;X-TITLE=NONE:geo:-122.0979399,37.0982847
END:VEVENT
BEGIN:VEVENT
DTSTART;TZID=America/Los_Angeles:20240515T110000
DTEND;TZID=America/Los_Angeles:20240515T123000
DTSTAMP:20260423T190015
CREATED:20240512T161850Z
LAST-MODIFIED:20240513T001314Z
UID:10001154-1715770800-1715776200@whcouncil.org
SUMMARY:Public Safety Committee - CANCELED
DESCRIPTION:The regular Public Safety Committee meeting is cancelled this month.  The next meeting will be on Wednesday June 19th\, 2024 at 11:00 am via ZOOM.  Click here for details:  May 15\, 2024
URL:https://whcouncil.org/event/public-safety-committee-3/
LOCATION:ZOOM\, NONE\, NONE\, CA\, NONE\, United States
CATEGORIES:Public Safety
ORGANIZER;CN="Julie Waltrip":MAILTO:J.waltrip@whcouncil.org
GEO:37.0982847;-122.0979399
X-APPLE-STRUCTURED-LOCATION;VALUE=URI;X-ADDRESS=ZOOM NONE NONE CA NONE United States;X-APPLE-RADIUS=500;X-TITLE=NONE:geo:-122.0979399,37.0982847
END:VEVENT
BEGIN:VEVENT
DTSTART;TZID=America/Los_Angeles:20240507T183000
DTEND;TZID=America/Los_Angeles:20240507T210000
DTSTAMP:20260423T190015
CREATED:20240505T000757Z
LAST-MODIFIED:20240505T000757Z
UID:10001402-1715106600-1715115600@whcouncil.org
SUMMARY:Education Committee
DESCRIPTION:The WHWCNC Education Committee is hosting their regular meeting on Tuesday May 7\, 2024 at 6:30 pm via ZOOM.  All are welcome.  For agenda and zoom login instructions\, click here:  May 7\, 2024
URL:https://whcouncil.org/event/education-committee-7/
LOCATION:ZOOM\, NONE\, NONE\, CA\, NONE\, United States
CATEGORIES:Education
ORGANIZER;CN="Julie Waltrip":MAILTO:J.waltrip@whcouncil.org
GEO:37.0982847;-122.0979399
X-APPLE-STRUCTURED-LOCATION;VALUE=URI;X-ADDRESS=ZOOM NONE NONE CA NONE United States;X-APPLE-RADIUS=500;X-TITLE=NONE:geo:-122.0979399,37.0982847
END:VEVENT
BEGIN:VEVENT
DTSTART;TZID=America/Los_Angeles:20240417T110000
DTEND;TZID=America/Los_Angeles:20240417T130000
DTSTAMP:20260423T190015
CREATED:20240414T163337Z
LAST-MODIFIED:20240417T033009Z
UID:10001389-1713351600-1713358800@whcouncil.org
SUMMARY:Public Safety Committee Meeting
DESCRIPTION:The Public Safety Committee is hosting their first ZOOM meeting on Wednesday April 17\, 2024 at 11:00 am.  For zoom login instructions download the agenda by clicking here:  Apr 17\, 2024  All are welcome.
URL:https://whcouncil.org/event/public-safety-committee-meeting-11/
LOCATION:ZOOM\, NONE\, NONE\, CA\, NONE\, United States
CATEGORIES:Public Safety
ORGANIZER;CN="Julie Waltrip":MAILTO:J.waltrip@whcouncil.org
GEO:37.0982847;-122.0979399
X-APPLE-STRUCTURED-LOCATION;VALUE=URI;X-ADDRESS=ZOOM NONE NONE CA NONE United States;X-APPLE-RADIUS=500;X-TITLE=NONE:geo:-122.0979399,37.0982847
END:VEVENT
BEGIN:VEVENT
DTSTART;TZID=America/Los_Angeles:20240402T183000
DTEND;TZID=America/Los_Angeles:20240402T183000
DTSTAMP:20260423T190015
CREATED:20240331T001222Z
LAST-MODIFIED:20240331T232243Z
UID:10001146-1712082600-1712082600@whcouncil.org
SUMMARY:Education Committee Meeting - Cancelled
DESCRIPTION:Apr 2\, 2024 Education Meeting Cancelled.
URL:https://whcouncil.org/event/education-committee-6/
LOCATION:ZOOM\, NONE\, NONE\, CA\, NONE\, United States
CATEGORIES:Education
ORGANIZER;CN="Julie Waltrip":MAILTO:J.waltrip@whcouncil.org
GEO:37.0982847;-122.0979399
X-APPLE-STRUCTURED-LOCATION;VALUE=URI;X-ADDRESS=ZOOM NONE NONE CA NONE United States;X-APPLE-RADIUS=500;X-TITLE=NONE:geo:-122.0979399,37.0982847
END:VEVENT
BEGIN:VEVENT
DTSTART;TZID=America/Los_Angeles:20240305T183000
DTEND;TZID=America/Los_Angeles:20240305T183000
DTSTAMP:20260423T190015
CREATED:20240302T235940Z
LAST-MODIFIED:20240305T072400Z
UID:10001362-1709663400-1709663400@whcouncil.org
SUMMARY:Education Committee
DESCRIPTION:The Education Committee is hosting their regular meeting via Zoom this time on Tuesday March 5\, 2024 starting at 6:30 pm.  For agenda and login instructions\, click here:  Mar 5\, 2024. All are welcome. \n  \nZoom Meeting Online or By Telephone Please click the link below to join the webinar: https://us02web.zoom.us/j/88422959967 \nOr Dial (669) 900-6833 to Join the Meeting Then Enter This Webinar ID: 884 229 599 67 and Press #
URL:https://whcouncil.org/event/education-committee-5/
CATEGORIES:Education
ORGANIZER;CN="Julie Waltrip":MAILTO:J.waltrip@whcouncil.org
END:VEVENT
BEGIN:VEVENT
DTSTART;TZID=America/Los_Angeles:20240206T183000
DTEND;TZID=America/Los_Angeles:20240206T200000
DTSTAMP:20260423T190015
CREATED:20240204T023913Z
LAST-MODIFIED:20240229T195751Z
UID:10001354-1707244200-1707249600@whcouncil.org
SUMMARY:Education Committee 2/6/24
DESCRIPTION:The WHWCNC’s Education Committee hosts their regular monthly meeting on Tuesday February 6\, 2024 at 6:30 pm in the Community Room at the Woodland Hills Fire Station #84 at 21050 Burbank Blvd.  All are welcome to attend. See agenda and supporting documents by clicking here:  Feb 6\, 2024
URL:https://whcouncil.org/event/education-committee-4/
LOCATION:LAFD Fire Station 84\, 21050 Burbank Blvd.\, Woodland Hills\, CA\, 91367\, United States
CATEGORIES:Education
ATTACH;FMTTYPE=image/png:https://whcouncil.org/wp-content/uploads/2023/12/IMG_3023.png
GEO:34.1729585;-118.5915767
X-APPLE-STRUCTURED-LOCATION;VALUE=URI;X-ADDRESS=LAFD Fire Station 84 21050 Burbank Blvd. Woodland Hills CA 91367 United States;X-APPLE-RADIUS=500;X-TITLE=21050 Burbank Blvd.:geo:-118.5915767,34.1729585
END:VEVENT
END:VCALENDAR