BEGIN:VCALENDAR
VERSION:2.0
PRODID:-//Woodland Hills Warner - Center Neighborhood Council | Your most local part of CIty Government - ECPv6.15.20//NONSGML v1.0//EN
CALSCALE:GREGORIAN
METHOD:PUBLISH
X-WR-CALNAME:Woodland Hills Warner - Center Neighborhood Council | Your most local part of CIty Government
X-ORIGINAL-URL:https://whcouncil.org
X-WR-CALDESC:Events for Woodland Hills Warner - Center Neighborhood Council | Your most local part of CIty Government
REFRESH-INTERVAL;VALUE=DURATION:PT1H
X-Robots-Tag:noindex
X-PUBLISHED-TTL:PT1H
BEGIN:VTIMEZONE
TZID:America/Los_Angeles
BEGIN:DAYLIGHT
TZOFFSETFROM:-0800
TZOFFSETTO:-0700
TZNAME:PDT
DTSTART:20230312T100000
END:DAYLIGHT
BEGIN:STANDARD
TZOFFSETFROM:-0700
TZOFFSETTO:-0800
TZNAME:PST
DTSTART:20231105T090000
END:STANDARD
BEGIN:DAYLIGHT
TZOFFSETFROM:-0800
TZOFFSETTO:-0700
TZNAME:PDT
DTSTART:20240310T100000
END:DAYLIGHT
BEGIN:STANDARD
TZOFFSETFROM:-0700
TZOFFSETTO:-0800
TZNAME:PST
DTSTART:20241103T090000
END:STANDARD
BEGIN:DAYLIGHT
TZOFFSETFROM:-0800
TZOFFSETTO:-0700
TZNAME:PDT
DTSTART:20250309T100000
END:DAYLIGHT
BEGIN:STANDARD
TZOFFSETFROM:-0700
TZOFFSETTO:-0800
TZNAME:PST
DTSTART:20251102T090000
END:STANDARD
BEGIN:DAYLIGHT
TZOFFSETFROM:-0800
TZOFFSETTO:-0700
TZNAME:PDT
DTSTART:20260308T100000
END:DAYLIGHT
BEGIN:STANDARD
TZOFFSETFROM:-0700
TZOFFSETTO:-0800
TZNAME:PST
DTSTART:20261101T090000
END:STANDARD
END:VTIMEZONE
BEGIN:VEVENT
DTSTART;TZID=America/Los_Angeles:20250429T183000
DTEND;TZID=America/Los_Angeles:20250429T200000
DTSTAMP:20260423T194205
CREATED:20250426T225804Z
LAST-MODIFIED:20250426T230138Z
UID:10001268-1745951400-1745956800@whcouncil.org
SUMMARY:Homeless & Social Justice Advocacy Committee Special Meeting – Zoom
DESCRIPTION:Looking forward to seeing everyone on Zoom! \nAgenda: Apr 29\, 2025 \nWoodland Hills – Warner Center NC is inviting you to a scheduled Zoom meeting. \nTopic: HSJA Committee Meeting – Woodland Hills NC \nTime: Apr 29\, 2025 06:30 PM Pacific Time (US and Canada) \nJoin Zoom Meeting \nhttps://us02web.zoom.us/j/87182952726 \nMeeting ID: 871 8295 2726
URL:https://whcouncil.org/event/homeless-social-justice-advocacy-committee-special-meeting-zoom-2/
CATEGORIES:Homeless & Social Justice
ORGANIZER;CN="Jayce Baron":MAILTO:j.baron@whcouncil.org
END:VEVENT
BEGIN:VEVENT
DTSTART;TZID=America/Los_Angeles:20250325T183500
DTEND;TZID=America/Los_Angeles:20250325T200000
DTSTAMP:20260423T194205
CREATED:20250324T214421Z
LAST-MODIFIED:20250324T214421Z
UID:10001500-1742927700-1742932800@whcouncil.org
SUMMARY:Homeless & Social Justice Advocacy Committee Special Meeting - Zoom
DESCRIPTION:Join us for this month’s special meeting on Zoom. \nhttps://us02web.zoom.us/j/85317830938 \nAgenda: Mar 25\, 2025
URL:https://whcouncil.org/event/homeless-social-justice-advocacy-committee-special-meeting-zoom/
CATEGORIES:Homeless & Social Justice
ORGANIZER;CN="Jayce Baron":MAILTO:j.baron@whcouncil.org
END:VEVENT
BEGIN:VEVENT
DTSTART;TZID=America/Los_Angeles:20250225T183500
DTEND;TZID=America/Los_Angeles:20250225T200000
DTSTAMP:20260423T194205
CREATED:20250222T190100Z
LAST-MODIFIED:20250225T023616Z
UID:10001484-1740508500-1740513600@whcouncil.org
SUMMARY:Special Homeless & Social Justice Advocacy Committee Mttg [ZOOM]
DESCRIPTION:***REGULAR HSJA Committee Meeting is Cancelled. Please join us for our Special Meeting at 6:35pm the same night as the original Regular Meeting. \nPlease join us for our February Homeless & Social Justice Advocacy Committee Meeting via Zoom! \nAgenda: Feb 25\, 2025 \nWoodland Hills – Warner Center NC is inviting you to a scheduled Zoom meeting.\nJoin Zoom Meeting\nhttps://us02web.zoom.us/j/89416209400 \nMeeting ID: 894 1620 9400 \n— \nOne tap mobile\n+16694449171\,\,89416209400# US\n+16699006833\,\,89416209400# US (San Jose) \n— \nDial by your location\n• +1 669 444 9171 US\n• +1 669 900 6833 US (San Jose)\n• +1 253 205 0468 US\n• +1 253 215 8782 US (Tacoma)\n• +1 346 248 7799 US (Houston)\n• +1 719 359 4580 US\n• +1 929 205 6099 US (New York)\n• +1 301 715 8592 US (Washington DC)\n• +1 305 224 1968 US\n• +1 309 205 3325 US\n• +1 312 626 6799 US (Chicago)\n• +1 360 209 5623 US\n• +1 386 347 5053 US\n• +1 507 473 4847 US\n• +1 564 217 2000 US\n• +1 646 931 3860 US\n• +1 689 278 1000 US\n• 833 548 0276 US Toll-free\n• 833 548 0282 US Toll-free\n• 877 853 5257 US Toll-free\n• 888 475 4499 US Toll-free \nMeeting ID: 894 1620 9400 \nFind your local number:https://us02web.zoom.us/u/kdlTEsH1dx
URL:https://whcouncil.org/event/special-homeless-social-justice-advocacy-committee-mttg-zoom/
CATEGORIES:Homeless & Social Justice
ORGANIZER;CN="Jayce Baron":MAILTO:j.baron@whcouncil.org
END:VEVENT
BEGIN:VEVENT
DTSTART;TZID=America/Los_Angeles:20250125T100000
DTEND;TZID=America/Los_Angeles:20250125T223000
DTSTAMP:20260423T194205
CREATED:20250124T075145Z
LAST-MODIFIED:20250124T075145Z
UID:10001480-1737799200-1737844200@whcouncil.org
SUMMARY:SPECIAL MEETING - Homeless & Social Justice Advocacy Committee [ZOOM]
DESCRIPTION:Special Meeting will be held on Zoom. Find agenda here \nZoom Link: https://us02web.zoom.us/j/84110495390 \nMeeting ID: 841 1049 5390 \nJayce Baron
URL:https://whcouncil.org/event/special-meeting-homeless-social-justice-advocacy-committee-zoom/
CATEGORIES:Homeless & Social Justice
ORGANIZER;CN="Jayce Baron":MAILTO:j.baron@whcouncil.org
END:VEVENT
BEGIN:VEVENT
DTSTART;TZID=America/Los_Angeles:20241126T183000
DTEND;TZID=America/Los_Angeles:20241126T200000
DTSTAMP:20260423T194205
CREATED:20241102T025512Z
LAST-MODIFIED:20241123T210620Z
UID:10001216-1732645800-1732651200@whcouncil.org
SUMMARY:Homeless & Social Justice Advocacy Committee Meeting [ZOOM]
DESCRIPTION:Join us 11/26/2024 for our monthly committee meeting on Zoom! \nAgenda: Nov 26\, 2024 \nhttps://us02web.zoom.us/j/86366485370
URL:https://whcouncil.org/event/homeless-social-justice-advocacy-committee-meeting-zoom-2/
CATEGORIES:Homeless & Social Justice
ORGANIZER;CN="Jayce Baron":MAILTO:j.baron@whcouncil.org
END:VEVENT
BEGIN:VEVENT
DTSTART;TZID=America/Los_Angeles:20241029T183000
DTEND;TZID=America/Los_Angeles:20241029T200000
DTSTAMP:20260423T194205
CREATED:20241015T230009Z
LAST-MODIFIED:20241028T221815Z
UID:10001452-1730226600-1730232000@whcouncil.org
SUMMARY:Homeless & Social Justice Advocacy Committee Meeting [IN PERSON]
DESCRIPTION:This month’s meeting will be in person at the Capitol One Cafe Conference Room in the Westfield Topanga Mall at 6600 CA-27 Suite 1038 Suite 1038\, Canoga Park\, CA 91303. \nAgenda Oct 29\, 2024 \nMore details to come.
URL:https://whcouncil.org/event/homeless-social-justice-advocacy-committee-meeting-in-person/
CATEGORIES:Homeless & Social Justice
ORGANIZER;CN="Jayce Baron":MAILTO:j.baron@whcouncil.org
END:VEVENT
BEGIN:VEVENT
DTSTART;TZID=America/Los_Angeles:20240924T183000
DTEND;TZID=America/Los_Angeles:20240924T200000
DTSTAMP:20260423T194205
CREATED:20240905T022603Z
LAST-MODIFIED:20240923T225445Z
UID:10001435-1727202600-1727208000@whcouncil.org
SUMMARY:Homeless & Social Justice Advocacy Committee Meeting [Zoom]
DESCRIPTION:Please click the link below to join the webinar: \nhttps://us02web.zoom.us/j/85331079915 \nAgenda: Sep 24\, 2024
URL:https://whcouncil.org/event/homeless-social-justice-advocacy-committee-meeting-2/
CATEGORIES:Homeless & Social Justice
ORGANIZER;CN="Jayce Baron":MAILTO:j.baron@whcouncil.org
END:VEVENT
BEGIN:VEVENT
DTSTART;TZID=America/Los_Angeles:20240827T183000
DTEND;TZID=America/Los_Angeles:20240827T203000
DTSTAMP:20260423T194205
CREATED:20240821T210007Z
LAST-MODIFIED:20240824T071735Z
UID:10001190-1724783400-1724790600@whcouncil.org
SUMMARY:Homeless & Social Justice Advocacy Committee Meeting [Zoom]
DESCRIPTION:Please join us for the Homeless and Social Justice Committee Meeting on 8/27/24 from 6:30 – 8:30 PM. \nZoom Meeting Information: \nPlease click the link below to join the webinar:\nhttps://us02web.zoom.us/j/87024093308\nOr Dial (669) 900-6833 to Join the Meeting\nThen Enter This Webinar ID: 870 2409 3308 and Press # \nAgenda link: https://whcouncil.org/wp-content/uploads/minutes-agendas-newsletters/HomelessnessAgendas_2024-08-27.pdf
URL:https://whcouncil.org/event/homeless-social-justice-advocacy-committee-meeting-zoom/
LOCATION:ZOOM\, NONE\, NONE\, CA\, NONE\, United States
CATEGORIES:Homeless & Social Justice
ORGANIZER;CN="Jayce Baron":MAILTO:j.baron@whcouncil.org
GEO:37.0982847;-122.0979399
X-APPLE-STRUCTURED-LOCATION;VALUE=URI;X-ADDRESS=ZOOM NONE NONE CA NONE United States;X-APPLE-RADIUS=500;X-TITLE=NONE:geo:-122.0979399,37.0982847
END:VEVENT
END:VCALENDAR