BEGIN:VCALENDAR
VERSION:2.0
PRODID:-//Woodland Hills Warner - Center Neighborhood Council | Your most local part of CIty Government - ECPv6.15.20//NONSGML v1.0//EN
CALSCALE:GREGORIAN
METHOD:PUBLISH
X-ORIGINAL-URL:https://whcouncil.org
X-WR-CALDESC:Events for Woodland Hills Warner - Center Neighborhood Council | Your most local part of CIty Government
REFRESH-INTERVAL;VALUE=DURATION:PT1H
X-Robots-Tag:noindex
X-PUBLISHED-TTL:PT1H
BEGIN:VTIMEZONE
TZID:America/Los_Angeles
BEGIN:DAYLIGHT
TZOFFSETFROM:-0800
TZOFFSETTO:-0700
TZNAME:PDT
DTSTART:20200308T100000
END:DAYLIGHT
BEGIN:STANDARD
TZOFFSETFROM:-0700
TZOFFSETTO:-0800
TZNAME:PST
DTSTART:20201101T090000
END:STANDARD
BEGIN:DAYLIGHT
TZOFFSETFROM:-0800
TZOFFSETTO:-0700
TZNAME:PDT
DTSTART:20210314T100000
END:DAYLIGHT
BEGIN:STANDARD
TZOFFSETFROM:-0700
TZOFFSETTO:-0800
TZNAME:PST
DTSTART:20211107T090000
END:STANDARD
BEGIN:DAYLIGHT
TZOFFSETFROM:-0800
TZOFFSETTO:-0700
TZNAME:PDT
DTSTART:20220313T100000
END:DAYLIGHT
BEGIN:STANDARD
TZOFFSETFROM:-0700
TZOFFSETTO:-0800
TZNAME:PST
DTSTART:20221106T090000
END:STANDARD
BEGIN:DAYLIGHT
TZOFFSETFROM:-0800
TZOFFSETTO:-0700
TZNAME:PDT
DTSTART:20230312T100000
END:DAYLIGHT
BEGIN:STANDARD
TZOFFSETFROM:-0700
TZOFFSETTO:-0800
TZNAME:PST
DTSTART:20231105T090000
END:STANDARD
BEGIN:DAYLIGHT
TZOFFSETFROM:-0800
TZOFFSETTO:-0700
TZNAME:PDT
DTSTART:20240310T100000
END:DAYLIGHT
BEGIN:STANDARD
TZOFFSETFROM:-0700
TZOFFSETTO:-0800
TZNAME:PST
DTSTART:20241103T090000
END:STANDARD
END:VTIMEZONE
BEGIN:VEVENT
DTSTART;TZID=America/Los_Angeles:20230306T183000
DTEND;TZID=America/Los_Angeles:20230306T200000
DTSTAMP:20260423T191301
CREATED:20230131T031001Z
LAST-MODIFIED:20230228T012548Z
UID:10001036-1678127400-1678132800@whcouncil.org
SUMMARY:Community Services Committee Meeting
DESCRIPTION:[googleapps domain=”docs” dir=”document/d/e/2PACX-1vTZrAd-CMrvy51K4cy2Y6WUT2xe1VCn5Fl_bLAeDIO8nzHZMDk5LL7zBsNJROF_L0bB9RD3lOGKtCPr/pub” query=”embedded=true” /]
URL:https://whcouncil.org/event/community-services-committee-meeting-16/2023-03-06/
CATEGORIES:Community Services
ORGANIZER;CN="Houtan Hormozian":MAILTO:h.hormozian@whcouncil.org
END:VEVENT
BEGIN:VEVENT
DTSTART;TZID=America/Los_Angeles:20230201T183000
DTEND;TZID=America/Los_Angeles:20230201T200000
DTSTAMP:20260423T191301
CREATED:20230131T025938Z
LAST-MODIFIED:20230401T011650Z
UID:10001032-1675276200-1675281600@whcouncil.org
SUMMARY:Public Safety & Transportation Committee Meeting Teleconference
DESCRIPTION:[googleapps domain=”docs” dir=”document/d/e/2PACX-1vSP50kxWYOLE2Xqw3xQIuAxqi1MmiSMqOJgi-5x8y2NNT0PuqsraFOgC3FHaXFAqC0urYGho-dIh1ow/pub” query=”embedded=true” /]
URL:https://whcouncil.org/event/public-safety-transportation-committee-meeting-teleconference-5/2023-02-01/
CATEGORIES:Public Safety
ORGANIZER;CN="Houtan Hormozian":MAILTO:h.hormozian@whcouncil.org
END:VEVENT
BEGIN:VEVENT
DTSTART;TZID=America/Los_Angeles:20230116T183000
DTEND;TZID=America/Los_Angeles:20230116T183000
DTSTAMP:20260423T191301
CREATED:20230113T234650Z
LAST-MODIFIED:20230113T234650Z
UID:10001241-1673893800-1673893800@whcouncil.org
SUMMARY:Public Safety & Transportation Committee Meeting Teleconference (CANCELLED)
DESCRIPTION:[pdf-embedder url=”https://whcouncil.org/wp-content/uploads/minutes-agendas-newsletters/PublicSafety_2023-01-16.pdf”]
URL:https://whcouncil.org/event/public-safety-transportation-committee-meeting-teleconference-cancelled/
CATEGORIES:Public Safety
ORGANIZER;CN="Houtan Hormozian":MAILTO:h.hormozian@whcouncil.org
END:VEVENT
BEGIN:VEVENT
DTSTART;TZID=America/Los_Angeles:20220601T183000
DTEND;TZID=America/Los_Angeles:20220601T193000
DTSTAMP:20260423T191301
CREATED:20220531T202345Z
LAST-MODIFIED:20220601T175009Z
UID:10001167-1654108200-1654111800@whcouncil.org
SUMMARY:CANCELLED-Public Safety & Transportation Committee Meeting Teleconference
DESCRIPTION:MEETING IS CANCELED
URL:https://whcouncil.org/event/public-safety-transportation-committee-meeting-teleconference-4/
CATEGORIES:Public Safety
ORGANIZER;CN="Houtan Hormozian":MAILTO:h.hormozian@whcouncil.org
END:VEVENT
BEGIN:VEVENT
DTSTART;TZID=America/Los_Angeles:20220504T183000
DTEND;TZID=America/Los_Angeles:20220504T193000
DTSTAMP:20260423T191301
CREATED:20220501T224607Z
LAST-MODIFIED:20220501T224607Z
UID:10001143-1651689000-1651692600@whcouncil.org
SUMMARY:Public Safety & Transportation Committee Meeting Teleconference
DESCRIPTION:[pdf-embedder url=”https://whcouncil.org/wp-content/uploads/minutes-agendas-newsletters/PublicSafety_2022-05-04.pdf”]
URL:https://whcouncil.org/event/public-safety-transportation-committee-meeting-teleconference-3/
CATEGORIES:Public Safety
ORGANIZER;CN="Houtan Hormozian":MAILTO:h.hormozian@whcouncil.org
END:VEVENT
BEGIN:VEVENT
DTSTART;TZID=America/Los_Angeles:20220406T183000
DTEND;TZID=America/Los_Angeles:20220406T193000
DTSTAMP:20260423T191301
CREATED:20220405T024452Z
LAST-MODIFIED:20220405T024452Z
UID:10000954-1649269800-1649273400@whcouncil.org
SUMMARY:Public Safety & Transportation Committee Meeting Teleconference
DESCRIPTION:[pdf-embedder url=”https://whcouncil.org/wp-content/uploads/minutes-agendas-newsletters/PublicSafety_2022-04-06.pdf”]
URL:https://whcouncil.org/event/public-safety-transportation-committee-meeting-teleconference-2/
CATEGORIES:Public Safety
ORGANIZER;CN="Houtan Hormozian":MAILTO:h.hormozian@whcouncil.org
END:VEVENT
BEGIN:VEVENT
DTSTART;TZID=America/Los_Angeles:20220302T183000
DTEND;TZID=America/Los_Angeles:20220302T193000
DTSTAMP:20260423T191301
CREATED:20220228T193032Z
LAST-MODIFIED:20220303T021622Z
UID:10001104-1646245800-1646249400@whcouncil.org
SUMMARY:Public Safety & Transportation Committee Meeting Teleconference
DESCRIPTION:Woodland Hills-Warner Center Neighborhood Council \nAgenda – Public Saftey &  Transportation Committee Meeting  \nWednesday March 2nd\, 2022 at 6:30 p.m. \nVIRTUAL MEETING BY TELECONFERENCE \nZoom Meeting Online or By Telephone \nhttps://us02web.zoom.us/j/99661879295\nDial (1 669 900 6833) to Join the Meeting\nThen Enter This Webinar ID: 99661879295 and Press # \n  \n  \nVIRTUAL MEETING TELECONFERENCING and PHONE NUMBER FOR PUBLIC PARTICIPATION \nIn conformity with the September 16\, 2021 Enactment of California Assembly Bill 361 (Rivas) and due to concerns over COVID-19\, the Woodland Hills-Warner Center Neighborhood Council meeting will be conducted entirely telephonically with a call-in option or internet based service option. \n  \nEvery person wishing to address the Neighborhood Council must either dial 1 669 900 6833 or go online via Zoom and enter Webinar ID # 99661879295 and then press # to join the meeting. Instructions on how to sign up for public comment will be given to listeners at the start of the meeting. When calling-in telephonically\, the public is requested to dial *9\, when prompted by the presiding officer\, to address the Board on any agenda item before the Board takes an action on an item.  Zoom users should use the “raise hand” feature. \n  \nAB 361 Updates: Public comment cannot be required to be submitted in advance of the meeting\, only real-time \npublic comment is required. If there are any broadcasting interruptions that prevent the public from observing or hearing the meeting\, the meeting must be recessed or adjourned. If members of the public are unable to provide \npublic comment or be heard due to issues within the Neighborhood Council’s control\, the meeting must be recessed or adjourned. \nAny messaging or virtual background is in the control of the individual board member in their personal capacity\nand does not reflect any formal position of the Neighborhood Council or the City of Los Angeles. \n  \n*PUBLIC INPUT ON AGENDA ITEMS – The public may address the Board on any agenda item before the Board takes an action on an item. Comments from the public on agenda items will be heard only when the respective item is being considered. Public comment is limited to 2) minute per speaker.  \n  \n*PUBLIC INPUT ON MATTERS NOT ON THE AGENDA – Comments from the public on other matters not appearing on the agenda that are within the Board’s jurisdiction will be heard during the General Public Comment period. Please note that under the Brown Act\, the Board is prevented from acting on a matter that you bring to its attention during the General Public Comment period; however\, the issue raised by a member of the public may   become the subject of a future Board meeting. \n  \nPublic Comment is limited to (2) minute per speaker\, unless adjusted by the presiding chair of the committee. The presiding chair may impose time limits per each agenda item as needed. \n  \n_______________________________________________________________________________ \n  \n  \nAGENDA \n  \n\n Call to Order: @ TIME ENTER HERE \n Roll Call: Committee Members: Houtan Hormozian\, Nancy McLean\, Mark Schwartz\,\n\n  \n\n Public Comment by the Public on Items NOT on the Agenda. (2 minutes each)\n\n  \n\n Approval of Committee Minutes from November 3rd 2021\n\nSee attached support document                                              Roll Call Vote \n_______________________________________________________________________________ \n  \nItems for Discussion and Possible Action:  \nAll comment is limited to 2 minutes per speaker\, unless adjusted by the presiding chair of the committee.  \n  \n\n Comments & Questions with Topanga Senior Lead Officer(s) – Subject to Availability\nUpdate from LAPD on Woodland Hills and Topanga division issues – if present.\n Discussion: \nHow to prevent street racing on Mulholland Drive and on Topanga Blvd. There have also been several incidents of “side shows” at intersections that block traffic and create a dangerous situation. Does there need to be public outreach to schools and families to address this issue.\n\nSchools\, Council Office\, Police and DOT\n\n\nThe need for the police to monitor and give tickets to street racers and speeders in Woodland Hills or to look into other ways to to calm streets to slow down speeders such as more stop signs and speed bumps.\n\nPolice Dept and DOT.\n\n\nA review of what can be done to stop accidents at the Dumetz and Topanga intersection. There are many accidents and deaths at this location.\n\nCouncil Office DOT.\n\n\nHas the City created a task force to remove garbage and needles left by the homeless in Woodland Hills\, on the street and in parks.\n\nCouncil office.\n\n\nTips for what to do if someone is following you home\, as there have been more instances of this happening lately.\n\nPolice Dept.\n\n\nStreet Racing on Valley Circle.\n\n  \n\n New Business to be placed next month’s committee meeting agenda.\nTo be completed\n\n  \n  \nAdjournment of Meeting: @ TIME ENTER HERE \n  \n  \nThe next Committee Meeting will be held on 04/06/2022\, by teleconference. Please visit the calendar page at whcouncil.org for the complete details and to confirm the date and time. \nMeeting dates for 2021 -2022 year: Full Board meeting are held the second Wednesday of every month at 6:30pm. Check the NC website calendar for a complete list of committee and board meetings. \nMeeting dates and times are subject to change. Check the NC calendar for updated meeting schedules. \n  \nDue to COVID 19 ALL in person meetings have been moved to virtual teleconference.\nHOWEVER\, please check the www.whcouncil.org website calendar page for any changes that may occur. \n  \n*THE AMERICAN WITH DISABILITIES ACT – As a covered entity under Title II of the Americans with Disabilities Act\, the City of Los Angeles does not discriminate on the basis of disability and\, upon request\, will provide reasonable accommodation to ensure equal access to its programs\, services and activities. Sign language interpreters\, assistive listening devices and other auxiliary aids and/or services\, may be provided upon request. To ensure availability of services\, please make your request at least (3) business days (72 hours) prior to the meeting you wish to attend by contacting Joyce Fletcher\, at (818-340-6554 or email j.fletcher@whcouncil.org or the Department of Neighborhood Empowerment at (213) 978-1551 EmpowerLa@LACity.org \n  \n*PUBLIC ACCESS OF RECORDS – In compliance with Government Code section 54957.5\, non-exempt writings that are distributed to a majority or all of the board in advance of a meeting may be viewed at our website: www.whcouncil.org or at the scheduled meeting. In addition\, if you would like \na copy of any record related to an item on the agenda\, please contact Joyce Fletcher at (818) 340-6554 \nor email j.fletcher@whcouncil.org \n  \n*PUBLIC POSTING OF AGENDAS – agendas are posted for public review as follows:\n• www.whcouncil.org and go to the website Calendar page and click on the date – Board meetings are held on the second Wednesday of each month. Check the calendar for any change of meeting date \nand/or time.\n• You can also receive our agendas via email by subscribing to L.A. City’s Early Notification System \nat https://www.lacity.org/subscriptions \n  \nA copy of this agenda is also physically posted on the outside of the window of the West Valley Warner Center Chamber located at 6100 Topanga Canyon Blvd\, Ste 2330\, Woodland Hills\, CA 91367. The Chamber is located at the Promenade Mall outside the east entrance of the mall and to the left of Ruth Chris Restaurant. The Chamber office is accessed from Owensmouth Street. Parking is free.  \n  \n*RECONSIDERATION AND GRIEVANCE PROCESS – For information on the WHWCNC process for board action reconsideration\, stakeholder grievance policy\, or any other procedural matters related \nto this Council\, please consult the WHWCNC Bylaws. The Bylaws are available at our website at www.whcouncil.org \n  \nSERVICIOS DE TRADUCCIÓN – Si requiere servicios de traducción\, favor de avisar al Concejo Vecinal 3 días de trabajo (72 horas) antes del evento. Por favor contacte a Joyce fletcher de la Mesa Directiva\, al j.fletcher@whcouncil.org o por correo electrónico avisar al Concejo Vecinal. \n  \nNotice to Paid Representatives – If you are compensated to monitor\, attend\, or speak at this meeting\, City law may require you to register as a lobbyist and report your activity. See Los Angeles Municipal Code §§ 48.01 et seq. More information is available at ethics.lacity.org/lobbying. For assistance\, please contact the Ethics Commission at {213) 978-1960 or ethics.commission@lacity.org \n[pdf-embedder url=”https://whcouncil.org/wp-content/uploads/minutes-agendas-newsletters/PublicSafety_2022-03-02.pdf”]
URL:https://whcouncil.org/event/public-safety-transportation-committee-meeting-teleconference-2022-03-02/
CATEGORIES:Public Safety
ORGANIZER;CN="Houtan Hormozian":MAILTO:h.hormozian@whcouncil.org
END:VEVENT
BEGIN:VEVENT
DTSTART;TZID=America/Los_Angeles:20220202T183000
DTEND;TZID=America/Los_Angeles:20220202T183000
DTSTAMP:20260423T191301
CREATED:20220202T200530Z
LAST-MODIFIED:20220202T201437Z
UID:10001088-1643826600-1643826600@whcouncil.org
SUMMARY:Public Safety & Transportation Committee Meeting Cancelled
DESCRIPTION:[pdf-embedder url=”https://whcouncil.org/wp-content/uploads/minutes-agendas-newsletters/PublicSafety_2022-02-02.pdf” title=”2022-02-02 – Agenda – Meeting Cancelled”]
URL:https://whcouncil.org/event/public-safety-transportation-committee-meeting-cancelled/
CATEGORIES:Public Safety
ORGANIZER;CN="Houtan Hormozian":MAILTO:h.hormozian@whcouncil.org
END:VEVENT
BEGIN:VEVENT
DTSTART;TZID=America/Los_Angeles:20220105T183000
DTEND;TZID=America/Los_Angeles:20220105T193000
DTSTAMP:20260423T191301
CREATED:20220104T012843Z
LAST-MODIFIED:20220104T012843Z
UID:10001076-1641407400-1641411000@whcouncil.org
SUMMARY:Public Safety & Transportation Committee Meeting Teleconference
DESCRIPTION:
URL:https://whcouncil.org/event/public-safety-transportation-committee-meeting-teleconference/
CATEGORIES:Public Safety
ORGANIZER;CN="Houtan Hormozian":MAILTO:h.hormozian@whcouncil.org
END:VEVENT
BEGIN:VEVENT
DTSTART;TZID=America/Los_Angeles:20211103T183000
DTEND;TZID=America/Los_Angeles:20211103T193000
DTSTAMP:20260423T191301
CREATED:20211031T230717Z
LAST-MODIFIED:20211102T231943Z
UID:10001049-1635964200-1635967800@whcouncil.org
SUMMARY:Public Safety & Transportation Committee Meeting Teleconference
DESCRIPTION:[pdf-embedder url=”https://whcouncil.org/wp-content/uploads/2021/10/2021-11-03-Agenda.pdf” title=”2021-11-03 – Agenda”]
URL:https://whcouncil.org/event/public-safety-transportation-committee/
CATEGORIES:Public Safety
ORGANIZER;CN="Houtan Hormozian":MAILTO:h.hormozian@whcouncil.org
END:VEVENT
BEGIN:VEVENT
DTSTART;TZID=America/Los_Angeles:20211006T183000
DTEND;TZID=America/Los_Angeles:20211006T193000
DTSTAMP:20260423T191301
CREATED:20210929T040614Z
LAST-MODIFIED:20250708T064443Z
UID:10001031-1633545000-1633548600@whcouncil.org
SUMMARY:Transportation And Public Safety Committee Meeting Teleconference
DESCRIPTION:  \nAGENDA  \nWHWCNC PUBLIC SAFETY & TRANSPORTAION \n COMMITTEE MEETING \nWednesday October 6th at 6:30pm  \nVIRTUAL MEETING BY TELECONFERENCE \nVIRTUAL MEETING TELECONFERENCING and PHONE NUMBER FOR PUBLIC PARTICIPATION \nIn conformity with the Governor’s Executive Order N-29-20 (MARCH 17\, 2020) and due to concerns over COVID-19\, the Woodland Hills-Warner Center Neighborhood Council meetings will be conducted entirely telephonically. \nEvery person wishing to address the Neighborhood Council must dial +1 669 900 6833 and enter Zoom ID No. 99661879295 and then press # to join the meeting. Instructions on how to sign up for public comment will be given to listeners at the start of the meeting. The public is requested to dial *9\, when prompted  \nby the presiding officer\, to address the Board on any agenda item before the Board takes an action on an item. Zoom users should use the “raise hand” feature. \n  \nA copy of this agenda is also physically posted on the outside of the window of the West Valley Warner Center Chamber located at 6100 Topanga Canyon Blvd\, Ste 2330\, Woodland Hills\, CA 91367. The Chamber is located  \nat the Promenade Mall outside the east entrance of the mall and to the left of Ruth Chris Restaurant.  \nThe Chamber office is accessed from Owensmouth Street. Parking is free.  \nSERVICIOS DE TRADUCCIÓN – Si requiere servicios de traducción\, favor de avisar al Concejo Vecinal 3 días de trabajo (72 horas) antes del evento. Por favor contacte a Joyce fletcher de la Mesa Directiva\, al j.fletcher@whcouncil.org o por correo electrónico avisar al Concejo Vecinal. \nAGENDA  \n\nCall to Order and roll call.\n\nHoutan Hormozian\, Nancy McLean\, Ginny Sand\, Mark Schwartz\, Eric Spitzer\n\n\nApproval of Minutes of September 1st 2021\nPublic & Non-Agenda Announcements\n\nGeneral announcements & info from city departments\, public officials or their representatives – if present.\n\n\nPublic Comment on matters of committee jurisdiction not on the agenda – 2 minutes each\nComments & Questions with Topanga Senior Lead Officer(s) – Subject to Availability\n\nUpdate from LAPD on Woodland Hills and Topanga division issues – if present.\n\n\nDiscussion: Stakeholders Concerns about Street Racing and Public Safety\nDiscussion: Future Agenda Items for Possible Committee Action – 2021 Projects.\n\nProposed items for future meetings and 2021 possible projects.\n\n\nAdjournment of meeting: \n\n  \n*THE AMERICAN WITH DISABILITIES ACT – As a covered entity under Title II of the Americans with Disabilities Act\, the City of Los Angeles does not discriminate on the basis of disability and\, upon request\, will provide reasonable accommodation to ensure equal access to its programs\, services and activities. Sign language interpreters\, assistive listening devices and other auxiliary aids and/or services\, may be provided upon request. To ensure availability of services\, please make your request at least 3 business days (72 hours) prior to the meeting you wish to attend by contacting Joyce Fletcher\, at (818-340-6554 or email j.fletcher@whcouncil.org or the Department of Neighborhood Empowerment at (213) 978-1551 EmpowerLa@LACity.org \n*PUBLIC ACCESS OF RECORDS – In compliance with Government Code section 54957.5\, non-exempt writings that are distributed to a majority or all of the board in advance of a meeting may be viewed at our website: www.whcouncil.org or at the scheduled meeting. In addition\, if you would like a copy of any record related to an item on the agenda\, please contact Joyce Fletcher by email j.fletcher@whcouncil.org \n*PUBLIC POSTING OF AGENDAS – agendas are posted for public review as follows: \n\nwww.whcouncil.org – go to the website at the whcouncil.org Calendar page and click on the date.\n\nName of Committee meetings are held on the (day of the month -Example: the first Monday) of each month. \n Check the calendar for any change of meeting date. \n\nYou can also receive our agendas via email by subscribing to L.A. City’s Early Notification System at https://www.lacity.org/subscriptions\n\n*RECONSIDERATION AND GRIEVANCE PROCESS – For information on the WHWCNC process for board action reconsideration\, stakeholder grievance policy\, or any other procedural matters related to this Council\, please consult the WHWCNC Bylaws. The Bylaws are available at our Board meetings and our website at www.whcouncil.org \nNotice to Paid Representatives – If you are compensated to monitor\, attend\, or speak at this meeting\, City law may require you to register as a lobbyist and report your activity. See Los Angeles Municipal Code §§ 48.01 et seq. More information is available at ethics.lacity.org/lobbying. For assistance\, please contact the Ethics Commission at {213) 978-1960 or ethics.commission@lacity.org
URL:https://whcouncil.org/event/transportation-and-public-safety-committee-meeting-teleconference-2/
CATEGORIES:Public Safety
ORGANIZER;CN="Houtan Hormozian":MAILTO:h.hormozian@whcouncil.org
END:VEVENT
END:VCALENDAR