BEGIN:VCALENDAR
VERSION:2.0
PRODID:-//Woodland Hills Warner - Center Neighborhood Council | Your most local part of CIty Government - ECPv6.15.20//NONSGML v1.0//EN
CALSCALE:GREGORIAN
METHOD:PUBLISH
X-WR-CALNAME:Woodland Hills Warner - Center Neighborhood Council | Your most local part of CIty Government
X-ORIGINAL-URL:https://whcouncil.org
X-WR-CALDESC:Events for Woodland Hills Warner - Center Neighborhood Council | Your most local part of CIty Government
REFRESH-INTERVAL;VALUE=DURATION:PT1H
X-Robots-Tag:noindex
X-PUBLISHED-TTL:PT1H
BEGIN:VTIMEZONE
TZID:America/Los_Angeles
BEGIN:DAYLIGHT
TZOFFSETFROM:-0800
TZOFFSETTO:-0700
TZNAME:PDT
DTSTART:20200308T100000
END:DAYLIGHT
BEGIN:STANDARD
TZOFFSETFROM:-0700
TZOFFSETTO:-0800
TZNAME:PST
DTSTART:20201101T090000
END:STANDARD
BEGIN:DAYLIGHT
TZOFFSETFROM:-0800
TZOFFSETTO:-0700
TZNAME:PDT
DTSTART:20210314T100000
END:DAYLIGHT
BEGIN:STANDARD
TZOFFSETFROM:-0700
TZOFFSETTO:-0800
TZNAME:PST
DTSTART:20211107T090000
END:STANDARD
BEGIN:DAYLIGHT
TZOFFSETFROM:-0800
TZOFFSETTO:-0700
TZNAME:PDT
DTSTART:20220313T100000
END:DAYLIGHT
BEGIN:STANDARD
TZOFFSETFROM:-0700
TZOFFSETTO:-0800
TZNAME:PST
DTSTART:20221106T090000
END:STANDARD
BEGIN:DAYLIGHT
TZOFFSETFROM:-0800
TZOFFSETTO:-0700
TZNAME:PDT
DTSTART:20230312T100000
END:DAYLIGHT
BEGIN:STANDARD
TZOFFSETFROM:-0700
TZOFFSETTO:-0800
TZNAME:PST
DTSTART:20231105T090000
END:STANDARD
BEGIN:DAYLIGHT
TZOFFSETFROM:-0800
TZOFFSETTO:-0700
TZNAME:PDT
DTSTART:20240310T100000
END:DAYLIGHT
BEGIN:STANDARD
TZOFFSETFROM:-0700
TZOFFSETTO:-0800
TZNAME:PST
DTSTART:20241103T090000
END:STANDARD
END:VTIMEZONE
BEGIN:VEVENT
DTSTART;TZID=America/Los_Angeles:20231005T183000
DTEND;TZID=America/Los_Angeles:20231005T210000
DTSTAMP:20260423T174226
CREATED:20231001T220049Z
LAST-MODIFIED:20231001T220249Z
UID:10001326-1696530600-1696539600@whcouncil.org
SUMMARY:Planning Land Use and Mobility (PLUM) Committee
DESCRIPTION:The PLUM Committee will hold its regular meeting on Thursday\, October 5\, 2023. Significant items for discussion are below. The full agenda is posted here: https://whcouncil.org/wp-content/uploads/minutes-agendas-newsletters/Plum_2023-10-05.pdf \n\nDiscussion and possible motion on planning cases ENV-2023-2927-CE and ZA-2023-2626ZAA\, 23139 W. Collins.\, Woodland Hills\, 91367. The applicant seeks a parcel map to subdivide one RA-1 lot into two lots with no proposed construction.\nDiscussion and possible motion on planning case ZA-2023-4553-CUB 23036-21040 W. Victory Blvd.\, Woodland Hills\, CA 91367 (Pascal Patisserie). The applicant seeks a Conditional Use Permit to allow for on-site sales of a full line of alcoholic beverages with a restaurant with 90 total seats\, having hours of operation from 7:00 AM to 11:00 PM daily.\nDiscussion and possible motion on planning case. ADM-2023-6353-DB-SPP-HCA-WC-ED1\, 21300 Oxnard St.\, Woodland Hills\, CA 91367. The applicant proposes a two-phased density bonus Project which will provide 301 dwelling units (297 of which to be restricted affordable and 4 Manager’s Units). The units will be restricted affordable to both moderate and lower income households. The Project is seeking approval of a Project Permit Compliance Review and Density Bonus with three off menu incentives. This project is submitted through Executive Directive 1 and is presented to PLUM as a courtesy presentation.
URL:https://whcouncil.org/event/planning-land-use-and-mobility-plum-committee-5/
LOCATION:LAFD Fire Station 84\, 21050 Burbank Blvd.\, Woodland Hills\, CA\, 91367\, United States
CATEGORIES:PLUM
ORGANIZER;CN="Don Patterson":MAILTO:whwcncarea4@gmail.com
GEO:34.1729585;-118.5915767
X-APPLE-STRUCTURED-LOCATION;VALUE=URI;X-ADDRESS=LAFD Fire Station 84 21050 Burbank Blvd. Woodland Hills CA 91367 United States;X-APPLE-RADIUS=500;X-TITLE=21050 Burbank Blvd.:geo:-118.5915767,34.1729585
END:VEVENT
BEGIN:VEVENT
DTSTART;TZID=America/Los_Angeles:20230817T183000
DTEND;TZID=America/Los_Angeles:20230817T210000
DTSTAMP:20260423T174226
CREATED:20230814T184726Z
LAST-MODIFIED:20230814T184726Z
UID:10001313-1692297000-1692306000@whcouncil.org
SUMMARY:Planning\, Land Use\, and Mobility (PLUM Committee) Regular Meeting
DESCRIPTION:The PLUM Committee will hold its regular meeting on August 17\, 2023. The significant items for discussion are below. The full agenda can be found here: Full PLUM Agenda  \n\nDiscussion and possible motion on planning case AA-2023-2925-PMLA and ZA-2023-2926-ZAA for 23139 W. Collins St.\, Woodland Hills\, 91367.\nThe applicant proposes a parcel map to subdivide one RA-1 lot into two lots.\nCourtesy Presentation for 6464 Canoga Ave.\, Woodland Hills\, CA 91367\nThe Applicant plans to propose a 276 dwelling unit mixed-use multi-family Project in the Downtown District of the WC 2035 Plan Area. The Project will include 270\,387 square feet of Floor Area\, inclusive of 4\,045 square feet of ground floor commercial uses. The Project is seeking a Project Permit Compliance Review and two off-menu density bonus incentives and will restrict 10% of the base density affordable to very low-income Households.
URL:https://whcouncil.org/event/planning-land-use-and-mobility-plum-committee-regular-meeting-2/
LOCATION:LAFD Fire Station 84\, 21050 Burbank Blvd.\, Woodland Hills\, CA\, 91367\, United States
CATEGORIES:PLUM
ORGANIZER;CN="Don Patterson":MAILTO:whwcncarea4@gmail.com
GEO:34.1729585;-118.5915767
X-APPLE-STRUCTURED-LOCATION;VALUE=URI;X-ADDRESS=LAFD Fire Station 84 21050 Burbank Blvd. Woodland Hills CA 91367 United States;X-APPLE-RADIUS=500;X-TITLE=21050 Burbank Blvd.:geo:-118.5915767,34.1729585
END:VEVENT
BEGIN:VEVENT
DTSTART;TZID=America/Los_Angeles:20230720T183000
DTEND;TZID=America/Los_Angeles:20230720T210000
DTSTAMP:20260423T174226
CREATED:20230716T223143Z
LAST-MODIFIED:20230716T223143Z
UID:10001077-1689877800-1689886800@whcouncil.org
SUMMARY:Planning\, Land Use\, and Mobility (PLUM) Committee
DESCRIPTION:The PLUM Committee will hold its regular meeting on July 20. The significant item for discussion is below. The full agenda can be downloaded or viewed here: Jul 20\, 2023 PLUM Agenda \n\nDiscussion and possible motion on planning case ADM-2023-3738-OVR-WC (Administrative Clearance) for a net\, 50\,000 SF horizontal expansion to the exiting office tower located at 21555 Oxnard Street. The addition will serve as football operations offices and training facilities (L.A. Rams).
URL:https://whcouncil.org/event/planning-land-use-and-mobility-plum-committee-3/
LOCATION:LAFD Fire Station 84\, 21050 Burbank Blvd.\, Woodland Hills\, CA\, 91367\, United States
CATEGORIES:PLUM
ORGANIZER;CN="Don Patterson":MAILTO:whwcncarea4@gmail.com
GEO:34.1729585;-118.5915767
X-APPLE-STRUCTURED-LOCATION;VALUE=URI;X-ADDRESS=LAFD Fire Station 84 21050 Burbank Blvd. Woodland Hills CA 91367 United States;X-APPLE-RADIUS=500;X-TITLE=21050 Burbank Blvd.:geo:-118.5915767,34.1729585
END:VEVENT
BEGIN:VEVENT
DTSTART;TZID=America/Los_Angeles:20230706T183000
DTEND;TZID=America/Los_Angeles:20230706T210000
DTSTAMP:20260423T174226
CREATED:20230702T200928Z
LAST-MODIFIED:20230702T200928Z
UID:10001071-1688668200-1688677200@whcouncil.org
SUMMARY:Planning\, Land Use\, and Mobility (PLUM) Committee
DESCRIPTION:The PLUM Committee will hold its regular meeting on Thursday\, July 6\, 2023 at 6:30 pm. The major item for discussion is below and the full agenda can be downloaded here: Jul 6\, 2023 PLUM Full Agenda. When available\, Case Reports are posted here: https://whcouncil.org/committees/plum-i \n\nDiscussion and possible motion on planning cases ZA-2023-2170-ZAD; VTT-83927-HCA; ENV-2023-2172-EAF\, 21011 5300 Oakdale Dr.\, Woodland Hills\, CA 91364\nThe applicant is proposing to subdivide four existing parcels into 23 ground lots on a 612\,868 square foot site\, generally located at 5300 Oakdale Avenue at the northeast corner of Oakdale Avenue and Collier Street for the construction of 21\, two-story homes with two lots\, totaling 180\,834 square feet\, to be preserved as public space and will be dedicated in fee to a public agency (the “Preservation Parcels”).
URL:https://whcouncil.org/event/planning-land-use-and-mobility-plum-committee-2/
LOCATION:LAFD Fire Station 84\, 21050 Burbank Blvd.\, Woodland Hills\, CA\, 91367\, United States
CATEGORIES:PLUM
ORGANIZER;CN="Don Patterson":MAILTO:whwcncarea4@gmail.com
GEO:34.1729585;-118.5915767
X-APPLE-STRUCTURED-LOCATION;VALUE=URI;X-ADDRESS=LAFD Fire Station 84 21050 Burbank Blvd. Woodland Hills CA 91367 United States;X-APPLE-RADIUS=500;X-TITLE=21050 Burbank Blvd.:geo:-118.5915767,34.1729585
END:VEVENT
BEGIN:VEVENT
DTSTART;TZID=America/Los_Angeles:20230601T183000
DTEND;TZID=America/Los_Angeles:20230601T210000
DTSTAMP:20260423T174226
CREATED:20230529T161627Z
LAST-MODIFIED:20230529T161627Z
UID:10001059-1685644200-1685653200@whcouncil.org
SUMMARY:Planning\, Land Use\, and Mobility (PLUM) Committee Meeting
DESCRIPTION:The Planning\, Land Use\, and Mobility (PLUM) Committee will hold its regular meeting on June 1\, 2023. The case listed below will be heard. The full agenda can be found here: Jun 1\, 2023 Full PLUM Agenda \n\nDiscussion and possible motion on planning case ZA-2022-2788-CU-SPP-SPR-WDI22822 Ventura Blvd.\, Woodland Hills\, CA 91364\nThe applicant is proposing construction of a new 3\,342 square foot fast food drive-thru restaurant (In-N-Out) and demolition of existing former bank building.
URL:https://whcouncil.org/event/planning-land-use-and-mobility-plum-committee-meeting-3/
LOCATION:LAFD Fire Station 84\, 21050 Burbank Blvd.\, Woodland Hills\, CA\, 91367\, United States
CATEGORIES:PLUM
ORGANIZER;CN="Don Patterson":MAILTO:whwcncarea4@gmail.com
GEO:34.1729585;-118.5915767
X-APPLE-STRUCTURED-LOCATION;VALUE=URI;X-ADDRESS=LAFD Fire Station 84 21050 Burbank Blvd. Woodland Hills CA 91367 United States;X-APPLE-RADIUS=500;X-TITLE=21050 Burbank Blvd.:geo:-118.5915767,34.1729585
END:VEVENT
BEGIN:VEVENT
DTSTART;TZID=America/Los_Angeles:20230105T183000
DTEND;TZID=America/Los_Angeles:20230105T223000
DTSTAMP:20260423T174226
CREATED:20230102T223355Z
LAST-MODIFIED:20230102T223355Z
UID:10001235-1672943400-1672957800@whcouncil.org
SUMMARY:Planning\, Land Use\, and Mobility Committee Meeting - January 5\, 2023
DESCRIPTION:The Planning\, Land Use and Mobility (PLUM) Committee will hold its regular meeting on Thursday\, January 5\, 2023. Significant items for discussion are summarized below. The full agenda can be found here: January 5\, 2023 PLUM Agenda \n\nENV-2008-3471; ADM-2022-7181 Request for change of use from retail to live-work. 6109 & 6149 DeSoto Ave. and 21010 & 21003 Erwin St.\, Woodland Hills\, 91367\nRequest for change in use from retail to live-work for project currently under construction (Q DeSoto). \n\nUpdate on construction of a new median in the 20500 Block of Ventura Blvd. adjacent to Porsche Woodland Hills development.\n\nCourtesy Presentation for redevelopment of property on the northeast corner of DeSoto Ave. and Ventura Blvd. 20833-20861 W. Ventura Boulevard\, 5330 N. De Soto Avenue\, Woodland Hills\, CA 91364. Courtesy presentation for initial feedback only\, no action will be taken.\n\nReview of the potential redevelopment of the approximately 2.5-acre property located at the northeast corner of Ventura Boulevard and De Soto Avenue involving the construction of a new auto dealership\, associated parking\, and landscaping in the (Q)C4-1 Zone and within the Neighborhood & General Commercial Plan Designation area of the Ventura/Cahuenga Boulevard Corridor Specific Plan. \n\nDiscussion of PLUM Committee webpages. \nReview and discussion of PLUM Committee webpages on www.whcouncil.org and potential improvements. \n\nDiscussion of PLUM Committee meetings and criteria to consider special joint meetings with the Board on certain projects.
URL:https://whcouncil.org/event/planning-land-use-and-mobility-committee-meeting-january-5-2023/
CATEGORIES:PLUM
ORGANIZER;CN="Don Patterson":MAILTO:whwcncarea4@gmail.com
END:VEVENT
BEGIN:VEVENT
DTSTART;TZID=America/Los_Angeles:20220915T183000
DTEND;TZID=America/Los_Angeles:20220915T210000
DTSTAMP:20260423T174226
CREATED:20220911T004559Z
LAST-MODIFIED:20220914T180901Z
UID:10001202-1663266600-1663275600@whcouncil.org
SUMMARY:Planning Land Use & Mobility (PLUM) Regular Meeting
DESCRIPTION:The PLUM Committee will hold its regular meeting on Thursday\, September 15\, 2022. There will be one significant item of discussion noted below. The full agenda can be viewed here: Full Agenda \n\nZA-2022-1090-ZV-ZAA 22450 W. Collins Street\, Woodland Hills\, 91367\nRequest to change from current 6 bed Residential Detox Program to 12 bed Residential Detox Program. [pdf-embedder url=”https://whcouncil.org/wp-content/uploads/2022/09/22450-Collins-PLUM-Case-Report-1.pdf” title=”22450 Collins PLUM Case Report”]\n[pdf-embedder url=”https://whcouncil.org/wp-content/uploads/2022/09/NR_22-8658_Calls-for-Service-22450-Collins-1.pdf” title=”NR_22-8658_Calls for Service 22450 Collins (1)”]\n[pdf-embedder url=”https://whcouncil.org/wp-content/uploads/2022/09/22450-Collins-Alternate-Proposed-PLUM-MOTION.pdf” title=”22450 Collins Alternate Proposed PLUM MOTION”]
URL:https://whcouncil.org/event/planning-land-use-mobility-plum-regular-meeting-2/
CATEGORIES:PLUM
ORGANIZER;CN="Don Patterson":MAILTO:whwcncarea4@gmail.com
END:VEVENT
BEGIN:VEVENT
DTSTART;TZID=America/Los_Angeles:20210518T183000
DTEND;TZID=America/Los_Angeles:20210518T183000
DTSTAMP:20260423T174226
CREATED:20210518T023651Z
LAST-MODIFIED:20210518T023745Z
UID:10000861-1621362600-1621362600@whcouncil.org
SUMMARY:Governance Committee - CANCELLED
DESCRIPTION:The regular meeting of the WHWC NC Governance Committee scheduled for 5/18/21 has been cancelled.
URL:https://whcouncil.org/event/governance-committee-cancelled-3/
CATEGORIES:Governance
ORGANIZER;CN="Don Patterson":MAILTO:whwcncarea4@gmail.com
END:VEVENT
END:VCALENDAR