BEGIN:VCALENDAR
VERSION:2.0
PRODID:-//Woodland Hills Warner - Center Neighborhood Council | Your most local part of CIty Government - ECPv6.15.20//NONSGML v1.0//EN
CALSCALE:GREGORIAN
METHOD:PUBLISH
X-ORIGINAL-URL:https://whcouncil.org
X-WR-CALDESC:Events for Woodland Hills Warner - Center Neighborhood Council | Your most local part of CIty Government
REFRESH-INTERVAL;VALUE=DURATION:PT1H
X-Robots-Tag:noindex
X-PUBLISHED-TTL:PT1H
BEGIN:VTIMEZONE
TZID:America/Los_Angeles
BEGIN:DAYLIGHT
TZOFFSETFROM:-0800
TZOFFSETTO:-0700
TZNAME:PDT
DTSTART:20240310T100000
END:DAYLIGHT
BEGIN:STANDARD
TZOFFSETFROM:-0700
TZOFFSETTO:-0800
TZNAME:PST
DTSTART:20241103T090000
END:STANDARD
BEGIN:DAYLIGHT
TZOFFSETFROM:-0800
TZOFFSETTO:-0700
TZNAME:PDT
DTSTART:20250309T100000
END:DAYLIGHT
BEGIN:STANDARD
TZOFFSETFROM:-0700
TZOFFSETTO:-0800
TZNAME:PST
DTSTART:20251102T090000
END:STANDARD
BEGIN:DAYLIGHT
TZOFFSETFROM:-0800
TZOFFSETTO:-0700
TZNAME:PDT
DTSTART:20260308T100000
END:DAYLIGHT
BEGIN:STANDARD
TZOFFSETFROM:-0700
TZOFFSETTO:-0800
TZNAME:PST
DTSTART:20261101T090000
END:STANDARD
END:VTIMEZONE
BEGIN:VEVENT
DTSTART;TZID=America/Los_Angeles:20250130T180000
DTEND;TZID=America/Los_Angeles:20250130T200000
DTSTAMP:20260423T175855
CREATED:20250123T063037Z
LAST-MODIFIED:20250123T063037Z
UID:10001479-1738260000-1738267200@whcouncil.org
SUMMARY:Reimagine Ventura - Phase 2
DESCRIPTION:Save the Date! Bob Blumenfield’s office will be holding an in-person meeting at the Woodland Hills Library on January 30th at 6pm regarding phase 2 of Reimagine Ventura Blvd. Please refer to the image for additional information. \n 
URL:https://whcouncil.org/event/reimagine-ventura-phase-2/
LOCATION:Woodland Hills Public Library\, Upper Room\, 22200 Ventura Blvd.\, Woodland Hills\, CA\, 91364\, United States
CATEGORIES:Community
ATTACH;FMTTYPE=image/jpeg:https://whcouncil.org/wp-content/uploads/2025/01/ReimagineVentura_Flyer-conv-1.jpeg
GEO:34.1678825;-118.6106854
X-APPLE-STRUCTURED-LOCATION;VALUE=URI;X-ADDRESS=Woodland Hills Public Library Upper Room 22200 Ventura Blvd. Woodland Hills CA 91364 United States;X-APPLE-RADIUS=500;X-TITLE=22200 Ventura Blvd.:geo:-118.6106854,34.1678825
END:VEVENT
END:VCALENDAR