BEGIN:VCALENDAR
VERSION:2.0
PRODID:-//Woodland Hills Warner - Center Neighborhood Council | Your most local part of CIty Government - ECPv6.15.20//NONSGML v1.0//EN
CALSCALE:GREGORIAN
METHOD:PUBLISH
X-ORIGINAL-URL:https://whcouncil.org
X-WR-CALDESC:Events for Woodland Hills Warner - Center Neighborhood Council | Your most local part of CIty Government
REFRESH-INTERVAL;VALUE=DURATION:PT1H
X-Robots-Tag:noindex
X-PUBLISHED-TTL:PT1H
BEGIN:VTIMEZONE
TZID:America/Los_Angeles
BEGIN:DAYLIGHT
TZOFFSETFROM:-0800
TZOFFSETTO:-0700
TZNAME:PDT
DTSTART:20220313T100000
END:DAYLIGHT
BEGIN:STANDARD
TZOFFSETFROM:-0700
TZOFFSETTO:-0800
TZNAME:PST
DTSTART:20221106T090000
END:STANDARD
BEGIN:DAYLIGHT
TZOFFSETFROM:-0800
TZOFFSETTO:-0700
TZNAME:PDT
DTSTART:20230312T100000
END:DAYLIGHT
BEGIN:STANDARD
TZOFFSETFROM:-0700
TZOFFSETTO:-0800
TZNAME:PST
DTSTART:20231105T090000
END:STANDARD
BEGIN:DAYLIGHT
TZOFFSETFROM:-0800
TZOFFSETTO:-0700
TZNAME:PDT
DTSTART:20240310T100000
END:DAYLIGHT
BEGIN:STANDARD
TZOFFSETFROM:-0700
TZOFFSETTO:-0800
TZNAME:PST
DTSTART:20241103T090000
END:STANDARD
END:VTIMEZONE
BEGIN:VEVENT
DTSTART;TZID=America/Los_Angeles:20230302T173000
DTEND;TZID=America/Los_Angeles:20230302T183000
DTSTAMP:20260423T173311
CREATED:20230302T011943Z
LAST-MODIFIED:20230424T231627Z
UID:10001273-1677778200-1677781800@whcouncil.org
SUMMARY:Community Outreach Cmte Mtg Rescheduled 3-2-2023
DESCRIPTION:
URL:https://whcouncil.org/event/community-outreach-cmte-mtg-rescheduled-3-2-2023/
CATEGORIES:Community Outreach
END:VEVENT
BEGIN:VEVENT
DTSTART;TZID=America/Los_Angeles:20230227T184500
DTEND;TZID=America/Los_Angeles:20230227T200000
DTSTAMP:20260423T173311
CREATED:20230225T024251Z
LAST-MODIFIED:20230424T231707Z
UID:10001265-1677523500-1677528000@whcouncil.org
SUMMARY:Community Outreach Committee for 2/27/2023
DESCRIPTION:
URL:https://whcouncil.org/event/community-outreach-committee-for-2-27-2023/
CATEGORIES:Community Outreach
END:VEVENT
BEGIN:VEVENT
DTSTART;TZID=America/Los_Angeles:20230213T183000
DTEND;TZID=America/Los_Angeles:20230213T183000
DTSTAMP:20260423T173311
CREATED:20230210T015958Z
LAST-MODIFIED:20230210T020341Z
UID:10001043-1676313000-1676313000@whcouncil.org
SUMMARY:Community Outreach Committee Virtual Mtg on 2-13-2023
DESCRIPTION:
URL:https://whcouncil.org/event/community-outreach-committee-virtual-mtg-on-2-13-2023/
CATEGORIES:Community Outreach
END:VEVENT
BEGIN:VEVENT
DTSTART;TZID=America/Los_Angeles:20230123T183000
DTEND;TZID=America/Los_Angeles:20230123T183000
DTSTAMP:20260423T173311
CREATED:20230121T021944Z
LAST-MODIFIED:20230121T024813Z
UID:10001253-1674498600-1674498600@whcouncil.org
SUMMARY:Community Communications Cmte (Outreach) Meeting for 01-23-2023
DESCRIPTION:[pdf-embedder url=”https://whcouncil.org/wp-content/uploads/2023/01/WHWCNC-C3-Agenda-01-23-2023-.pdf” title=”WHWCNC C3 Agenda 01-23-2023″]
URL:https://whcouncil.org/event/community-communications-cmte-outreach-meeting-for-01-23-2023/
END:VEVENT
END:VCALENDAR