BEGIN:VCALENDAR
VERSION:2.0
PRODID:-//Woodland Hills Warner - Center Neighborhood Council | Your most local part of CIty Government - ECPv6.15.20//NONSGML v1.0//EN
CALSCALE:GREGORIAN
METHOD:PUBLISH
X-WR-CALNAME:Woodland Hills Warner - Center Neighborhood Council | Your most local part of CIty Government
X-ORIGINAL-URL:https://whcouncil.org
X-WR-CALDESC:Events for Woodland Hills Warner - Center Neighborhood Council | Your most local part of CIty Government
REFRESH-INTERVAL;VALUE=DURATION:PT1H
X-Robots-Tag:noindex
X-PUBLISHED-TTL:PT1H
BEGIN:VTIMEZONE
TZID:America/Los_Angeles
BEGIN:DAYLIGHT
TZOFFSETFROM:-0800
TZOFFSETTO:-0700
TZNAME:PDT
DTSTART:20250309T100000
END:DAYLIGHT
BEGIN:STANDARD
TZOFFSETFROM:-0700
TZOFFSETTO:-0800
TZNAME:PST
DTSTART:20251102T090000
END:STANDARD
BEGIN:DAYLIGHT
TZOFFSETFROM:-0800
TZOFFSETTO:-0700
TZNAME:PDT
DTSTART:20260308T100000
END:DAYLIGHT
BEGIN:STANDARD
TZOFFSETFROM:-0700
TZOFFSETTO:-0800
TZNAME:PST
DTSTART:20261101T090000
END:STANDARD
BEGIN:DAYLIGHT
TZOFFSETFROM:-0800
TZOFFSETTO:-0700
TZNAME:PDT
DTSTART:20270314T100000
END:DAYLIGHT
BEGIN:STANDARD
TZOFFSETFROM:-0700
TZOFFSETTO:-0800
TZNAME:PST
DTSTART:20271107T090000
END:STANDARD
END:VTIMEZONE
BEGIN:VEVENT
DTSTART;TZID=America/Los_Angeles:20260301T090000
DTEND;TZID=America/Los_Angeles:20260301T113000
DTSTAMP:20260423T145339
CREATED:20260227T233833Z
LAST-MODIFIED:20260227T233833Z
UID:10001601-1772355600-1772364600@whcouncil.org
SUMMARY:WHWCNC Governance Cmte SPECIAL Mtg 3-1-26
DESCRIPTION:Governance Committee Agenda
URL:https://whcouncil.org/event/whwcnc-governance-cmte-special-mtg-3-1-26/
LOCATION:West Valley-Warner Center Chamber of Commerce\, 6351 Owensmouth Avenue\, Suite 101A\, Woodland Hills\, CA\, 91367\, United States
CATEGORIES:Governance
GEO:34.1808143;-118.6038048
X-APPLE-STRUCTURED-LOCATION;VALUE=URI;X-ADDRESS=West Valley-Warner Center Chamber of Commerce 6351 Owensmouth Avenue Suite 101A Woodland Hills CA 91367 United States;X-APPLE-RADIUS=500;X-TITLE=6351 Owensmouth Avenue\, Suite 101A:geo:-118.6038048,34.1808143
END:VEVENT
BEGIN:VEVENT
DTSTART;TZID=America/Los_Angeles:20260302T183000
DTEND;TZID=America/Los_Angeles:20260302T203000
DTSTAMP:20260423T145339
CREATED:20260226T173153Z
LAST-MODIFIED:20260226T224743Z
UID:10001599-1772476200-1772483400@whcouncil.org
SUMMARY:Community Services Committee Meeting
DESCRIPTION:Community Services Committee\nMembers\nJoyce Fletcher\, Chair\nKaren Di Biase\nKate Kennedy\nJulian Tu \nWOODLAND HILLS\nWARNER CENTER\nNEIGHBORHOOD\nCOUNCIL\nCommunity Services Committee\nMeeting Agenda\nMonday\, March 2\, 2026\n6:30 pm to 8:30pm\nLocated at Capital One Café\nIn the Meeting Room\nInside the Westfield Topanga Mall\nDownstairs Near Nordstrom\nSi requiere servicios de traducción\, favor de avisar al Concejo Vecinal 3 días de trabajo (72 horas) antes\ndel evento. Por favor contacte a Joyce Fletcher de la Mesa Directiva\, j.fletcher@whcouncil.org o por\ncorreo electrónico avisar al Concejo Vecinal.\nGENERAL PUBLIC COMMENT ON ITEMS NOT ON THE AGENDA – Two-minute comments\nfrom the public on other matters not appearing on the agenda that are within the Board’s jurisdiction will\nbe heard during the General Public Comment period. Please note that under the Brown Act\, the Board is\nprevented from acting on a matter that you bring to its attention during the General Public Comment\nperiod; however\, the issue raised by a member of the public may become the subject of a future Board\nmeeting. Public comment for items on the agenda is limited to two (2) minutes per speaker\, unless adjusted\nby the presiding officer of the Board.\nI. CALL TO ORDER AND COMMITTEE ROLL CALL\nMembers: Joyce Fletcher-Chair\, Karen DiBiase\, Kate Kennedy\, Julian Tu\nII. APPROVAL OF MINUTES – February 2\, 2025\nIII. PUBLIC COMMENT ON ITEMS ON THE AGENDA – Comments will be heard when the\nagenda item is called by the Chair of the committee.\nEach speaker will also be allowed a two (2) minute comment on each agenda item.\nEmpowerLA\nEmail: NCsupport@lacity.org\nWebsite:whcouncil.org\nIV. AGENDA ITEMS\nFor discussion and possible action:\n1. Discussion of Community Impact Statements and Recommendations for City Council.\nA list of possible CIS options will be provided to the committee.\n2. Motion to approve $2500 for the annual WHWCNC Booth at the Valley Cultural Foundation\nSummer Concert Season. $2500 is the least cost for a booth for 10 concerts and July 4th\nFireworks which will also include a tent\, two chairs\, (3) NC parking passes\, WHWCNC sugnage\non VCF promotional materials and one Sunday for the NC to appear on stage to address the stakeholders.\nMotion presented by Karen DiBiase.\nJoyce Fletcher will leave the room and recuse herself from this discussion and vote as she\nis Secretary of the VCF.\n3. Committee Budget requests and activities by the end of fiscal year June 30\, 2026\n4. Committee Plans\, activities and requests for 2026/2027.\n5. New Business – to be discussed at the next committee meeting.\nADJOURNMENT\nAs a covered entity under Title II of the Americans with Disabilities Act\, the City of Los Angeles\ndoes not discriminate on the basis of disability and upon request will provide reasonable\naccommodation to ensure equal access to its programs\, services\, and activities. Sign language\ninterpreters\, assistive listening devices\, or other auxiliary aids and/or services may be provided upon\nrequest. To ensure availability of services\, please make your request at least 3 business days (72\nhours) prior to the meeting by contacting the Department of Neighborhood Empowerment by calling\n(213) 978-1551 or email: NCsupport@lacity.org\nPublic Posting of Agendas\nThe Community Services Committee meets on the 1st and 3rd Monday of each month. However\,\nvisit our website calendar page at whcouncil.org\, to review all committee meeting dates\, as the\ndate may change. Neighborhood Council agendas are posted for public review as follows:\nFire Station 84 front window\, located at 21050 Burbank Blvd. Woodland Hills CA 91367\nOn the Woodland Hills-Warner Center Neighborhood Council website at calendar page at\nwww.whcouncil.org You can also receive our agendas via email by subscribing to L.A. City’s Early\nNotification System (ENS)\nNotice to Paid Representatives\nIf you are compensated to monitor\, attend\, or speak at this meeting\, City law may require you to register\nas a lobbyist and report your activity. See Los Angeles Municipal Code Section 48.01 et seq.\nMore information is available at ethics.lacity.org/lobbying. For assistance\, please contact the\nEthics Commission at (213) 978-1960 or ethics.commission@lacity.org\nPublic Access of Records\nIn compliance with Government Code section 54957.5\, non-exempt writings that are distributed to a majority or all the\nboard in advance of a meeting may be viewed at our website: www.whcouncil.org or\nat the scheduled meeting. In addition\, if you would like a copy of any record related to an item on the agenda\, please get\nin touch with Secretary Joyce Fletcher by email to j.fletcher@whcouncil.org\nReconsideration and Grievance Process\nFor information on the NC’s process for board action reconsideration\, stakeholder grievance policy\, or any other\nprocedural matters related to this Council\, please consult the NC Bylaws. The Bylaws are available at our Board meetings\nand on our website www.whcouncil.org.
URL:https://whcouncil.org/event/community-services-committee-meeting-12/
LOCATION:Community Room\, Capital One Cafe\, 6600 CA-27 Suite 1038 Suite 103\, Canoga Park\, CA\, 91303\, United States
CATEGORIES:Community Services
GEO:34.1900362;-118.6035049
X-APPLE-STRUCTURED-LOCATION;VALUE=URI;X-ADDRESS=Community Room Capital One Cafe 6600 CA-27 Suite 1038 Suite 103 Canoga Park CA 91303 United States;X-APPLE-RADIUS=500;X-TITLE=6600 CA-27 Suite 1038 Suite 103:geo:-118.6035049,34.1900362
END:VEVENT
BEGIN:VEVENT
DTSTART;TZID=America/Los_Angeles:20260303T143000
DTEND;TZID=America/Los_Angeles:20260303T160000
DTSTAMP:20260423T145339
CREATED:20260227T005105Z
LAST-MODIFIED:20260227T010153Z
UID:10001600-1772548200-1772553600@whcouncil.org
SUMMARY:Special Homeless & Social Justice Advocacy Committee Meeting
DESCRIPTION:Special Committee Meeting WHWCNC_3:3:2026 \nMINUTES – HSJA Committee Meeting WHWCNC_01:27:2026 \nMINUTES – Special Committee Meeting WHWCNC_02-11-2026
URL:https://whcouncil.org/event/special-homeless-social-justice-advocacy-committee-meeting-2/
LOCATION:Platt Library\, 23600 Victory Boulevard\, \, Woodland Hills\, CA\, 91367\, United States
CATEGORIES:Homeless & Social Justice
GEO:34.1862321;-118.6413591
X-APPLE-STRUCTURED-LOCATION;VALUE=URI;X-ADDRESS=Platt Library 23600 Victory Boulevard  Woodland Hills CA 91367 United States;X-APPLE-RADIUS=500;X-TITLE=23600 Victory Boulevard\,:geo:-118.6413591,34.1862321
END:VEVENT
BEGIN:VEVENT
DTSTART;TZID=America/Los_Angeles:20260305T183000
DTEND;TZID=America/Los_Angeles:20260305T210000
DTSTAMP:20260423T145339
CREATED:20260301T182651Z
LAST-MODIFIED:20260301T182651Z
UID:10001602-1772735400-1772744400@whcouncil.org
SUMMARY:Planning\, Land Use and Mobility Committee Meeting
DESCRIPTION:  \n\n\n\n\n\n\n\n\n\n\n\n\n\n\n\n\n\n\n\n\n\n\n\n\n\n\n\n\n\n\n\n\n\n  \n  \nCommittee Members:                                                                           \nJoyce Fletcher\, Co-Chair \nMarty Lipkin\, Co-Chair                                              \nKaren Koe                                                                                             \nHenry Rice                                                                     \nBobbie Wasserman \nAugust Steurer \nMatt Richman      \nAGENDA \n(PLUM) Planning\, Land Use\, and Mobility Committee  \nThursday\, March 5\, 2026 \n6:30 pm to 9:00pm \nLA Fire Station 84 \n21050 Burbank Blvd. Woodland Hills CA 91367 \nIn the Community Room \nFree parking across the street. \n  \nSi requiere servicios de traducción\, favor de avisar al Concejo Vecinal 3 días de trabajo (72 horas) antes del evento. Por favor contacte a Secretary\,Joyce Fletcher de la Mesa Directiva\, j.fletcher@whcouncil.org o por correo electrónico avisar al Concejo Vecinal. \nTwo Minute Public comment on other matters not appearing on the agenda: that are within the Committee’s jurisdiction will beheardduringtheGeneralPublicComment period. Please note that under the Brown Act\, the Committee is prevented from acting on a matter that you bring to its attention during the General Public Comment period; however\, the issue raised by a member of the public may become the subject of a future Committee meeting. \nPublic comment on agenda items is limited to two (2) minutes per speaker\, unless adjusted by the presiding officer of the Committee. \n\nI. CALL TO ORDER:\n\n            COMMITTEE ROLL CALL – Members: Marty Lipkin\, Co-Chair\, Joyce Fletcher\, Co-            Chair\, August Steurer\, Karen Koe. Henry Rice\, Matt Richman\, Bobbie Wasserman\, \n\nII. APPROVAL OF MINUTES: February 19\, 2026\n\nIII.       General Public Comment on Items on the Agenda – Comments from the public on agenda items that are listed below. Each speaker will be allowed a two (2) minute comment on each agenda item. \n\nI AGENDA ITEMS\n\nFor discussion and possible action: \n\n Presentation by the applicant.\n\n            CVS Pharmacy – Case Number ZA–2025–5123–CUB\, 22968 Victory   Blvd. 91367    Renewal request application for the continued sale of a full line of     alcoholic beverages    for offsite consumption at this location. The site has been continuously operated since             2001 and there are no proposed changes to the existing operations. Bruce Evans\, representative of project applicant Garfield Beach CVS\, LLC. and Genevieve Smith \nMarty Lipkin \n          \n\n Case Report and Motion\n\n            Verizon Wireless – Case ZA-2025-5184-CUW – Proposed rooftop wireless facility       at 6200 Canoga Avenue in Woodland Hills. \nThis project features a seamless rooftop installation designed to integrate fully into the existing building architecture\, ensuring that no equipment will be visible from \nany adjacent vantage points. Jeremy Siegel\, Applicant Representative for Verizon Wireless \nMatt Richman            \n             \n       3. Update related to the proposed development of the Woodland Hills Country Club. \n          \n\nNotice of Proposed Demolitions in Woodland Hills.\n\n                        NEW Demolitions: \n             \n                        23143 Dolorosa St.     Application # 26019-20000-00576/B26VN04016 \nContact: Barbara Paderni 818- 205-8201 \n  \n23035 Calvert St.      Application # 26019-20000-00443/B26VN03083 \nContact: Mariam Sanchez 818-285-9596 \n  \n\nNotice of proposed demolition at: 23475 Long Valley Road – Proposed Cemetery\n\nDemolition pre-inspection application number: 25019-20000-03800 & 02/B25VN30152 \n  \n\nNotice of proposed demolition at: 22045 Clarendon\n\nDemolition pre-inspection application No: 25019-20000-03550/ BN25VN28003 \n  \n\n22044 Crespi Street – 25019-20000-03882/B25VN30867\n\n  \n\n21010 Vanowen Street – 25019-20000-03908/B25VN31051 – Apartment Building\n\n  \n\n5800 Winnetka Avenue – 25019-20000-3992/B25VN31889\n\n  \n\n23236 Hatteras Street – 25019-20000-04143/B25VN33129\n\n  \n\n6227 Glide Ave-25019-20000-04539/B25VN36326\n\n  \n\n      23110 Erwin Street-25019-20000-04583/B25VN36845\n\n  \n\n22820 Califa Street-25019-20000-04326/B25VN34484\n\n  \n\n5718 Winnetka – Application: 25019-04649/B25VN37381\n\nContact – Name: Milad Kazemi\, (818) 874-3047                              New \n  \n\n      New Business – to be discussed and possibly placed on a future committee meeting.\n\n  \n. \nADJOURNMENT \nThe PLUM Committee meets on the 1st and 3rd Thursday of each month. However please go to the Council website: whcouncil.org and click on the calendar page to verify the date\, time and location of the meeting and find a copy of the agenda. \nAs a covered entity under Title II of the Americans with Disabilities Act\, the City of Los Angeles does not discriminate based on disability and upon request will provide reasonable accommodation to ensure equal access to its programs\, services\, and activities. Sign language interpreters\, assistive listening devices\, or other auxiliary aids and/or services may be provided upon request. To ensure availability of services\, please make your request at least 3 business days (72 hours) prior to the meeting by contacting the Department of Neighborhood Empowerment by calling (213) 978-1551 or email: NCsupport@lacity.org \n  \nPublic Posting of Agendas \nWoodland Hills Warner Center Neighborhood Council agendas are posted for public review as follows: \nLos Angeles Fire Department Station 84\, 21050 Burbank Blvd.\, Woodland Hills\, CA 91367 \nIn a plastic box attached to the front window of the Fire Station next to the front door. \nYou can also receive our agendas via email by subscribing to L.A. City’s Early Notification System (ENS) \n  \nNotice to Paid Representatives \nIf you are compensated to monitor\, attend\, or speak at this meeting\, City law may require you to register as a lobbyist and report your activity. See Los Angeles Municipal Code Section 48.01 et seq. More information is available at ethics.lacity.org/lobbying. For assistance\, please contact the Ethics Commission at (213) 978-1960 or ethics.commission@lacity.org \n  \nPublic Access to Records \nIn compliance with Government Code section 54957.5\, non-exempt writings that are distributed to a majority or all of the board in advance of a meeting may be viewed at our website: www.whcouncil.org or at the scheduled meeting. In addition\, if you would like a copy of any record related to an item on the agenda\, please get in touch with Secretary Joyce Fletcher by email to j.fletcher@whcouncil.org \n  \nReconsideration and Grievance Process \nFor information on the NC’s process for board action reconsideration\, stakeholder grievance policy\, or any other procedural matters related to this Council\, please consult the NC Bylaws. The Bylaws are available at our Board meetings and at our website. \n 
URL:https://whcouncil.org/event/planning-land-use-and-mobility-committee-meeting-2/
LOCATION:LAFD Fire Station 84\, 21050 Burbank Blvd.\, Woodland Hills\, CA\, 91367\, United States
CATEGORIES:PLUM
GEO:34.1729585;-118.5915767
X-APPLE-STRUCTURED-LOCATION;VALUE=URI;X-ADDRESS=LAFD Fire Station 84 21050 Burbank Blvd. Woodland Hills CA 91367 United States;X-APPLE-RADIUS=500;X-TITLE=21050 Burbank Blvd.:geo:-118.5915767,34.1729585
END:VEVENT
BEGIN:VEVENT
DTSTART;TZID=America/Los_Angeles:20260307T130000
DTEND;TZID=America/Los_Angeles:20260307T140000
DTSTAMP:20260423T145339
CREATED:20260306T194941Z
LAST-MODIFIED:20260307T090914Z
UID:10001603-1772888400-1772892000@whcouncil.org
SUMMARY:WHWCNC WHIP Cmte Special Mtg 3-7-26
DESCRIPTION:Agenda
URL:https://whcouncil.org/event/whwcnc-governance-cmte-special-mtg-3-7-26/
LOCATION:CA
CATEGORIES:WHIP
END:VEVENT
END:VCALENDAR