BEGIN:VCALENDAR
VERSION:2.0
PRODID:-//Woodland Hills Warner - Center Neighborhood Council | Your most local part of CIty Government - ECPv6.15.20//NONSGML v1.0//EN
CALSCALE:GREGORIAN
METHOD:PUBLISH
X-ORIGINAL-URL:https://whcouncil.org
X-WR-CALDESC:Events for Woodland Hills Warner - Center Neighborhood Council | Your most local part of CIty Government
REFRESH-INTERVAL;VALUE=DURATION:PT1H
X-Robots-Tag:noindex
X-PUBLISHED-TTL:PT1H
BEGIN:VTIMEZONE
TZID:America/Los_Angeles
BEGIN:DAYLIGHT
TZOFFSETFROM:-0800
TZOFFSETTO:-0700
TZNAME:PDT
DTSTART:20250309T100000
END:DAYLIGHT
BEGIN:STANDARD
TZOFFSETFROM:-0700
TZOFFSETTO:-0800
TZNAME:PST
DTSTART:20251102T090000
END:STANDARD
BEGIN:DAYLIGHT
TZOFFSETFROM:-0800
TZOFFSETTO:-0700
TZNAME:PDT
DTSTART:20260308T100000
END:DAYLIGHT
BEGIN:STANDARD
TZOFFSETFROM:-0700
TZOFFSETTO:-0800
TZNAME:PST
DTSTART:20261101T090000
END:STANDARD
BEGIN:DAYLIGHT
TZOFFSETFROM:-0800
TZOFFSETTO:-0700
TZNAME:PDT
DTSTART:20270314T100000
END:DAYLIGHT
BEGIN:STANDARD
TZOFFSETFROM:-0700
TZOFFSETTO:-0800
TZNAME:PST
DTSTART:20271107T090000
END:STANDARD
END:VTIMEZONE
BEGIN:VEVENT
DTSTART;TZID=America/Los_Angeles:20260216T183000
DTEND;TZID=America/Los_Angeles:20260216T203000
DTSTAMP:20260423T212226
CREATED:20260213T192207Z
LAST-MODIFIED:20260216T181406Z
UID:10001590-1771266600-1771273800@whcouncil.org
SUMMARY:Canceled-Community Services Meeting At The Capitol One Cafe
DESCRIPTION:Community Services Committee\nMembers\nJoyce Fletcher\, Chair\nKaren Di Biase\nKate Kennedy\nJulian Tu\nCITY OF LOS ANGELES\nCALIFORNIA\nWOODLAND HILLS\nWARNER CENTER\nNEIGHBORHOOD\nCOUNCIL \nCANCELLED\nCommunity Services Committee \nMeeting Agenda\nMonday\, Feb. 16\, 2026\n6:30 pm to 8:30pm\nLocated at Capital One Café\nIn the Meeting Room\nInside the Westfield Topanga Mall\nDownstairs Near Nordstrom\nSi requiere servicios de traducción\, favor de avisar al Concejo Vecinal 3 días de trabajo (72 horas) antes\ndel evento. Por favor contacte a Joyce Fletcher de la Mesa Directiva\, j.fletcher@whcouncil.org o por\ncorreo electrónico avisar al Concejo Vecinal.\nGENERAL PUBLIC COMMENT ON ITEMS NOT ON THE AGENDA – Comments from the public\non other matters not appearing on the agenda that are within the Board’s jurisdiction will be heard during\nthe General Public Comment period. Please note that under the Brown Act\, the Board is prevented from\nacting on a matter that you bring to its attention during the General Public Comment period; however\, the\nissue raised by a member of the public may become the subject of a future Board meeting. Public comment\nis limited to two (2) minutes per speaker\, unless adjusted by the presiding officer of the Board.\nI. CALL TO ORDER AND COMMITTEE ROLL CALL\nMembers: Joyce Fletcher-Chair\, Karen DiBiase\, Kate Kennedy\, Julian Tu\nII. APPROVAL OF MINUTES – February 2\, 2025\nIII. PUBLIC COMMENT ON ITEMS ON THE AGENDA – Comments will be heard when the\nagenda item is called by the Chair of the committee.\nEach speaker will also be allowed a two (2) minute comment on each agenda item.\nEmpowerLA\nEmail: NCsupport@lacity.org\nWebsite:whcouncil.org\nIV. AGENDA ITEMS\nFor discussion and possible action:\n1. Discussion of Community Impact Statements and Recommendations for City Council.\nA list of possible CIS options will be provided to the committee.\n2. Committee Budget requests by the end of fiscal year June 30\, 2026\n3. Committee Plans and requests for 2026/2027.\n4. New Business – to be discussed at the next committee meeting.\nADJOURNMENT\nAs a covered entity under Title II of the Americans with Disabilities Act\, the City of Los Angeles\ndoes not discriminate on the basis of disability and upon request will provide reasonable\naccommodation to ensure equal access to its programs\, services\, and activities. Sign language\ninterpreters\, assistive listening devices\, or other auxiliary aids and/or services may be provided upon\nrequest. To ensure availability of services\, please make your request at least 3 business days (72\nhours) prior to the meeting by contacting the Department of Neighborhood Empowerment by calling\n(213) 978-1551 or email: NCsupport@lacity.org\nPublic Posting of Agendas\nThe Community Services Committee meets on the 1st and 3rd Monday of each month. However\,\nvisit our website calendar page at whcouncil.org\, to review all committee meeting dates\, as the\ndate may change. Neighborhood Council agendas are posted for public review as follows:\nFire Station 84 front window located at 21050 Burbank Blvd. Woodland Hills CA 91367\nOn the Woodland Hills-Warner Center Neighborhood Council website at calendar page at\nwww.whcouncil.org You can also receive our agendas via email by subscribing to L.A. City’s Early\nNotification System (ENS)\nNotice to Paid Representatives\nIf you are compensated to monitor\, attend\, or speak at this meeting\, City law may require you to register\nas a lobbyist and report your activity. See Los Angeles Municipal Code Section 48.01 et seq.\nMore information is available at ethics.lacity.org/lobbying. For assistance\, please contact the\nEthics Commission at (213) 978-1960 or ethics.commission@lacity.org\nPublic Access of Records\nIn compliance with Government Code section 54957.5\, non-exempt writings that are distributed to a majority or all the\nboard in advance of a meeting may be viewed at our website: www.whcouncil.org or\nat the scheduled meeting. In addition\, if you would like a copy of any record related to an item on the agenda\, please get\nin touch with Secretary Joyce Fletcher by email to j.fletcher@whcouncil.org\nReconsideration and Grievance Process\nFor information on the NC’s process for board action reconsideration\, stakeholder grievance policy\, or any other\nprocedural matters related to this Council\, please consult the NC Bylaws. The Bylaws are available at our Board meetings\nand our website www.whcouncil.org.
URL:https://whcouncil.org/event/community-services-meeting-3/
LOCATION:Community Room\, Capital One Cafe\, 6600 CA-27 Suite 1038 Suite 103\, Canoga Park\, CA\, 91303\, United States
CATEGORIES:Community Services
GEO:34.1900362;-118.6035049
X-APPLE-STRUCTURED-LOCATION;VALUE=URI;X-ADDRESS=Community Room Capital One Cafe 6600 CA-27 Suite 1038 Suite 103 Canoga Park CA 91303 United States;X-APPLE-RADIUS=500;X-TITLE=6600 CA-27 Suite 1038 Suite 103:geo:-118.6035049,34.1900362
END:VEVENT
BEGIN:VEVENT
DTSTART;TZID=America/Los_Angeles:20260217T183000
DTEND;TZID=America/Los_Angeles:20260217T213000
DTSTAMP:20260423T212226
CREATED:20260214T220117Z
LAST-MODIFIED:20260225T233046Z
UID:10001593-1771353000-1771363800@whcouncil.org
SUMMARY:CANCELED: Special Full Board Meeting on Zoom
DESCRIPTION:The meeting is cancelled.\nCancelled Board Agenda\n        \n                                    \n                        \n                            \n\n\n\nTreasurer’s Report  (MER)\n        \n                                    \n                        \n                            \n\n\nSupplemental Documents
URL:https://whcouncil.org/event/special-full-board-meeting-on-zoom/
LOCATION:ZOOM\, NONE\, NONE\, CA\, NONE\, United States
CATEGORIES:Council Meetings,Full Council
GEO:37.0982847;-122.0979399
X-APPLE-STRUCTURED-LOCATION;VALUE=URI;X-ADDRESS=ZOOM NONE NONE CA NONE United States;X-APPLE-RADIUS=500;X-TITLE=NONE:geo:-122.0979399,37.0982847
END:VEVENT
BEGIN:VEVENT
DTSTART;TZID=America/Los_Angeles:20260218T123000
DTEND;TZID=America/Los_Angeles:20260218T133000
DTSTAMP:20260423T212226
CREATED:20260213T223519Z
LAST-MODIFIED:20260215T020320Z
UID:10001591-1771417800-1771421400@whcouncil.org
SUMMARY:WHWCNC PUBLIC SAFETY CMTEE 2025-02-18
DESCRIPTION:PublicSafety_2026-02-18
URL:https://whcouncil.org/event/whwcnc-public-safety-cmtee-2025-02-18/
LOCATION:CA
CATEGORIES:Public Safety
END:VEVENT
BEGIN:VEVENT
DTSTART;TZID=America/Los_Angeles:20260219T183000
DTEND;TZID=America/Los_Angeles:20260219T213000
DTSTAMP:20260423T212226
CREATED:20260216T183534Z
LAST-MODIFIED:20260216T183637Z
UID:10001594-1771525800-1771536600@whcouncil.org
SUMMARY:Plum Committee Meeting
DESCRIPTION:  \n\n\n\n\n\n\n\n\n\n\n\n\n\n\n\n\n\n\n\n\n\n\n\n\n\n\n\n\n\n\n\n\n\n  \n  \n  \nCommittee Members: \nJoyce Fletcher\, Co-Chair \nMarty Lipkin\, Co-Chair                                              Woodland Hills-Warner Center \nKaren Koe                                                                                              Neighborhood Council \nHenry Rice \nBobbie Wasserman \nAugust Steurer \nMarr Richman \nAGENDA \n(PLUM) Planning\, Land Use\, and Mobility Committee  \nThursday\, February 19\, 2026 \n6:30 pm to 9:00pm \nLA Fire Station 84 \n21050 Burbank Blvd. Woodland Hills CA 91367 \nIn the Community Room \nFree parking across the street. \n—————————————————————————————————————— \nSi requiere servicios de traducción\, favor de avisar al Concejo Vecinal 3 días de trabajo (72 horas) antes del evento. Por favor contacte a Secretary\,Joyce Fletcher de la Mesa Directiva\, j.fletcher@whcouncil.org o por correo electrónico avisar al Concejo Vecinal. \nPublic comment on other matters not appearing on the agenda: that are within the Board’s jurisdiction will beheardduringtheGeneralPublicComment period. Please note that under the Brown Act\, the Committee is prevented from acting on a matter that you bring to its attention during the General Public Comment period; however\, the issue raised by a member of the public may become the subject of a future Committee meeting. \nPublic comment on agenda items is limited to two (2) minutes per speaker\, unless adjusted by the presiding officer of the Committee. \n\nI. CALL TO ORDER:\n\n            COMMITTEE ROLL CALL – Members: Marty Lipkin\, Co-Chair\, Joyce Fletcher\, Co-            Chair\, August Steurer\, Karen Koe. Henry Rice\, Matt Richman\, Bobbie Wasserman\, \n\nII. APPROVAL OF MINUTES: February 5\, 2026\n\nIII.       General Public Comment on Items on the Agenda – Comments from the public on agenda items that are listed below. Each speaker will be allowed a two (2) minute comment on each agenda item. \n\nI AGENDA ITEMS\n\nFor discussion and possible action: \n\nCase report and Motion\n\nMeta Development\, the owners of 21300 Oxnard Street\, have submitted an application   for a Parcel Map\, assigned City Planning Case Numbers AA-2026-140-PM and ENV- 2026-141-CE. The Parcel Map is proposed to put each of the multi-family buildings   currently under construction\, on their own ground lots.              Joyce Fletcher \n  \n\n 2. Wisteria at Warner Center\, 5490\, 5500\, 5600  Canoga Blvd. (Signage)\n\nFormer City Planning request for NC approval of Project Permit Compliance for Vertical             Signage at Wisteria per the Warner Center Sign District. However\, Planning has asked     the applicant to file a case as a Director’s Interpretation\, terminating the Project Compliance case. The Director’s Interpretation will memorialize an administrative     interpretation relative to the Sign Ordinance which permits the type of signage proposed             which is identification signage located at the top/on the parapet of a mid-rise building permitted with a simple sign-off. \nRepresentative: Sarah Golden                                                Bobbie Wasserman \n  \n\n3. Case Number: ZA-2025-6934-MCUP (Wisteria at Warner Center)\n\n            Case Filed On: 12/16/2025       City Staff Assigned: IRIS WAN  \n            Request for MCUP to allow the sale and dispensing of a full line of alcoholic      beverages for both on-site consumption within a proposed mixed-use development      senior living facility and commercial uses. \nApplicant: Warren Spieker III [Company: Wisteria Warner Center (CCR\, LLC] \nRepresentative: Sarah Golden                                                Bobbie Wasserman \n  \n\n Verizon Wireless – Case ZA-2025-5184-CUW – Proposed rooftop wireless facility at 6200 Canoga Avenue in Woodland Hills.\n\nThis project features a seamless rooftop installation designed to integrate fully into                       the existing building architecture\, ensuring that no equipment will be visible from       any      adjacent vantage points. Jeremy Siegel\, Applicant Representative for Verizon Wireless                                                                                                                     Matt Richman            \n  \n\n5. CVS Pharmacy – Case Number ZA–2025–5123–CUB\, 22968 Victory   91367 Renewal request application for the continued sale of a full line of     alcoholic beverages    for offsite consumption at this location. The site has been continuously operated since             2001 and there are no proposed changes to the existing operations. Bruce Evans\, representative of project applicant Garfield Beach CVS\, LLC. and Genevieve Smith\n\nAugust Steurer \n          \n\nRecap:\n\n            Walnut Acres Lot Split Hearing- Feb\, 12th  – 4:30pm Van Nuys City Hall \n                                                                                    Marty Lipkin and Henry Rice \n  \n  \n  \n  \n\nNotice of Proposed Demolitions in Woodland Hills.\n\n  \n\nNotice of proposed demolition at: 23475 Long Valley Road – Proposed Cemetery\n\nDemolition pre-inspection application number: 25019-20000-03800 & 02/B25VN30152 \n  \n\nNotice of proposed demolition at: 22045 Clarendon\n\nDemolition pre-inspection application No: 25019-20000-03550/ BN25VN28003 \n  \n\n22044 Crespi Street – 25019-20000-03882/B25VN30867\n\n  \n\n21010 Vanowen Street – 25019-20000-03908/B25VN31051 – Apartment Building\n\nBobbie Wasserman \n  \n\n5800 Winnetka Avenue – 25019-20000-3992/B25VN31889\n\n  \n\n23236 Hatteras Street – 25019-20000-04143/B25VN33129\n\n  \n\n6227 Glide Ave-25019-20000-04539/B25VN36326\n\n  \n\n      23110 Erwin Street-25019-20000-04583/B25VN36845\n\n  \n\n22820 Califa Street-25019-20000-04326/B25VN34484\n\n  \n\n5718 Winnetka – Application: 25019-04649/B25VN37381\n\nContact – Name: Milad Kazemi\, (818) 874-3047                              New \n  \n\n      New Business – to be discussed and possibly placed on a future committee meeting.\n\n  \n. \nADJOURNMENT \nThe PLUM Committee meets on the 1st and 3rd Thursday of each month. However please go to the Council website: whcouncil.org and click on the calendar page to verify the date\, time and location of the meeting and find a copy of the agenda. \nAs a covered entity under Title II of the Americans with Disabilities Act\, the City of Los Angeles does not discriminate based on disability and upon request will provide reasonable accommodation to ensure equal access to its programs\, services\, and activities. Sign language interpreters\, assistive listening devices\, or other auxiliary aids and/or services may be provided upon request. To ensure availability of services\, please make your request at least 3 business days (72 hours) prior to the meeting by contacting the Department of Neighborhood Empowerment by calling (213) 978-1551 or email: NCsupport@lacity.org \n  \nPublic Posting of Agendas \nWoodland Hills Warner Center Neighborhood Council agendas are posted for public review as follows: \nLos Angeles Fire Department Station 84\, 21050 Burbank Blvd.\, Woodland Hills\, CA 91367 \nIn a plastic box attached to the front window of the Fire Station next to the front door. \nYou can also receive our agendas via email by subscribing to L.A. City’s Early Notification System (ENS) \n  \nNotice to Paid Representatives \nIf you are compensated to monitor\, attend\, or speak at this meeting\, City law may require you to register as a lobbyist and report your activity. See Los Angeles Municipal Code Section 48.01 et seq. More information is available at ethics.lacity.org/lobbying. For assistance\, please contact the Ethics Commission at (213) 978-1960 or ethics.commission@lacity.org \n  \nPublic Access to Records \nIn compliance with Government Code section 54957.5\, non-exempt writings that are distributed to a majority or all of the board in advance of a meeting may be viewed at our website: www.whcouncil.org or at the scheduled meeting. In addition\, if you would like a copy of any record related to an item on the agenda\, please get in touch with Secretary Joyce Fletcher by email to j.fletcher@whcouncil.org \n  \nReconsideration and Grievance Process \nFor information on the NC’s process for board action reconsideration\, stakeholder grievance policy\, or any other procedural matters related to this Council\, please consult the NC Bylaws. The Bylaws are available at our Board meetings and at our website. \n 
URL:https://whcouncil.org/event/plum-committee-meeting-9/
LOCATION:LAFD Fire Station 84\, 21050 Burbank Blvd.\, Woodland Hills\, CA\, 91367\, United States
CATEGORIES:PLUM
GEO:34.1729585;-118.5915767
X-APPLE-STRUCTURED-LOCATION;VALUE=URI;X-ADDRESS=LAFD Fire Station 84 21050 Burbank Blvd. Woodland Hills CA 91367 United States;X-APPLE-RADIUS=500;X-TITLE=21050 Burbank Blvd.:geo:-118.5915767,34.1729585
END:VEVENT
END:VCALENDAR