BEGIN:VCALENDAR
VERSION:2.0
PRODID:-//Woodland Hills Warner - Center Neighborhood Council | Your most local part of CIty Government - ECPv6.15.20//NONSGML v1.0//EN
CALSCALE:GREGORIAN
METHOD:PUBLISH
X-WR-CALNAME:Woodland Hills Warner - Center Neighborhood Council | Your most local part of CIty Government
X-ORIGINAL-URL:https://whcouncil.org
X-WR-CALDESC:Events for Woodland Hills Warner - Center Neighborhood Council | Your most local part of CIty Government
REFRESH-INTERVAL;VALUE=DURATION:PT1H
X-Robots-Tag:noindex
X-PUBLISHED-TTL:PT1H
BEGIN:VTIMEZONE
TZID:America/Los_Angeles
BEGIN:DAYLIGHT
TZOFFSETFROM:-0800
TZOFFSETTO:-0700
TZNAME:PDT
DTSTART:20250309T100000
END:DAYLIGHT
BEGIN:STANDARD
TZOFFSETFROM:-0700
TZOFFSETTO:-0800
TZNAME:PST
DTSTART:20251102T090000
END:STANDARD
BEGIN:DAYLIGHT
TZOFFSETFROM:-0800
TZOFFSETTO:-0700
TZNAME:PDT
DTSTART:20260308T100000
END:DAYLIGHT
BEGIN:STANDARD
TZOFFSETFROM:-0700
TZOFFSETTO:-0800
TZNAME:PST
DTSTART:20261101T090000
END:STANDARD
BEGIN:DAYLIGHT
TZOFFSETFROM:-0800
TZOFFSETTO:-0700
TZNAME:PDT
DTSTART:20270314T100000
END:DAYLIGHT
BEGIN:STANDARD
TZOFFSETFROM:-0700
TZOFFSETTO:-0800
TZNAME:PST
DTSTART:20271107T090000
END:STANDARD
END:VTIMEZONE
BEGIN:VEVENT
DTSTART;TZID=America/Los_Angeles:20260202T183000
DTEND;TZID=America/Los_Angeles:20260202T203000
DTSTAMP:20260423T162815
CREATED:20260129T221345Z
LAST-MODIFIED:20260129T221345Z
UID:10001585-1770057000-1770064200@whcouncil.org
SUMMARY:Community Services Committee Meeting
DESCRIPTION:  \n  \nCommunity Services Committee Members \nJoyce Fletcher\, Chair Karen Di Biase Kate Kennedy \nJulian Tu\, Susan Roberts \n  \n\n\n\n\n\n\n\n\n\n\n\n  \nWOODLAND HILLS WARNER CENTER NEIGHBORHOOD COUNCIL \nCommunity Services Committee Meeting Agenda \nClick for Agenda \nMonday\, Feb. 2\, 2026\n6:30 pm to 8:30pm\n  \nLocated at Capital One Café \nIn the Meeting Room \nInside the Westfield Topanga Mall \nDownstairs Near Nordstrom \n  \n  \n\n\n\n\n\n\n\n\n\n\n\n  \n\n\n\n\n\n\n\n\n\n\n\n  \nSi requiere servicios de traducción\, favor de avisar al Concejo Vecinal 3 días de trabajo (72 horas) antes del evento. Por favor contacte a Joyce Fletcher de la Mesa Directiva\, j.fletcher@whcouncil.org o por correo electrónico avisar al Concejo Vecinal. \n  \nGENERAL PUBLIC COMMENT ON ITEMS NOT ON THE AGENDA – Comments from the public on other matters not appearing on the agenda that are within the Board’s jurisdiction will be heard during the General Public Comment period. Please note that under the Brown Act\, the Board is prevented from acting on a matter that you bring to its attention during the General Public Comment period; however\, the issue raised by a member of the public may become the subject of a future Board meeting. Public comment is limited to two (2) minutes per speaker\, unless adjusted by the presiding officer of the Board. \nI.               CALL TO ORDER AND COMMITTEE ROLL CALL\nMembers: Joyce Fletcher-Chair\, Karen DiBiase\, Kate Kennedy\, Julian Tu\, Susan Roberts \n  \nII.               APPROVAL OF MINUTES – January 19\, 2025\n\n\nPUBLIC COMMENT ON ITEMS ON THE AGENDA – Comments will be heard when the agenda item is called by the Chair of the committee.\n\nEach speaker will also be allowed a two (2) minute comment on each agenda item. \n  \nIV.            AGENDA ITEMS\nFor discussion and possible action: \n  \n\nDiscussion of Community Impact Statements and Recommendations for City Council.\n\nThe Committee will submit (2) CIS for the following Council Files. \nKate and Karen. \n  \nCD3 – Council File 25-0434 – Solar Powered Lights / Purchase and Installation – Orange Line- \nBike Path – Karen DiBiase \n  \nCD3 – Council File – 26-0043 – Drones – Small Unmanned Aircraft Systems (SUAS) / AB1290) \nPolice Department Fund / Topanga – Kate Kennedy \n  \n\nDiscussion of NC Community Services participation at the following Events:\n\nSaturday\, May 2\, 2026 – Asian Pacific Islander Cultural Festival at Pierce College 10am-3pm \n  \n\nCommittee Budget requests by the end of fiscal year June 30\, 2026\n\n  \n\nUpdate for damaged NC Banners on Ventura Blvd. Motion for Board decision.\n\n  \n\nCommittee Plans for 2026/2027.\n\n  \n\nNew Business – to be discussed at the next committee meeting.\n\n  \n  ADJOURNMENT\nAs a covered entity under Title II of the Americans with Disabilities Act\, the City of Los Angeles does not discriminate on the basis of disability and upon request will provide reasonable accommodation to ensure equal access to its programs\, services\, and activities. Sign language interpreters\, assistive listening devices\, or other auxiliary aids and/or services may be provided upon request. To ensure availability of services\, please make your request at least 3 business days (72 hours) prior to the meeting by contacting the Department of Neighborhood Empowerment by calling (213) 978-1551 or email: NCsupport@lacity.org \nPublic Posting of Agendas  \nThe Community Services Committee meets on the 1st and 3rd Monday of each month. However\, visit our website calendar page at whcouncil.org\, to review all committee meeting dates\, as the date may change. Neighborhood Council agendas are posted for public review as follows: \nFire Station 84 front window located at 21050 Burbank Blvd. Woodland Hills CA 91367 \n  \nOn the Woodland Hills-Warner Center Neighborhood Council website at calendar page at www.whcouncil.org  You can also receive our agendas via email by subscribing to L.A. City’s Early Notification System (ENS) \n  \n  \n  \n  \n  \n  \n  \n  \n  \nNotice to Paid Representatives  \nIf you are compensated to monitor\, attend\, or speak at this meeting\, City law may require you to register \nas a lobbyist and report your activity. See Los Angeles Municipal Code Section 48.01 et seq. \nMore information is available at ethics.lacity.org/lobbying. For assistance\, please contact the \nEthics Commission at (213) 978-1960 or ethics.commission@lacity.org \n  \nPublic Access of Records  \nIn compliance with Government Code section 54957.5\, non-exempt writings that are distributed to a majority or all the board in advance of a meeting may be viewed at our website: www.whcouncil.org or \nat the scheduled meeting. In addition\, if you would like a copy of any record related to an item on the agenda\, please get in touch with Secretary Joyce Fletcher by email to  j.fletcher@whcouncil.org \n  \nReconsideration and Grievance Process  \nFor information on the NC’s process for board action reconsideration\, stakeholder grievance policy\, or any other procedural matters related to this Council\, please consult the NC Bylaws. The Bylaws are available at our Board meetings and our website www.whcouncil.org.
URL:https://whcouncil.org/event/community-services-committee-meeting-11/
LOCATION:Community Room\, Capital One Cafe\, 6600 CA-27 Suite 1038 Suite 103\, Canoga Park\, CA\, 91303\, United States
CATEGORIES:Community Services
GEO:34.1900362;-118.6035049
X-APPLE-STRUCTURED-LOCATION;VALUE=URI;X-ADDRESS=Community Room Capital One Cafe 6600 CA-27 Suite 1038 Suite 103 Canoga Park CA 91303 United States;X-APPLE-RADIUS=500;X-TITLE=6600 CA-27 Suite 1038 Suite 103:geo:-118.6035049,34.1900362
END:VEVENT
BEGIN:VEVENT
DTSTART;TZID=America/Los_Angeles:20260205T183000
DTEND;TZID=America/Los_Angeles:20260205T210000
DTSTAMP:20260423T162815
CREATED:20260202T173918Z
LAST-MODIFIED:20260202T174043Z
UID:10001586-1770316200-1770325200@whcouncil.org
SUMMARY:Plum Committee Meeting Via Zoom
DESCRIPTION:Joyce Fletcher\, Co-Chair\nMarty Lipkin\, Co-Chair Woodland Hills-Warner Center\nKaren Koe Neighborhood Council\nHenry Rice\nBobbie Wasserman\nAugust Steurer\nMarc Schapiro\nMatt Richman\nZoom Meeting – AGENDA \nhttps://whcouncil.org/wp-content/uploads/2026/02/PLUM-Committee-Agenda-Zoom-Meeting-February-5-2026-1.pdf \nPlanning\, Land Use\, and Mobility Committee\nThursday\, February 5\, 6:30 p.m.\nZoom Meeting Online or By Telephone\nJoin Zoom Meeting\nhttps://us02web.zoom.us/j/82950393784\nOr Dial (669) 900-6833 to Join the Meeting\nThen Enter This Webinar ID: 829 5039 3784 and Press #\nSi requiere servicios de traducción\, favor de avisar al Concejo Vecinal 3 días de trabajo (72\nhoras) antes del evento. Por favor contacte Joyce Fletcher\, Secretaria\, al (818) 639-9444 o\npor correo electrónico joyce.fletcher@whcouncil.org para avisar al Concejo Vecinal.\nIN CONFORMITY WITH THE JANUARY 1\, 2026 ENACTMENT OF CALIFORNIA SENATE\nBILL 707 (DURAZO) AND LA CITY COUNCIL FILE 23-1114\, THE_WOODLAND HILLS-\nWARNER CENTER NEIGHBORHOOD COUNCIL MEETING WILL BE CONDUCTED\nVIRTUALLY.\nEvery person wishing to address the Board must dial (669)900-6833 and enter\n829 5039 3784 and then press # to join the meeting. When prompted by the presiding\nofficer\, to provide public input at the Neighborhood Council meeting the public will be\nrequested to dial *9 or use the Raise Hand option\, to address the Board on any agenda\nitem before the Board takes an action on an item. Comments from the public on agenda\nitems will be heard only when the respective item is being considered.\nComments from the public on other matters not appearing on the agenda that are\nwithin the Board’s jurisdiction will be heard during the General Public Comment\nperiod. Please note that under the Brown Act\, the Board is prevented from acting on a\nmatter that you bring to its attention during the General Public Comment period;\nhowever\, the issue raised by a member of the public may become the subject of a\nfuture Board meeting. Public comment is limited to two minutes per speaker\, unless\nadjusted by the presiding officer of the Board.\nIn the event of a disruption that prevents the eligible legislative body from broadcasting the\nmeeting to members of the public using the call-in option or internet-based service option\, or\nin the event of a disruption within the eligible legislative body’s control that prevents members\nof the public from offering public comments using the call-in option or internet-based service\noption\, the eligible legislative body shall take no further action on items appearing on the\nmeeting agenda until public access to the meeting via the call-in option or internet-based\nservice option is restored. Actions taken on agenda items during a disruption that prevents\nthe eligible legislative body from broadcasting the meeting may be challenged pursuant to\nSection 54960.1. California Government Code Section 54953.8(b(3).\nThe legislative body shall not require public comments to be submitted in advance of the\nmeeting and shall provide an opportunity for the public to address the legislative body and\noffer comments in real time. California Government Code Section 54953.8(b)(4).\nNotwithstanding Section 54953.3\, an individual desiring to provide public comment through\nthe use of an internet website\, or other online platform\, not under the control of the eligible\nlegislative body\, that requires registration to log in to a teleconference may be required to\nregister as required by the third-party internet website or online platform to participate.\nCalifornia Government Code Section 54953.8(b(5)\,\nA legislative body that provides a timed public comment period for each agenda item shall\nnot close the public comment period for the agenda item\, or the opportunity to register\,\npursuant to paragraph (5)\, to provide public comment until that timed public comment period\nhas elapsed.\nCalifornia Government Code Section 54953.8(b)(6(A)\,\nA legislative body that does not provide a timed public comment period\, but takes public\ncomment separately on each agenda item\, shall allow a reasonable amount of time per\nagenda item to allow public members the opportunity to provide public comment\, including\ntime for members of the public to register pursuant to paragraph (5)\, or otherwise be\nrecognized for the purpose of providing public comment.\nCalifornia Government Code Section 54953.8(b)(6)(B).\nI. CALL TO ORDER:\nCOMMITTEE ROLL CALL – Members: Marty Lipkin\, Co-Chair\, Joyce Fletcher\, Co-\nChair\, August Steurer\, Karen Koe. Henry Rice\, Matt Richman\, Bobbie Wasserman\,\nMarc Shapiro\nII. APPROVAL OF MINUTES:\nRegular PLUM Meeting – December18\, 2025\nSpecial PLUM Meeting – January 15. 2025\nIII. General Public Comment on Items on the Agenda – Comments from the public on\nagenda items that are within the WHWCNC’s Board jurisdiction and within the\ncommittee’s jurisdiction. Each speaker will be allowed a two (2) minute comment on\neach agenda item.\nIV. AGENDA ITEMS\nFor discussion and possible action:\n1. New Case: Presentation by Representative\, Sarah Golden\nMeta Development\, the owners of 21300 Oxnard Street\, have submitted an application\nfor a Parcel Map\, assigned City Planning Case Numbers AA-2026-140-PM and ENV-\n2026-141-CE. The Parcel Map is proposed to put each of the multi-family buildings\ncurrently under construction\, on their own ground lots. Marc Shapiro\n2. Final Motion and Case Report\n20600 Ventura Blvd. 91364. The Boulevard Apartment Complex.\nThe project was built in 2016. The project has front facing commercial space that the\ndeveloper would like to convert into studio apartments that will be live/work and market\nrate. Change from commercial to residential. Marty Lipkin\n3. Final Motion and Case Report\nNew Verizon Wireless Telecommunications Facility “Archwood” WTF on\nParking Structure at 21725 Victory Blvd. Canoga Park\, Westfield Topanga Mall.\nZA-2025-1291-CUW. Matt Richman and Joyce Fletcher\n4. Update- Old case replaced by NEW Case and will be presented at the February 19th\nPLUM Meeting. Wisteria at Warner Center\, 5490\, 5500\, 5600 N. Canoga Blvd.\nFormer City Planning request for NC approval of Project Permit Compliance for Vertical\nSignage at Wisteria per the Warner Center Sign District. However\, Planning has asked\nthe applicant to file a case as a Director’s Interpretation\, terminating the Project\nCompliance case. The Director’s Interpretation will memorialize an administrative\ninterpretation relative to the Sign Ordinance which permits the type of signage proposed\nwhich is identification signage located at the top/on the parapet of a mid-rise building\npermitted with a simple sign-off.\nThe representative will provide an update and new filing information at the Feb. 19th\nPLUM Meeting. Bobbie Wasserman\n5. Update: Case will be presented at the February 19th PLUM Meeting.\nCase Number: ZA-2025-6934-MCUP (Wisteria)\nCase Filed On: 12/16/2025 City Staff Assigned: IRIS WAN\nRequest for MCUP to allow the sale and dispensing of a full line of alcoholic\nbeverages for both on-site consumption within a proposed mixed-use development\nsenior living facility and commercial uses.\nApplicant: Warren Spieker III [Company: Wisteria Warner Center (CCR\, LLC]\nRepresentative: Sarah Golden Bobbie Wasserman\n6. New Case – Verizon Wireless – Case ZA-2025-5184-CUW – Proposed rooftop\nwireless facility at 6200 Canoga Avenue in Woodland Hills.\nThis project features a seamless rooftop installation designed to integrate fully into\nthe existing building architecture\, ensuring that no equipment will be visible from any\nadjacent vantage points. Feb. 19th PLUM Meeting. Jeremy Siegel\nApplicant Representative for Verizon Wireless\n7. New Case – CVS Pharmacy – Case Number ZA–2025–5123–CUB\, 22968 Victory\nBlvd. 91367 – renewal request application for the continued sale of a full line of\nalcoholic beverages for offsite consumption at this location. The site has been\ncontinuously operated since 2001 and there are no proposed changes to the existing\noperations. Bruce Evans\, Representative of project applicant Garfield Beach CVS\, LLC.\nand Genevieve Smith\n8. Recap:\nJanuary 13th City Planning PLUM Hearing related to Council File 25-1486 and\nproposed project at Woodland Hills Country Club. Joyce Fletcher\nWalnut Acres Lot Split Hearing- Fen\, 12th – 4:30pm Van Nuys City Hall – Henry Rice\n9. Notice of Proposed Demolitions in Woodland Hills.\n1. Notice of proposed demolition at: 23475 Long Valley Road – Proposed Cemetery\nDemolition pre-inspection application number: 25019-20000-03800 & 02/B25VN30152\n2. Notice of proposed demolition at: 22045 Clarendon\nDemolition pre-inspection application No: 25019-20000-03550/ BN25VN28003\nMarc Shapiro\n3. 22044 Crespi Street – 25019-20000-03882/B25VN30867\n4. 21010 Vanowen Street – 25019-20000-03908/B25VN31051 – Apartment Building\nBobbie Wasserman\n5. 5800 Winnetka Avenue – 25019-20000-3992/B25VN31889\n6. 23236 Hatteras Street – 25019-20000-04143/B25VN33129\n7. 6227 Glide Ave-25019-20000-04539/B25VN36326\n8. 23110 Erwin Street-25019-20000-04583/B25VN36845\n9. 22820 Califa Street-25019-20000-04326/B25VN34484\n10. 5718 Winnetka – Application: 25019-04649/B25VN37381\nContact – Name: Milad Kazemi\, (818) 874-3047 New\n10. New Business – to be discussed and possibly placed on a future committee meeting.\n.\nADJOURNMENT\nAs a covered entity under Title II of the Americans with Disabilities Act\, the City of Los\nAngeles does not discriminate based on disability and upon request will provide reasonable\naccommodation to ensure equal access to its programs\, services\, and activities. Sign language\ninterpreters\, assistive listening devices\, or other auxiliary aids and/or services may be provided\nupon request. To ensure availability of services\, please make your request at least 3 business\ndays (72 hours) prior to the meeting by contacting the Department of Neighborhood\nEmpowerment by calling (213) 978-1551 or email: NCsupport@lacity.org\nPublic Posting of Agendas\nWoodland Hills Warner Center Neighborhood Council agendas are posted for public review as\nfollows:\nLos Angeles Fire Department Station 84\, 21050 Burbank Blvd.\, Woodland Hills\, CA 91367\nIn a plastic box attached to the front window of the Fire Station next to the front door.\nYou can also receive our agendas via email by subscribing to L.A. City’s Early Notification\nSystem (ENS)\nNotice to Paid Representatives\nIf you are compensated to monitor\, attend\, or speak at this meeting\, City law may require you to\nregister as a lobbyist and report your activity. See Los Angeles Municipal Code Section 48.01 et\nseq. More information is available at ethics.lacity.org/lobbying. For assistance\, please contact the\nEthics Commission at (213) 978-1960 or ethics.commission@lacity.org\nPublic Access to Records\nIn compliance with Government Code section 54957.5\, non-exempt writings that are distributed\nto a majority or all of the board in advance of a meeting may be viewed at our website:\nwww.whcouncil.org or at the scheduled meeting. In addition\, if you would like a copy of any\nrecord related to an item on the agenda\, please get in touch with Secretary Joyce Fletcher by\nemail to j.fletcher@whcouncil.org\nReconsideration and Grievance Process\nFor information on the NC’s process for board action reconsideration\, stakeholder grievance\npolicy\, or any other procedural matters related to this Council\, please consult the NC Bylaws.\nThe Bylaws are available at our Board meetings and at our website.
URL:https://whcouncil.org/event/plum-committee-meeting-via-zoom-2/
LOCATION:ZOOM\, NONE\, NONE\, CA\, NONE\, United States
CATEGORIES:PLUM
GEO:37.0982847;-122.0979399
X-APPLE-STRUCTURED-LOCATION;VALUE=URI;X-ADDRESS=ZOOM NONE NONE CA NONE United States;X-APPLE-RADIUS=500;X-TITLE=NONE:geo:-122.0979399,37.0982847
END:VEVENT
END:VCALENDAR