BEGIN:VCALENDAR
VERSION:2.0
PRODID:-//Woodland Hills Warner - Center Neighborhood Council | Your most local part of CIty Government - ECPv6.15.20//NONSGML v1.0//EN
CALSCALE:GREGORIAN
METHOD:PUBLISH
X-ORIGINAL-URL:https://whcouncil.org
X-WR-CALDESC:Events for Woodland Hills Warner - Center Neighborhood Council | Your most local part of CIty Government
REFRESH-INTERVAL;VALUE=DURATION:PT1H
X-Robots-Tag:noindex
X-PUBLISHED-TTL:PT1H
BEGIN:VTIMEZONE
TZID:America/Los_Angeles
BEGIN:DAYLIGHT
TZOFFSETFROM:-0800
TZOFFSETTO:-0700
TZNAME:PDT
DTSTART:20250309T100000
END:DAYLIGHT
BEGIN:STANDARD
TZOFFSETFROM:-0700
TZOFFSETTO:-0800
TZNAME:PST
DTSTART:20251102T090000
END:STANDARD
BEGIN:DAYLIGHT
TZOFFSETFROM:-0800
TZOFFSETTO:-0700
TZNAME:PDT
DTSTART:20260308T100000
END:DAYLIGHT
BEGIN:STANDARD
TZOFFSETFROM:-0700
TZOFFSETTO:-0800
TZNAME:PST
DTSTART:20261101T090000
END:STANDARD
BEGIN:DAYLIGHT
TZOFFSETFROM:-0800
TZOFFSETTO:-0700
TZNAME:PDT
DTSTART:20270314T100000
END:DAYLIGHT
BEGIN:STANDARD
TZOFFSETFROM:-0700
TZOFFSETTO:-0800
TZNAME:PST
DTSTART:20271107T090000
END:STANDARD
END:VTIMEZONE
BEGIN:VEVENT
DTSTART;TZID=America/Los_Angeles:20260127T120000
DTEND;TZID=America/Los_Angeles:20260127T140000
DTSTAMP:20260423T194337
CREATED:20260124T041606Z
LAST-MODIFIED:20260124T041915Z
UID:10001583-1769515200-1769522400@whcouncil.org
SUMMARY:Homeless And Social Justice Advocacy Committee Meeting
DESCRIPTION:Homeless & Social Justice Advocacy Committee Meeting\nAgenda\nJanuary 27\, 2026\n12p – 2p\nLocated at the Platt Library – Meeting Room\n23600 Victory Blvd\, Woodland Hills\, CA 91367\nSi requiere servicios de traducción\, favor de avisar al Concejo Vecinal 3 días de trabajo (72 horas) antes\ndel evento. Por favor contacte a Jon Mann de la Mesa Directivo\, j.mann@whcouncil.org o por correo\nelectrónico www.whcouncil.org para avisar al Concejo Vecinal.\nComments from the public on other matters not appearing on the agenda that are within the Committee’s\njurisdiction will be heard during the General Public Comment period. Please note that under the Brown\nAct\, the Committee is prevented from acting on a matter that you bring to its attention during the General\nPublic Comment period; however\, the issue raised by a member of the public may become the subject of\na future Committee or Board meeting. \nAgenda \nClick for Agenda \nPublic comment is limited to 2 minutes per speaker\, unless\nadjusted by the presiding officer of the Board.\nItems for discussion and possible action:\nAll comments are limited to 2 minutes per speaker\, unless adjusted by the presiding chair of the committee. \nClick for Jan 9 Minutes\nI. Call to Order.\nII. Roll call of members\nIII. Public Announcements by city officials and representatives: (2) minutes per speaker.\nIV. Stakeholder Public Comment Period (on items NOT on the agenda): (1) minute per speaker.\nV. Approval of Committee Minutes: (date) Jan 9\, 2025\nRoll call vote\nItems for discussion and possible action:\nCITY OF LOS ANGELES\nWOODLAND HILLS – WARNER\nCENTER NEIGHBORHOOD\nCOUNCIL\n200 N. Spring Street\nLos Angeles\, CA 9001\nEmail: NCsupport@lacity.org\nWebsite: www.empowerla.org\nNeighborhood Council\nGoverning Board\nCommittee Chair: Juliet Schwarz\nCommittee Members:\nReina Cerros McCaughey\nDean Mathew\nAaron M. Quantz\nHarry Sherman\nMelanie Kirschbaum\nStakeholder Public Comment will be taken on each agenda item: (2) minutes per speaker.\nItem No. 1\n(25-HSJA060) The Adult Skills Center – Susan Congdon\nFor discussion and possible action (10 Mins): Discussion regarding TASC and opportunities to collaborate.\nRoll Call Vote\nItem No. 2\n(25-HSJA061) New Friends Homeless Center – Pastor April Belt\nFor discussion and possible action (10 Mins): Discussion around New Friends Homeless Center as potential NPG\nrecipient.\nRoll Call Vote\nItem No. 3\n(25-HSJA062) Rachael’s Bundles of Kindness – Deborah Rosenberg\nFor discussion and possible action (10 Mins): Deborah to introduce Rachael’s Bundles of Kindness to our committee for\npossible NPG consideration and to discuss other potential opportunities to collaborate.\nRoll Call Vote\nItem No. 4\n(25-HSJA063) Follow up on CDI’s Early Learning Center – Juliet Schwarz\nFor discussion and possible action (5 Mins): Discussion regarding tomorrow’s volunteer day at the Children’s\nDevelopment Institute’s Early Learning Center and review current list of volunteers that have signed up.\nRoll Call Vote\nItem No. 5\n(25-HSJA064) Covenant House – Dean Mathew\nFor discussion and possible action (10 Mins): Discussion regarding participating in an outreach event with\nCovenant House. Roll Call Vote\nItem No. 6\n(25-HSJA065) Navigating the City Clerk’s Office – Dean Mathew\nFor discussion and possible action (10 Mins): Dean to share info regarding accessing the City Clerk’s office for\nassistance\, as well as\, current and upcoming new policies.\nRoll Call Vote\nItem No. 7:\nDiscussion on future action items.\nADJOURNMENT:\nThe next meeting will be on February 24\, 2026.\nAs a covered entity under Title II of the Americans with Disabilities Act\, the City of Los\nAngeles does not discriminate based on disability and upon request will provide reasonable\naccommodation to ensure equal access to its programs\, services\, and activities. Sign language\ninterpreters\, assistive listening devices\, or other auxiliary aids and/or services may be provided upon\nrequest. To ensure availability of services\, please make your request at least 3 business days (72\nhours) prior to the meeting by contacting the Department of Neighborhood Empowerment by calling\n(213) 978-1551 or email: NCsupport@lacity.org\nPublic Posting of Agendas – Neighborhood Council agendas are posted for public review as follows:\n• A copy of this agenda is also physically posted on the outside window of the at the front door of\nLAFD Fire Station 84\, located at 21050 Burbank Blvd.\, Woodland Hills\, CA 91367\n• www.whcouncil.org\n• You can also receive our agendas via email by subscribing to L.A. City’s Early Notification System\n(ENS)\nNotice to Paid Representatives –\nIf you are compensated to monitor\, attend\, or speak at this meeting\, City law may require you to register as a\nlobbyist and report your activity. See Los Angeles Municipal Code Section 48.01 et seq. More information is\navailable at ethics.lacity.org/lobbying. For assistance\, please contact the Ethics Commission at (213)\n978-1960 or ethics.commission@lacity.org\nPublic Access of Records –\nIn compliance with Government Code section 54957.5\, non-exempt writings that are distributed to a majority\nor all of the committee in advance of a meeting may be viewed at our website: www.WHCouncil.org or at the\nscheduled meeting. In addition\, if you would like a copy of any record related to an item on the agenda\,\nplease contact the Committee Chair\, Juliet Schwarz at j.schwarz@whcouncil.org\nReconsideration and Grievance Process –\nFor information on the NC’s process for board action reconsideration\, stakeholder grievance policy\, or any other\nprocedural matters related to this Council\, please consult the NC Bylaws.\nThe Bylaws are available at our Board meetings and our website www.WHCouncil.org.
URL:https://whcouncil.org/event/homeless-social-justice-advocacy-committee-meeting-4/
LOCATION:Platt Library\, 23600 Victory Boulevard\, \, Woodland Hills\, CA\, 91367\, United States
CATEGORIES:Homeless & Social Justice
ORGANIZER;CN="Juliet Schwarz":MAILTO:j.schwarz@whcouncil.org
GEO:34.1862321;-118.6413591
X-APPLE-STRUCTURED-LOCATION;VALUE=URI;X-ADDRESS=Platt Library 23600 Victory Boulevard  Woodland Hills CA 91367 United States;X-APPLE-RADIUS=500;X-TITLE=23600 Victory Boulevard\,:geo:-118.6413591,34.1862321
END:VEVENT
BEGIN:VEVENT
DTSTART;TZID=America/Los_Angeles:20260131T090000
DTEND;TZID=America/Los_Angeles:20260131T150000
DTSTAMP:20260423T194337
CREATED:20260128T163933Z
LAST-MODIFIED:20260215T020530Z
UID:10001584-1769850000-1769871600@whcouncil.org
SUMMARY:WHWCNC Special Brd Mtg: Board Retreat 1-31-2026
DESCRIPTION:Agenda
URL:https://whcouncil.org/event/whwcnc-special-brd-mtg-board-retreat-1-31-2026/
LOCATION:Porsche Car Dealer\, 20539 Ventura Blvd\, Woodland Hills\, CA\, 91364
CATEGORIES:Full Council
GEO:34.1680128;-118.5811659
X-APPLE-STRUCTURED-LOCATION;VALUE=URI;X-ADDRESS=Porsche Car Dealer 20539 Ventura Blvd Woodland Hills CA 91364;X-APPLE-RADIUS=500;X-TITLE=20539 Ventura Blvd:geo:-118.5811659,34.1680128
END:VEVENT
END:VCALENDAR