BEGIN:VCALENDAR
VERSION:2.0
PRODID:-//Woodland Hills Warner - Center Neighborhood Council | Your most local part of CIty Government - ECPv6.15.20//NONSGML v1.0//EN
CALSCALE:GREGORIAN
METHOD:PUBLISH
X-WR-CALNAME:Woodland Hills Warner - Center Neighborhood Council | Your most local part of CIty Government
X-ORIGINAL-URL:https://whcouncil.org
X-WR-CALDESC:Events for Woodland Hills Warner - Center Neighborhood Council | Your most local part of CIty Government
REFRESH-INTERVAL;VALUE=DURATION:PT1H
X-Robots-Tag:noindex
X-PUBLISHED-TTL:PT1H
BEGIN:VTIMEZONE
TZID:America/Los_Angeles
BEGIN:DAYLIGHT
TZOFFSETFROM:-0800
TZOFFSETTO:-0700
TZNAME:PDT
DTSTART:20250309T100000
END:DAYLIGHT
BEGIN:STANDARD
TZOFFSETFROM:-0700
TZOFFSETTO:-0800
TZNAME:PST
DTSTART:20251102T090000
END:STANDARD
BEGIN:DAYLIGHT
TZOFFSETFROM:-0800
TZOFFSETTO:-0700
TZNAME:PDT
DTSTART:20260308T100000
END:DAYLIGHT
BEGIN:STANDARD
TZOFFSETFROM:-0700
TZOFFSETTO:-0800
TZNAME:PST
DTSTART:20261101T090000
END:STANDARD
BEGIN:DAYLIGHT
TZOFFSETFROM:-0800
TZOFFSETTO:-0700
TZNAME:PDT
DTSTART:20270314T100000
END:DAYLIGHT
BEGIN:STANDARD
TZOFFSETFROM:-0700
TZOFFSETTO:-0800
TZNAME:PST
DTSTART:20271107T090000
END:STANDARD
END:VTIMEZONE
BEGIN:VEVENT
DTSTART;TZID=America/Los_Angeles:20260105T183000
DTEND;TZID=America/Los_Angeles:20260105T203000
DTSTAMP:20260423T194232
CREATED:20260103T010920Z
LAST-MODIFIED:20260103T010920Z
UID:10001574-1767637800-1767645000@whcouncil.org
SUMMARY:Community Services Committee Meeting
DESCRIPTION:  \n  \nCommunity Services Committee Members \nJoyce Fletcher\, Chair Karen Di Biase Kate Kennedy \nJulian Tu\, Susan Roberts \n  \n\n\n\n\n\n\n\n\n\n\n\n  \nWOODLAND HILLS WARNER CENTER NEIGHBORHOOD COUNCIL \n  \nCommunity Services Committee Meeting Agenda \nClick for Agenda \nMonday\, January 5\, 2026\n6:30 pm to 8:30pm\n  \nLocated at Capital One Café \nIn the Meeting Room \nInside the Westfield Topanga Mall \nDownstairs Near Nordstrom \n\n\n\n\n\n\n\n\n\n\n\n\n\nWebsite: whcouncil.org \n  \n\n\n\n\n\n\n\n\n\n\n\n  \nSi requiere servicios de traducción\, favor de avisar al Concejo Vecinal 3 días de trabajo (72 horas) antes del evento. Por favor contacte a Joyce Fletcher de la Mesa Directiva\, j.fletcher@whcouncil.org o por correo electrónico avisar al Concejo Vecinal. \n  \nGENERAL PUBLIC COMMENT ON ITEMS NOT ON THE AGENDA – Comments from the public on other matters not appearing on the agenda that are within the Board’s jurisdiction will be heard during the General Public Comment period. Please note that under the Brown Act\, the Board is prevented from acting on a matter that you bring to its attention during the General Public Comment period; however\, the issue raised by a member of the public may become the subject of a future Board meeting. Public comment is limited to two (2) minutes per speaker\, unless adjusted by the presiding officer of the Board. \nI.                   CALL TO ORDER AND COMMITTEE ROLL CALL\nMembers: Joyce Fletcher-Chair\, Karen DiBiase\, Kate Kennedy\, Julian Tu\, Susan Roberts \n  \nII.               APPROVAL OF MINUTES – December 1\, 2025\n\n\nPUBLIC COMMENT ON ITEMS ON THE AGENDA – Comments will be heard when the agenda item is called by the Chair of the committee.\n\nEach speaker will also be allowed a two (2) minute comment on each agenda item. \n  \nIV.            AGENDA ITEMS\nFor discussion and possible action: \n  \n\nDiscussion of how to write Community Impact Statements and Recommendations for City Council.\n\n  \n\nDiscussion related to funding to re-permit and maintain WNWCNG pole Banners on Ventura Blvd.\n\nfor 2026-2027. \n  \n\nPlans for a WHWCNC Newsletter – what should be included in the newsletter.\n\n  \n\nPlans for 2026/2027.\n\n  \n\nNew Business – to be discussed at the next committee meeting.\n\n  ADJOURNMENT\nAs a covered entity under Title II of the Americans with Disabilities Act\, the City of Los Angeles does not discriminate on the basis of disability and upon request will provide reasonable accommodation to ensure equal access to its programs\, services\, and activities. Sign language interpreters\, assistive listening devices\, or other auxiliary aids and/or services may be provided upon request. To ensure availability of services\, please make your request at least 3 business days (72 hours) prior to the meeting by contacting the Department of Neighborhood Empowerment by calling (213) 978-1551 or email: NCsupport@lacity.org \nPublic Posting of Agendas  \nThe Community Services Committee meets on the 1st and 3rd Monday of each month. However\, visit our website calendar page at whcouncil.org\, to review all committee meeting dates\, as the date may change. Neighborhood Council agendas are posted for public review as follows: \nFire Station 84 front window located at 21050 Burbank Blvd. Woodland Hills CA 91367. \n  \nOn the Woodland Hills-Warner Center Neighborhood Council website at calendar page at www.whcouncil.org  You can also receive our agendas via email by subscribing to L.A. City’s Early Notification System (ENS) \n  \nNotice to Paid Representatives  \nIf you are compensated to monitor\, attend\, or speak at this meeting\, City law may require you to register \nas a lobbyist and report your activity. See Los Angeles Municipal Code Section 48.01 et seq. \nMore information is available at ethics.lacity.org/lobbying. For assistance\, please contact the \nEthics Commission at (213) 978-1960 or ethics.commission@lacity.org \n  \nPublic Access of Records  \nIn compliance with Government Code section 54957.5\, non-exempt writings that are distributed to a majority or all the board in advance of a meeting may be viewed at our website: www.whcouncil.org or \nat the scheduled meeting. In addition\, if you would like a copy of any record related to an item on the agenda\, please get in touch with Secretary Joyce Fletcher by email to  j.fletcher@whcouncil.org \n  \nReconsideration and Grievance Process  \nFor information on the NC’s process for board action reconsideration\, stakeholder grievance policy\, or any other procedural matters related to this Council\, please consult the NC Bylaws. The Bylaws are available \nat our Board meetings and our website www.whcouncil.org.
URL:https://whcouncil.org/event/community-services-committee-meeting-9/
LOCATION:Community Room\, Capital One Cafe\, 6600 CA-27 Suite 1038 Suite 103\, Canoga Park\, CA\, 91303\, United States
CATEGORIES:Community Services
GEO:34.1900362;-118.6035049
X-APPLE-STRUCTURED-LOCATION;VALUE=URI;X-ADDRESS=Community Room Capital One Cafe 6600 CA-27 Suite 1038 Suite 103 Canoga Park CA 91303 United States;X-APPLE-RADIUS=500;X-TITLE=6600 CA-27 Suite 1038 Suite 103:geo:-118.6035049,34.1900362
END:VEVENT
BEGIN:VEVENT
DTSTART;TZID=America/Los_Angeles:20260108T180000
DTEND;TZID=America/Los_Angeles:20260108T183000
DTSTAMP:20260423T194232
CREATED:20260107T231313Z
LAST-MODIFIED:20260107T231313Z
UID:10001576-1767895200-1767897000@whcouncil.org
SUMMARY:WHWCNC Special Board Meeting 1-8-2026
DESCRIPTION:
URL:https://whcouncil.org/event/whwcnc-special-board-meeting-1-8-2026/
LOCATION:ZOOM\, NONE\, NONE\, CA\, NONE\, United States
CATEGORIES:Full Council
GEO:37.0982847;-122.0979399
X-APPLE-STRUCTURED-LOCATION;VALUE=URI;X-ADDRESS=ZOOM NONE NONE CA NONE United States;X-APPLE-RADIUS=500;X-TITLE=NONE:geo:-122.0979399,37.0982847
END:VEVENT
BEGIN:VEVENT
DTSTART;TZID=America/Los_Angeles:20260109T183000
DTEND;TZID=America/Los_Angeles:20260109T200000
DTSTAMP:20260423T194232
CREATED:20260108T234721Z
LAST-MODIFIED:20260108T235121Z
UID:10001577-1767983400-1767988800@whcouncil.org
SUMMARY:SPECIAL Homeless & Social Justice Advocacy Committee Committee Meeting Via Zoom
DESCRIPTION:SPECIAL Homeless & Social Justice Advocacy Committee Committee Meeting\nAgenda \nClick for Agenda \nJanuary 9\, 2026\n6:30p – 8:00p\nVIRTUAL COMMITTEE MEETING\nZoom Meeting Online or By Telephone\nPlease click the link below to join the webinar:\nhttps://us02web.zoom.us/j/82554801009\nOr Dial (669) 900-6833 to Join the Meeting\nThen Enter This Webinar ID: 825 5480 1009 and Press # \nSi requiere servicios de traducción\, favor de avisar al Concejo Vecinal 3 días de trabajo (72 horas) antes del\nevento. Por favor contacte Joyce Fletcher\, Secretaria\, al 818-639-9444 o por correo electrónico\nwww.whcouncil.org para avisar al Concejo Vecinal.\nIN CONFORMITY WITH THE OCTOBER 6\, 2023 ENACTMENT OF CALIFORNIA SENATE BILL 411\n(PORTANTINO) AND LA CITY COUNCIL APPROVAL ON NOVEMBER 1\, 2023\, THIS WOODLAND HILLS\nWARNER CENTER NEIGHBORHOOD COUNCIL COMMITTEE MEETING WILL BE AVAILABLE VIRTUALLY.\nEvery person wishing to address the Board must enter the meeting via the above Zoom link or dial (669)\n900-6833\, and enter 825 5480 1009 and then press # to join the meeting. When prompted by the presiding\nofficer\, to provide public input at the Homeless & Social Justice Advocacy Committee Meeting of the Woodland\nHills – Warner Center Neighborhood Council meeting the public will be requested to dial *9 by phone or use\nthe Raise Hand option on Zoom\, to address the Board on any agenda item before the Board takes an action\non an item. Comments from the public on agenda items will be heard only when the respective item is being\nconsidered.\nComments from the public on other matters not appearing on the agenda that are within the Committee’s\njurisdiction will be heard during the General Public Comment period. Please note that under the Brown Act\, the\nCommittee is prevented from acting on a matter that you bring to its attention during the General Public\nComment period; however\, the issue raised by a member of the public may become the subject of a future\nCommittee or Board meeting. Public comment is limited to 1 minutes per speaker\, unless adjusted by the\npresiding officer of the Board.\nSB 411 Updates:\nIn the event of a disruption that prevents the Homeless & Social Justice Advocacy Committee from\nbroadcasting the meeting to members of the public using the call-in option or internet-based service option\,\nor in the event of a disruption within the Homeless & Social Justice Advocacy Committee control that\nprevents members of the public from offering public comments using the call-in option or internet-based\nCITY OF LOS ANGELES\nWOODLAND HILLS – WARNER\nCENTER NEIGHBORHOOD\nCOUNCIL \nCommittee Chair: Juliet Schwarz\nCommittee Members:\nReina Cerros McCaughey\nDean Mathew\nAaron M. Quantz\nHarry Sherman\nMelanie Kirschbaum\nservice option\, the Homeless & Social Justice Advocacy Committee shall take no further action on items\nappearing on the meeting agenda until public access to the meeting via the call-in option or internet-based\nservice option is restored. Actions taken on agenda items during a disruption that prevents the Homeless &\nSocial Justice Advocacy Committee from broadcasting the meeting may be challenged pursuant to Section\n54960.1.\nThe Homelessness & Social Justice Advocacy Committee shall not require public comments to be submitted\nin advance of the meeting and shall provide an opportunity for the public to address the Homeless & Social\nJustice Advocacy Committee and offer comments in real time.\nNotwithstanding Section 54953.3\, an individual desiring to provide public comment through the use of an\ninternet website\, or other online platform\, not under the control of the Homeless & Social Justice Advocacy\nCommittee\, that requires registration to log in to a teleconference may be required to register as required by\nthe third-party internet website or online platform to participate.\n(i) If the Homeless & Social Justice Advocacy Committee provides a timed public comment period for\neach agenda item shall not close the public comment period for the agenda item\, or the opportunity to\nregister\, pursuant to subparagraph\, to provide public comment until that timed public comment period has\nelapsed.\n(ii) If the Homeless & Social Justice Advocacy Committee does not provide a timed public comment\nperiod\, but takes public comment separately on each agenda item\, shall allow a reasonable amount of\ntime per agenda item to allow public members the opportunity to provide public comment\, including time\nfor members of the public to register pursuant to subparagraph (D)\, or otherwise be recognized for the\npurpose of providing public comment.\n(iii) If the Homeless & Social Justice Advocacy Committee provides a timed general public comment\nperiod that does not correspond to a specific agenda item shall not close the public comment period or\nthe opportunity to register\, pursuant to subparagraph (D)\, until the timed general public comment period\nhas elapsed.\nItems for discussion and possible action:\nAll comments are limited to 2 minutes per speaker\, unless adjusted by the presiding chair of the committee.\nI. Call to Order.\nII. Roll call of members\nIII. Public Announcements by city officials and representatives: (2) minutes per speaker.\nIV. Stakeholder Public Comment Period (on items NOT on the agenda): (1) minute per speaker.\nV. Approval of Committee Minutes: (date) Dec 2\, 2025\nRoll call vote\nItems for discussion and possible action:\nStakeholder Public Comment will be taken on each agenda item: (2) minutes per speaker.\nItem No. 1\n(25-HSJA053) UPDATE Loving Hands Children’s Home – Juliet Schwarz\, Harry Sherman and Janiese Finney\nFor discussion and possible action (10 Mins): Juliet to provide update on bringing this NPG request to board. Harry &\nJaniese to share collaboration with WVFP.\nRoll Call Vote\nItem No. 2\n(25-HSJA054) Follow up on CDI’s Early Learning Center – Juliet Schwarz\nFor discussion and possible action (5 Mins): Discussion regarding final date chosen to volunteer at the Child\nDevelopment Institute’s Early Learning Center and current list of volunteers that have signed up.\nRoll Call Vote\nItem No. 3\n(25-HSJA055) Executive Director Search: West Valley Food Pantry Gala – Harry Sherman\nFor discussion and possible action (10 Mins): Discussion regarding WVFP Executive Director Search\nRoll Call Vote\nItem No. 4\n(25-HSJA056) NPGs – Juliet Schwarz\nFor discussion and possible action (10 Mins): Discussion around New Friends Homeless Center and Rachael’s\nBundles of Kindness as potential NPG recipients.\nRoll Call Vote\nItem No. 5\n(25-HSJA057) Fallbrook Encampment – Harry Sherman and Melanie Kirschbaum\nFor discussion and possible action (5 Mins): Discussion regarding the encampment on Fallbrook\, between Ave San\nLuis and Ventura.\nRoll Call Vote\nItem No. 6\n(25-HSJA058) Workforce /Affordable Housing Building – Harry Sherman\nFor discussion and possible action (10 Mins): Harry to arrange tour of building for our committee and discussion\naround helping to create awareness within our community for potential tenants that are LAUSD/Pierce College/etc\nstudents and employees.\nRoll Call Vote\nItem No. 7\n(25-HSJA059) Homeless Liaisons Meeting – Juliet Schwarz\nFor discussion and possible action (10 Mins): Juliet to provide info taken away from meeting.\nRoll Call Vote\nItem No. 10:\nDiscussion on future action items.\nADJOURNMENT:\nThe next meeting will be on January 27\, 2026 at 6:30 pm.\nAs a covered entity under Title II of the Americans with Disabilities Act\, the City of Los\nAngeles does not discriminate based on disability and upon request will provide reasonable\naccommodation to ensure equal access to its programs\, services\, and activities. Sign language\ninterpreters\, assistive listening devices\, or other auxiliary aids and/or services may be provided upon\nrequest. To ensure availability of services\, please make your request at least 3 business days (72\nhours) prior to the meeting by contacting the Department of Neighborhood Empowerment by calling\n(213) 978-1551 or email: NCsupport@lacity.org\nPublic Posting of Agendas – Neighborhood Council agendas are posted for public review as follows:\n• A copy of this agenda is also physically posted on the outside window of the at the front door of\nLAFD Fire Station 84\, located at 21050 Burbank Blvd.\, Woodland Hills\, CA 91367\n• www.whcouncil.org\n• You can also receive our agendas via email by subscribing to L.A. City’s Early Notification System\n(ENS)\nNotice to Paid Representatives –\nIf you are compensated to monitor\, attend\, or speak at this meeting\, City law may require you to register as a\nlobbyist and report your activity. See Los Angeles Municipal Code Section 48.01 et seq. More information is\navailable at ethics.lacity.org/lobbying. For assistance\, please contact the Ethics Commission at (213)\n978-1960 or ethics.commission@lacity.org\nPublic Access of Records –\nIn compliance with Government Code section 54957.5\, non-exempt writings that are distributed to a majority\nor all of the committee in advance of a meeting may be viewed at our website: www.WHCouncil.org or at the\nscheduled meeting. In addition\, if you would like a copy of any record related to an item on the agenda\,\nplease contact the Committee Chair\, Juliet Schwarz at j.schwarz@whcouncil.org\nReconsideration and Grievance Process –\nFor information on the NC’s process for board action reconsideration\, stakeholder grievance policy\, or any other\nprocedural matters related to this Council\, please consult the NC Bylaws.\nThe Bylaws are available at our Board meetings and our website www.WHCouncil.org.
URL:https://whcouncil.org/event/special-homeless-social-justice-advocacy-committee-committee-meeting-via-zoom/
LOCATION:ZOOM\, NONE\, NONE\, CA\, NONE\, United States
CATEGORIES:Homeless & Social Justice
ORGANIZER;CN="Juliet Schwarz":MAILTO:j.schwarz@whcouncil.org
GEO:37.0982847;-122.0979399
X-APPLE-STRUCTURED-LOCATION;VALUE=URI;X-ADDRESS=ZOOM NONE NONE CA NONE United States;X-APPLE-RADIUS=500;X-TITLE=NONE:geo:-122.0979399,37.0982847
END:VEVENT
END:VCALENDAR