BEGIN:VCALENDAR
VERSION:2.0
PRODID:-//Woodland Hills Warner - Center Neighborhood Council | Your most local part of CIty Government - ECPv6.15.20//NONSGML v1.0//EN
CALSCALE:GREGORIAN
METHOD:PUBLISH
X-WR-CALNAME:Woodland Hills Warner - Center Neighborhood Council | Your most local part of CIty Government
X-ORIGINAL-URL:https://whcouncil.org
X-WR-CALDESC:Events for Woodland Hills Warner - Center Neighborhood Council | Your most local part of CIty Government
REFRESH-INTERVAL;VALUE=DURATION:PT1H
X-Robots-Tag:noindex
X-PUBLISHED-TTL:PT1H
BEGIN:VTIMEZONE
TZID:America/Los_Angeles
BEGIN:DAYLIGHT
TZOFFSETFROM:-0800
TZOFFSETTO:-0700
TZNAME:PDT
DTSTART:20240310T100000
END:DAYLIGHT
BEGIN:STANDARD
TZOFFSETFROM:-0700
TZOFFSETTO:-0800
TZNAME:PST
DTSTART:20241103T090000
END:STANDARD
BEGIN:DAYLIGHT
TZOFFSETFROM:-0800
TZOFFSETTO:-0700
TZNAME:PDT
DTSTART:20250309T100000
END:DAYLIGHT
BEGIN:STANDARD
TZOFFSETFROM:-0700
TZOFFSETTO:-0800
TZNAME:PST
DTSTART:20251102T090000
END:STANDARD
BEGIN:DAYLIGHT
TZOFFSETFROM:-0800
TZOFFSETTO:-0700
TZNAME:PDT
DTSTART:20260308T100000
END:DAYLIGHT
BEGIN:STANDARD
TZOFFSETFROM:-0700
TZOFFSETTO:-0800
TZNAME:PST
DTSTART:20261101T090000
END:STANDARD
END:VTIMEZONE
BEGIN:VEVENT
DTSTART;TZID=America/Los_Angeles:20251117T183000
DTEND;TZID=America/Los_Angeles:20251117T203000
DTSTAMP:20260424T022108
CREATED:20251114T184925Z
LAST-MODIFIED:20251117T214908Z
UID:10001563-1763404200-1763411400@whcouncil.org
SUMMARY:Cancelled-Community Services Committee Meeting
DESCRIPTION:Cancelled \nCommunity Services Committee\nMembers\nJoyce Fletcher\, Chair\nKaren Di Biase\nKate Kennedy\nJulian Tu\nCITY OF LOS ANGELES\nCALIFORNIA\nWOODLAND HILLS\nWARNER CENTER\nNEIGHBORHOOD\nCOUNCIL\nCANCELLED\nCommunity Services Committee\nMeeting Agenda\nMonday\, Nov. 17\, 2025\n6:30 pm to 8:30pm\nLocated at Fire Station 84\nCommunity Room\n21050 Burbank BlvdWoodland Hills 91367\nParking across the street\nWebsite: whcouncil.org\nSi requiere servicios de traducción\, favor de avisar al Concejo Vecinal 3 días de trabajo (72 horas) antes\ndel evento. Por favor contacte a Joyce Fletcher de la Mesa Directiva\, j.fletcher@whcouncil.org o por\ncorreo electrónico avisar al Concejo Vecinal.\nGENERAL PUBLIC COMMENT ON ITEMS NOT ON THE AGENDA – Comments from the public\non other matters not appearing on the agenda that are within the Board’s jurisdiction will be heard during\nthe General Public Comment period. Please note that under the Brown Act\, the Board is prevented from\nacting on a matter that you bring to its attention during the General Public Comment period; however\, the\nissue raised by a member of the public may become the subject of a future Board meeting. Public comment\nis limited to two (2) minutes per speaker\, unless adjusted by the presiding officer of the Board.\nI. CALL TO ORDER AND COMMITTEE ROLL CALL\nMembers: Joyce Fletcher-Chair\, Karen DiBiase\, Kate Kennedy\, Julian Tu\nII. APPROVAL OF MINUTES – October 2. 2025\nNovember 3\, 2025\nIII. PUBLIC COMMENT ON ITEMS ON THE AGENDA – Comments will be heard when the\nagenda item is called by the Chair of the committee.\nEach speaker will also be allowed a two (2) minute comment on each agenda item.\nEmail: NCsupport@lacity.org\nIV. AGENDA ITEMS\nFor discussion and possible action:\n1. Recap of Grateful Hearts event at Rams location on Sunday\, November 9\, 2025.\n2. Discussion of written Community Impact Statements and Recommendations for City Council.\n4. Discussion of NPG for Fire Station 84. Please review the following link for information.\nhttps://supportlafd.org/adopt-a-fire-station\n5. New Business – to be discussed at the next committee meeting.\nADJOURNMENT\nAs a covered entity under Title II of the Americans with Disabilities Act\, the City of Los\nAngeles does not discriminate on the basis of disability and upon request will provide\nreasonable accommodation to ensure equal access to its programs\, services\, and activities.\nSign language interpreters\, assistive listening devices\, or other auxiliary aids and/or\nservices may be provided upon request. To ensure availability of services\, please make your\nrequest at least 3 business days (72 hours) prior to the meeting by contacting the\nDepartment of Neighborhood Empowerment by calling (213) 978-1551 or email:\nNCsupport@lacity.org\nPublic Posting of Agendas\nThe Community Services Committee meets on the 1st and 3rd Monday of each month.\nHowever\, visit our website calendar page at whcouncil.org\, to review all committee\nmeeting dates\, as the date may change. Neighborhood Council agendas are posted for\npublic review as follows:\nFire Station 84 front window located at 21050 Burbank Blvd. Woodland Hills CA 91367.\nOn the Woodland Hills-Warner Center Neighborhood Council website at calendar page at\nwww.whcouncil.org You can also receive our agendas via email by subscribing to L.A. City’s\nEarly Notification System (ENS)\nNotice to Paid Representatives\nIf you are compensated to monitor\, attend\, or speak at this meeting\, City law may require you to register\nas a lobbyist and report your activity. See Los Angeles Municipal Code Section 48.01 et seq.\nMore information is available at ethics.lacity.org/lobbying. For assistance\, please contact the\nEthics Commission at (213) 978-1960 or ethics.commission@lacity.org\nPublic Access of Records\nIn compliance with Government Code section 54957.5\, non-exempt writings that are distributed to a majority or all the board in\nadvance of a meeting may be viewed at our website: www.whcouncil.org or\nat the scheduled meeting. In addition\, if you would like a copy of any record related to an item on the agenda\, please get in touch\nwith Secretary Joyce Fletcher by email to j.fletcher@whcouncil.org\nReconsideration and Grievance Process\nFor information on the NC’s process for board action reconsideration\, stakeholder grievance policy\, or any other procedural matters\nrelated to this Council\, please consult the NC Bylaws. The Bylaws are available\nat our Board meetings and our website www.whcouncil.org.
URL:https://whcouncil.org/event/community-services-committee-meeting-7/
LOCATION:LAFD Fire Station 84\, 21050 Burbank Blvd.\, Woodland Hills\, CA\, 91367\, United States
CATEGORIES:Community Services
GEO:34.1729585;-118.5915767
X-APPLE-STRUCTURED-LOCATION;VALUE=URI;X-ADDRESS=LAFD Fire Station 84 21050 Burbank Blvd. Woodland Hills CA 91367 United States;X-APPLE-RADIUS=500;X-TITLE=21050 Burbank Blvd.:geo:-118.5915767,34.1729585
END:VEVENT
BEGIN:VEVENT
DTSTART;TZID=America/Los_Angeles:20251118T183000
DTEND;TZID=America/Los_Angeles:20251118T210000
DTSTAMP:20260424T022108
CREATED:20251116T022716Z
LAST-MODIFIED:20260226T044125Z
UID:10001564-1763490600-1763499600@whcouncil.org
SUMMARY:WHWCNC Governance Meeting 11-18-2025
DESCRIPTION:Agenda\n        \n                                    \n                        \n                            \n\n\nMinutes for Adoption
URL:https://whcouncil.org/event/whwcnc-governance-meeting-11-18-2025/
LOCATION:West Valley-Warner Center Chamber of Commerce\, 6351 Owensmouth Avenue\, Suite 101A\, Woodland Hills\, CA\, 91367\, United States
CATEGORIES:Governance
GEO:34.1808143;-118.6038048
X-APPLE-STRUCTURED-LOCATION;VALUE=URI;X-ADDRESS=West Valley-Warner Center Chamber of Commerce 6351 Owensmouth Avenue Suite 101A Woodland Hills CA 91367 United States;X-APPLE-RADIUS=500;X-TITLE=6351 Owensmouth Avenue\, Suite 101A:geo:-118.6038048,34.1808143
END:VEVENT
BEGIN:VEVENT
DTSTART;TZID=America/Los_Angeles:20251120T183000
DTEND;TZID=America/Los_Angeles:20251120T193000
DTSTAMP:20260424T022108
CREATED:20251109T210852Z
LAST-MODIFIED:20251109T210852Z
UID:10001559-1763663400-1763667000@whcouncil.org
SUMMARY:Arts & Culture Committee Meeting Cancelled
DESCRIPTION:The Arts & Culture Committee meeting for this month has been cancelled. \nYou may view the official Cancelled Agenda Notice here: ArtsAgendas_2025-11-20.pdf \nWe are currently selecting a new monthly day and time to reconvene and are holding Special Meetings in the interim. \nStay tuned for updates\, or email H.Aristakessian@whcouncil.org to stay informed. \nThank you to all stakeholders who attended our special meeting last month. Your participation and input were greatly appreciated. \nHarout \nChair\, Arts & Culture Committee
URL:https://whcouncil.org/event/arts-culture-committee-meeting-cancelled-2/
LOCATION:CA
CATEGORIES:Arts & Culture
ORGANIZER;CN="Harout Aristakessian":MAILTO:h.aristakessian@whcouncil.org
END:VEVENT
BEGIN:VEVENT
DTSTART;TZID=America/Los_Angeles:20251120T183000
DTEND;TZID=America/Los_Angeles:20251120T210000
DTSTAMP:20260424T022108
CREATED:20250913T164945Z
LAST-MODIFIED:20250913T164945Z
UID:10001536-1763663400-1763672400@whcouncil.org
SUMMARY:PLUM Committee Meeting
DESCRIPTION:
URL:https://whcouncil.org/event/plum-committee-meeting-5/
LOCATION:CA
CATEGORIES:PLUM
END:VEVENT
END:VCALENDAR