BEGIN:VCALENDAR
VERSION:2.0
PRODID:-//Woodland Hills Warner - Center Neighborhood Council | Your most local part of CIty Government - ECPv6.15.20//NONSGML v1.0//EN
CALSCALE:GREGORIAN
METHOD:PUBLISH
X-ORIGINAL-URL:https://whcouncil.org
X-WR-CALDESC:Events for Woodland Hills Warner - Center Neighborhood Council | Your most local part of CIty Government
REFRESH-INTERVAL;VALUE=DURATION:PT1H
X-Robots-Tag:noindex
X-PUBLISHED-TTL:PT1H
BEGIN:VTIMEZONE
TZID:America/Los_Angeles
BEGIN:DAYLIGHT
TZOFFSETFROM:-0800
TZOFFSETTO:-0700
TZNAME:PDT
DTSTART:20240310T100000
END:DAYLIGHT
BEGIN:STANDARD
TZOFFSETFROM:-0700
TZOFFSETTO:-0800
TZNAME:PST
DTSTART:20241103T090000
END:STANDARD
BEGIN:DAYLIGHT
TZOFFSETFROM:-0800
TZOFFSETTO:-0700
TZNAME:PDT
DTSTART:20250309T100000
END:DAYLIGHT
BEGIN:STANDARD
TZOFFSETFROM:-0700
TZOFFSETTO:-0800
TZNAME:PST
DTSTART:20251102T090000
END:STANDARD
BEGIN:DAYLIGHT
TZOFFSETFROM:-0800
TZOFFSETTO:-0700
TZNAME:PDT
DTSTART:20260308T100000
END:DAYLIGHT
BEGIN:STANDARD
TZOFFSETFROM:-0700
TZOFFSETTO:-0800
TZNAME:PST
DTSTART:20261101T090000
END:STANDARD
END:VTIMEZONE
BEGIN:VEVENT
DTSTART;TZID=America/Los_Angeles:20250904T124500
DTEND;TZID=America/Los_Angeles:20250904T134500
DTSTAMP:20260424T054933
CREATED:20250901T213350Z
LAST-MODIFIED:20250903T002949Z
UID:10001528-1756989900-1756993500@whcouncil.org
SUMMARY:WHWCNC SPECIAL PUBLIC SAFETY CMTE - 09-04-25
DESCRIPTION:
URL:https://whcouncil.org/event/whwcnc-public-safety-cmtee-09-04-2025/
LOCATION:ZOOM\, NONE\, NONE\, CA\, NONE\, United States
CATEGORIES:Public Safety
GEO:37.0982847;-122.0979399
X-APPLE-STRUCTURED-LOCATION;VALUE=URI;X-ADDRESS=ZOOM NONE NONE CA NONE United States;X-APPLE-RADIUS=500;X-TITLE=NONE:geo:-122.0979399,37.0982847
END:VEVENT
BEGIN:VEVENT
DTSTART;TZID=America/Los_Angeles:20250904T183000
DTEND;TZID=America/Los_Angeles:20250904T200000
DTSTAMP:20260424T054933
CREATED:20250903T163428Z
LAST-MODIFIED:20250903T163428Z
UID:10001529-1757010600-1757016000@whcouncil.org
SUMMARY:Special Homeless and Social Justice Advocacy Committee Meeting
DESCRIPTION:Agenda: Sep 4\, 2025 \nhttps://whcouncil.org/wp-content/uploads/minutes-agendas-newsletters/HomelessnessAgendas_2025-09-04.pdf \n 
URL:https://whcouncil.org/event/special-homeless-and-social-justice-advocacy-committee-meeting/
LOCATION:ZOOM\, NONE\, NONE\, CA\, NONE\, United States
CATEGORIES:Homeless & Social Justice
GEO:37.0982847;-122.0979399
X-APPLE-STRUCTURED-LOCATION;VALUE=URI;X-ADDRESS=ZOOM NONE NONE CA NONE United States;X-APPLE-RADIUS=500;X-TITLE=NONE:geo:-122.0979399,37.0982847
END:VEVENT
BEGIN:VEVENT
DTSTART;TZID=America/Los_Angeles:20250906T080000
DTEND;TZID=America/Los_Angeles:20250906T100000
DTSTAMP:20260424T054933
CREATED:20250905T222359Z
LAST-MODIFIED:20260226T044637Z
UID:10001530-1757145600-1757152800@whcouncil.org
SUMMARY:WHWCNC Environmental Meetup to Cleanup
DESCRIPTION:Come Meetup with the Environmental and Beautification Committee\nTime and Date:  Saturday\, Sept 6th\, from 8 am-10 am.\nLocation:  22105 Ventura Blvd (corner of Glade and Ventura\, next to Niky’s Sports).\n\nWe will be removing the weeds and eliminating the graffiti at the “smallest house in Woodland Hills”.\nPlease wear closed-toe shoes\, long sleeves\, a hat\, gloves\, and eye protection.\nWe are partnering with the Community Benefit Foundation.\nLooking forward to seeing you and giving back to our local community!
URL:https://whcouncil.org/event/whwcnc-environmental-meetup-to-cleanup/
LOCATION:CA
CATEGORIES:Environment & Beautification
END:VEVENT
END:VCALENDAR