BEGIN:VCALENDAR
VERSION:2.0
PRODID:-//Woodland Hills Warner - Center Neighborhood Council | Your most local part of CIty Government - ECPv6.15.20//NONSGML v1.0//EN
CALSCALE:GREGORIAN
METHOD:PUBLISH
X-WR-CALNAME:Woodland Hills Warner - Center Neighborhood Council | Your most local part of CIty Government
X-ORIGINAL-URL:https://whcouncil.org
X-WR-CALDESC:Events for Woodland Hills Warner - Center Neighborhood Council | Your most local part of CIty Government
REFRESH-INTERVAL;VALUE=DURATION:PT1H
X-Robots-Tag:noindex
X-PUBLISHED-TTL:PT1H
BEGIN:VTIMEZONE
TZID:America/Los_Angeles
BEGIN:DAYLIGHT
TZOFFSETFROM:-0800
TZOFFSETTO:-0700
TZNAME:PDT
DTSTART:20240310T100000
END:DAYLIGHT
BEGIN:STANDARD
TZOFFSETFROM:-0700
TZOFFSETTO:-0800
TZNAME:PST
DTSTART:20241103T090000
END:STANDARD
BEGIN:DAYLIGHT
TZOFFSETFROM:-0800
TZOFFSETTO:-0700
TZNAME:PDT
DTSTART:20250309T100000
END:DAYLIGHT
BEGIN:STANDARD
TZOFFSETFROM:-0700
TZOFFSETTO:-0800
TZNAME:PST
DTSTART:20251102T090000
END:STANDARD
BEGIN:DAYLIGHT
TZOFFSETFROM:-0800
TZOFFSETTO:-0700
TZNAME:PDT
DTSTART:20260308T100000
END:DAYLIGHT
BEGIN:STANDARD
TZOFFSETFROM:-0700
TZOFFSETTO:-0800
TZNAME:PST
DTSTART:20261101T090000
END:STANDARD
END:VTIMEZONE
BEGIN:VEVENT
DTSTART;TZID=America/Los_Angeles:20250415T183000
DTEND;TZID=America/Los_Angeles:20250415T203000
DTSTAMP:20260424T161204
CREATED:20250412T061242Z
LAST-MODIFIED:20250414T021847Z
UID:10001254-1744741800-1744749000@whcouncil.org
SUMMARY:Governance Committee Meeting 4/15/25
DESCRIPTION:Woodland Hills – Warner Center Neighborhood Council\nGovernance Committee Meeting by Zoom\nTuesday\, April 15\, 2025 at 6:30 PM \nZoom Meeting Online or By Telephone \nPlease click the link below to join the webinar:\nhttps://us02web.zoom.us/j/84574801809  \nOr Dial (669) 900-6833 to Join the Meeting\nThen Enter This Webinar ID: 84574801809 and Press # \n  \nThe AGENDA is available below or can be downloaded HERE \nThe supporting documents can be downloaded HERE \n        \n                                    \n                        \n                            \n\n\n 
URL:https://whcouncil.org/event/governance-committee-meeting-4-15-25/
LOCATION:ZOOM\, NONE\, NONE\, CA\, NONE\, United States
CATEGORIES:Governance
GEO:37.0982847;-122.0979399
X-APPLE-STRUCTURED-LOCATION;VALUE=URI;X-ADDRESS=ZOOM NONE NONE CA NONE United States;X-APPLE-RADIUS=500;X-TITLE=NONE:geo:-122.0979399,37.0982847
END:VEVENT
BEGIN:VEVENT
DTSTART;TZID=America/Los_Angeles:20250417T173000
DTEND;TZID=America/Los_Angeles:20250417T183000
DTSTAMP:20260424T161204
CREATED:20250414T215644Z
LAST-MODIFIED:20250414T220720Z
UID:10001258-1744911000-1744914600@whcouncil.org
SUMMARY:Arts and Culture Committee Meeting - April 17\, 2025
DESCRIPTION:Please join the Arts and Culture Committee for our next committee meeting on April 17\, 2025\, at 5:30 pm \nZoom Meeting Information: \nWoodland Hills-Warner Center NC is inviting you to a scheduled Zoom meeting. \nTopic: Arts & Culture Committee Meeting\nTime: Apr 17\, 2025 05:30 PM Pacific Time (US and Canada)\nJoin Zoom Meeting\nhttps://us02web.zoom.us/j/84876148883 \nMeeting ID: 848 7614 8883 \n— \nOne tap mobile\n+13052241968\,\,84876148883# US\n+13092053325\,\,84876148883# US \n— \nDial by your location\n• +1 305 224 1968 US\n• +1 309 205 3325 US\n• +1 312 626 6799 US (Chicago)\n• +1 646 931 3860 US\n• +1 929 205 6099 US (New York)\n• +1 301 715 8592 US (Washington DC)\n• +1 346 248 7799 US (Houston)\n• +1 360 209 5623 US\n• +1 386 347 5053 US\n• +1 507 473 4847 US\n• +1 564 217 2000 US\n• +1 669 444 9171 US\n• +1 669 900 6833 US (San Jose)\n• +1 689 278 1000 US\n• +1 719 359 4580 US\n• +1 253 205 0468 US\n• +1 253 215 8782 US (Tacoma)\n• 833 548 0282 US Toll-free\n• 877 853 5257 US Toll-free\n• 888 475 4499 US Toll-free\n• 833 548 0276 US Toll-free \nMeeting ID: 848 7614 8883 \nFind your local number: https://us02web.zoom.us/u/kcbXaNwnHk \n  \nAgenda link: https://whcouncil.org/wp-content/uploads/minutes-agendas-newsletters/ArtsAgendas_2025-04-17.pdf
URL:https://whcouncil.org/event/arts-and-culture-committee-meeting-april-17-2025/
LOCATION:CA
CATEGORIES:Arts & Culture
END:VEVENT
BEGIN:VEVENT
DTSTART;TZID=America/Los_Angeles:20250417T183000
DTEND;TZID=America/Los_Angeles:20250417T210000
DTSTAMP:20260424T161204
CREATED:20250414T210702Z
LAST-MODIFIED:20250418T003409Z
UID:10001256-1744914600-1744923600@whcouncil.org
SUMMARY:Planning\, Land Use\, and Mobility (PLUM) Committee Meeting
DESCRIPTION:The PLUM Committee will hold its regular meeting on Thursday\, April 17\, 2025 via Zoom (https://us02web.zoom.us/j/83688139479) The significant item for discussion is below. The full agenda can be found here: PLUM Agenda Apr 17\, 2025 \n\nPresentation\, discussion\, and possible action on the development plans for the 3.88-acre property located at 21241- 21243 Ventura Boulevard\, 5436 Comercio Way and 21200-21240 Clarendon Street in Woodland Hills\, located in the C4-1LD and P-1LD Zones and the Ventura/Cahuenga Boulevard Corridor Specific Plan area. Due to uncertainty of future market demands\, the Applicant/Property Owner\, California Landmark Group\, is seeking Los Angeles City Planning approval for two different projects\, as described below\, but would proceed to construct the one that is most palatable for market conditions at the time that construction would commence.\n\nTownhome Condominium Project (Planning Case No. CPC-2023-6206-DB-SPP-SPR-HCA\, VTT-83939-CN) – A residential development with 126 three-story single-family condominium townhomes\, seven (7) homes of which restricted for Very Low Income (VLI) Households\, and associated parking (within private parking garages and surface stalls) and open space areas. Download the Case Report.\nMixed-Use Project (Planning Case No. CPC-2024-4749-DB-SPPC-PR-HCA) – A seven-story mixed-use development with 578 residential apartment units (including 48 VLI Household units)\, approximately 7\,400 square feet of commercial space\, and two parking levels (on and above grade) containing commercial and residential parking stalls. Download the Case Report.
URL:https://whcouncil.org/event/planning-land-use-and-mobility-plum-committee-meeting-6/
LOCATION:ZOOM\, NONE\, NONE\, CA\, NONE\, United States
CATEGORIES:PLUM
GEO:37.0982847;-122.0979399
X-APPLE-STRUCTURED-LOCATION;VALUE=URI;X-ADDRESS=ZOOM NONE NONE CA NONE United States;X-APPLE-RADIUS=500;X-TITLE=NONE:geo:-122.0979399,37.0982847
END:VEVENT
END:VCALENDAR