BEGIN:VCALENDAR
VERSION:2.0
PRODID:-//Woodland Hills Warner - Center Neighborhood Council | Your most local part of CIty Government - ECPv6.15.20//NONSGML v1.0//EN
CALSCALE:GREGORIAN
METHOD:PUBLISH
X-ORIGINAL-URL:https://whcouncil.org
X-WR-CALDESC:Events for Woodland Hills Warner - Center Neighborhood Council | Your most local part of CIty Government
REFRESH-INTERVAL;VALUE=DURATION:PT1H
X-Robots-Tag:noindex
X-PUBLISHED-TTL:PT1H
BEGIN:VTIMEZONE
TZID:America/Los_Angeles
BEGIN:DAYLIGHT
TZOFFSETFROM:-0800
TZOFFSETTO:-0700
TZNAME:PDT
DTSTART:20240310T100000
END:DAYLIGHT
BEGIN:STANDARD
TZOFFSETFROM:-0700
TZOFFSETTO:-0800
TZNAME:PST
DTSTART:20241103T090000
END:STANDARD
BEGIN:DAYLIGHT
TZOFFSETFROM:-0800
TZOFFSETTO:-0700
TZNAME:PDT
DTSTART:20250309T100000
END:DAYLIGHT
BEGIN:STANDARD
TZOFFSETFROM:-0700
TZOFFSETTO:-0800
TZNAME:PST
DTSTART:20251102T090000
END:STANDARD
BEGIN:DAYLIGHT
TZOFFSETFROM:-0800
TZOFFSETTO:-0700
TZNAME:PDT
DTSTART:20260308T100000
END:DAYLIGHT
BEGIN:STANDARD
TZOFFSETFROM:-0700
TZOFFSETTO:-0800
TZNAME:PST
DTSTART:20261101T090000
END:STANDARD
END:VTIMEZONE
BEGIN:VEVENT
DTSTART;TZID=America/Los_Angeles:20250115T113000
DTEND;TZID=America/Los_Angeles:20250115T113000
DTSTAMP:20260425T042714
CREATED:20250114T190531Z
LAST-MODIFIED:20250114T190531Z
UID:10001477-1736940600-1736940600@whcouncil.org
SUMMARY:WHWCNC Public Safety Committee Special Meeting
DESCRIPTION:The WHWCNC Public Safety Committee hosts a Special Meeting Wednesday January 15\, 2025 11:30 am to 1:30 pm via zoom. For agenda and zoom info\, click here: Jan 15\, 2025
URL:https://whcouncil.org/event/whwcnc-public-safety-committee-special-meeting/
LOCATION:ZOOM\, NONE\, NONE\, CA\, NONE\, United States
CATEGORIES:Public Safety
ORGANIZER;CN="Julie Waltrip":MAILTO:J.waltrip@whcouncil.org
GEO:37.0982847;-122.0979399
X-APPLE-STRUCTURED-LOCATION;VALUE=URI;X-ADDRESS=ZOOM NONE NONE CA NONE United States;X-APPLE-RADIUS=500;X-TITLE=NONE:geo:-122.0979399,37.0982847
END:VEVENT
BEGIN:VEVENT
DTSTART;TZID=America/Los_Angeles:20250115T183000
DTEND;TZID=America/Los_Angeles:20250115T200000
DTSTAMP:20260425T042714
CREATED:20241227T042924Z
LAST-MODIFIED:20250114T212755Z
UID:10001468-1736965800-1736971200@whcouncil.org
SUMMARY:(CANCELLED) Arts and Culture Committee Meeting
DESCRIPTION:This meeting has been canceled.
URL:https://whcouncil.org/event/arts-and-culture-committee-meeting-2/
LOCATION:ZOOM\, NONE\, NONE\, CA\, NONE\, United States
CATEGORIES:Arts & Culture
GEO:37.0982847;-122.0979399
X-APPLE-STRUCTURED-LOCATION;VALUE=URI;X-ADDRESS=ZOOM NONE NONE CA NONE United States;X-APPLE-RADIUS=500;X-TITLE=NONE:geo:-122.0979399,37.0982847
END:VEVENT
BEGIN:VEVENT
DTSTART;TZID=America/Los_Angeles:20250116T183000
DTEND;TZID=America/Los_Angeles:20250116T200000
DTSTAMP:20260425T042714
CREATED:20250113T221430Z
LAST-MODIFIED:20250113T222812Z
UID:10001476-1737052200-1737057600@whcouncil.org
SUMMARY:Planning\, Land Use\, and Mobility Committee (PLUM) Committee Meeting - 1/16/25
DESCRIPTION:The PLUM Committee will hold its regular meeting on January 16\, 2025. The significant item for discussion is below. The full agenda is here. \n\nDiscussion planning case TBD. 20600 Ventura Blvd.\, Woodland Hills\, CA 91364 – Acacia – The Boulevard.\nThe applicant proposes conversion of vacant\, retail space to five residential units.\nProject documents can be accessed here: https://whcouncil.org/plum-case/acacia-the-boulevard-retail-to-adu-conversion
URL:https://whcouncil.org/event/planning-land-use-and-mobility-committee-plum-committee-meeting/
LOCATION:ZOOM\, NONE\, NONE\, CA\, NONE\, United States
CATEGORIES:PLUM
GEO:37.0982847;-122.0979399
X-APPLE-STRUCTURED-LOCATION;VALUE=URI;X-ADDRESS=ZOOM NONE NONE CA NONE United States;X-APPLE-RADIUS=500;X-TITLE=NONE:geo:-122.0979399,37.0982847
END:VEVENT
END:VCALENDAR