BEGIN:VCALENDAR
VERSION:2.0
PRODID:-//Woodland Hills Warner - Center Neighborhood Council | Your most local part of CIty Government - ECPv6.15.20//NONSGML v1.0//EN
CALSCALE:GREGORIAN
METHOD:PUBLISH
X-WR-CALNAME:Woodland Hills Warner - Center Neighborhood Council | Your most local part of CIty Government
X-ORIGINAL-URL:https://whcouncil.org
X-WR-CALDESC:Events for Woodland Hills Warner - Center Neighborhood Council | Your most local part of CIty Government
REFRESH-INTERVAL;VALUE=DURATION:PT1H
X-Robots-Tag:noindex
X-PUBLISHED-TTL:PT1H
BEGIN:VTIMEZONE
TZID:America/Los_Angeles
BEGIN:DAYLIGHT
TZOFFSETFROM:-0800
TZOFFSETTO:-0700
TZNAME:PDT
DTSTART:20230312T100000
END:DAYLIGHT
BEGIN:STANDARD
TZOFFSETFROM:-0700
TZOFFSETTO:-0800
TZNAME:PST
DTSTART:20231105T090000
END:STANDARD
BEGIN:DAYLIGHT
TZOFFSETFROM:-0800
TZOFFSETTO:-0700
TZNAME:PDT
DTSTART:20240310T100000
END:DAYLIGHT
BEGIN:STANDARD
TZOFFSETFROM:-0700
TZOFFSETTO:-0800
TZNAME:PST
DTSTART:20241103T090000
END:STANDARD
BEGIN:DAYLIGHT
TZOFFSETFROM:-0800
TZOFFSETTO:-0700
TZNAME:PDT
DTSTART:20250309T100000
END:DAYLIGHT
BEGIN:STANDARD
TZOFFSETFROM:-0700
TZOFFSETTO:-0800
TZNAME:PST
DTSTART:20251102T090000
END:STANDARD
BEGIN:DAYLIGHT
TZOFFSETFROM:-0800
TZOFFSETTO:-0700
TZNAME:PDT
DTSTART:20260308T100000
END:DAYLIGHT
BEGIN:STANDARD
TZOFFSETFROM:-0700
TZOFFSETTO:-0800
TZNAME:PST
DTSTART:20261101T090000
END:STANDARD
END:VTIMEZONE
BEGIN:VEVENT
DTSTART;TZID=America/Los_Angeles:20241231T183000
DTEND;TZID=America/Los_Angeles:20241231T200000
DTSTAMP:20260425T060535
CREATED:20241229T024433Z
LAST-MODIFIED:20241229T024503Z
UID:10001469-1735669800-1735675200@whcouncil.org
SUMMARY:Homeless & Social Justice Advocacy Committee Meeting - CANCELED
DESCRIPTION:See you in the new year! Thank you for all the work in 2024! \n– Jayce\, Committee Chair \nNext meeting is scheduled for January 28\, 2025.
URL:https://whcouncil.org/event/homeless-social-justice-advocacy-committee-meeting-canceled/
LOCATION:CA
END:VEVENT
BEGIN:VEVENT
DTSTART;TZID=America/Los_Angeles:20250102T183000
DTEND;TZID=America/Los_Angeles:20250102T193000
DTSTAMP:20260425T060535
CREATED:20241231T232557Z
LAST-MODIFIED:20241231T232801Z
UID:10001471-1735842600-1735846200@whcouncil.org
SUMMARY:Planning Land Use and Mobility (PLUM) Committee - CANCELED
DESCRIPTION:The January 2\, 2025 PLUM meeting is cancelled. Download the cancellation notice. 
URL:https://whcouncil.org/event/planning-land-use-and-mobility-plum-committee-9/
LOCATION:CA
CATEGORIES:PLUM
END:VEVENT
END:VCALENDAR