BEGIN:VCALENDAR
VERSION:2.0
PRODID:-//Woodland Hills Warner - Center Neighborhood Council | Your most local part of CIty Government - ECPv6.15.20//NONSGML v1.0//EN
CALSCALE:GREGORIAN
METHOD:PUBLISH
X-ORIGINAL-URL:https://whcouncil.org
X-WR-CALDESC:Events for Woodland Hills Warner - Center Neighborhood Council | Your most local part of CIty Government
REFRESH-INTERVAL;VALUE=DURATION:PT1H
X-Robots-Tag:noindex
X-PUBLISHED-TTL:PT1H
BEGIN:VTIMEZONE
TZID:America/Los_Angeles
BEGIN:DAYLIGHT
TZOFFSETFROM:-0800
TZOFFSETTO:-0700
TZNAME:PDT
DTSTART:20230312T100000
END:DAYLIGHT
BEGIN:STANDARD
TZOFFSETFROM:-0700
TZOFFSETTO:-0800
TZNAME:PST
DTSTART:20231105T090000
END:STANDARD
BEGIN:DAYLIGHT
TZOFFSETFROM:-0800
TZOFFSETTO:-0700
TZNAME:PDT
DTSTART:20240310T100000
END:DAYLIGHT
BEGIN:STANDARD
TZOFFSETFROM:-0700
TZOFFSETTO:-0800
TZNAME:PST
DTSTART:20241103T090000
END:STANDARD
BEGIN:DAYLIGHT
TZOFFSETFROM:-0800
TZOFFSETTO:-0700
TZNAME:PDT
DTSTART:20250309T100000
END:DAYLIGHT
BEGIN:STANDARD
TZOFFSETFROM:-0700
TZOFFSETTO:-0800
TZNAME:PST
DTSTART:20251102T090000
END:STANDARD
END:VTIMEZONE
BEGIN:VEVENT
DTSTART;TZID=America/Los_Angeles:20241202T183000
DTEND;TZID=America/Los_Angeles:20241202T210000
DTSTAMP:20260425T055950
CREATED:20241129T190653Z
LAST-MODIFIED:20241129T190653Z
UID:10001460-1733164200-1733173200@whcouncil.org
SUMMARY:Community Services Committee Meeting
DESCRIPTION:  \n  \n  \nCommunity Services Committee Members \nJoyce Fletcher\, Chair                               Karen Di Biase \nKate Kennedy \nJulian Tu \n  \n  \n  \nWOODLAND HILLS \n WARNER CENTER   \nNEIGHBORHOOD COUNCIL \n  \nEmail: NCsupport@lacity.org \nWebsite: www.empowerla.org \n  \nCommunity Services Committee Meeting Agenda \n    Monday\, December 2\, 2024 \n Click for Agenda \n6:30p.m. to 9:00p.m. \n  \nCity of Los Angeles Fire Station # 84 – Community Room \n21050 Burbank Blvd\, Woodland Hills\, CA 91367 \nParking is available in the lot across the street. \n  \nSi requiere servicios de traducción\, favor de avisar al Concejo Vecinal 3 días de trabajo (72 horas) antes del evento. Por favor contacte a Dena Weiss de la Mesa Directiva\, d.weiss@whcouncil.org o por correo electrónico avisar al Concejo Vecinal. \nComments from the public on other matters not appearing on the agenda that are within the Board’s jurisdiction will be heard during the General Public Comment period. Please note that under the Brown Act\, the Board is prevented from acting on a matter that you bring to its attention during the General Public Comment period; however\, the issue raised by a member of the public may become the subject of a future Board meeting. Public comment is limited to two (2) minutes per speaker\, unless adjusted by the presiding officer of the Board. \n  \nI.                CALL TO ORDER AND COMMITTEE ROLL CALL\nMembers: Joyce Fletcher-Chair\, Karen DiBiase\, Kate Kennedy\, Julian Tu\n  \n\nAPPROVAL OF MINUTES – November 4\, 202\n\n                                            November 18\, 2024 \n                                                                                          \n  \n\nGENERAL PUBLIC COMMENT – Comments from the public on non-agenda items that are within the WHWCNC’s Board jurisdiction and within the committee’s jurisdiction.\n\nEach speaker will be allowed two (2) minute(s). \n  \nIV.            AGENDA ITEMS\n  \nFor discussion and possible action: \n  \n\nReminder/placeholder- WHWCNC Toy Drive. The 21th Annual Motor4Toys Charity Car Show\n\nand Toy Drive. Dena Weiss will provide a car. \nSunday December 8th from 7am to 12am. We can set up the day before. \nPlanning for outreach materials to be handed out at the event. \n  \n\nDiscussion related to new water fountains and lights at Warner Park.\n\n  \n\nDiscussion: NPG’s and other spending until the end of the fiscal year June 30\, 2025.\n\n  \n\nDiscussion about ways to support Diversity\, Seniors\, Veterans and LGBTQ neighbors in\n\nour community. \n  \n\nDiscussion about plans and committee goals for fiscal year 2024/2025.\n\n  \n\nNew Business – for discussion and possible action at the next committee meeting.\n\n  \nADJOURNMENT\nAs a covered entity under Title II of the Americans with Disabilities Act\, the City of Los Angeles does         not discriminate on the basis of disability and upon request will provide reasonable accommodation           to ensure equal access to its programs\, services\, and activities. Sign language interpreters\, assistive      listening devices\, or other auxiliary aids and/or services may be provided upon request. To ensure availability of services\, please make your request at least 3 business days (72 hours) prior to the        meeting by contacting the Department of Neighborhood Empowerment by calling (213) 978-1551 or  email: NCsupport@lacity.org \n  \n Public Posting of Agendas  \nThe Community Services Committee meets on the 1st and 3rd Monday of each month. However\, visit our  \nwebsite calendar page at whcouncil.org\, to review all committee meeting dates\, as a date may change. \n  \nNeighborhood Council agendas are posted for public review as follows: \n\nFire Station 84 front window located at 21050 Burbank Blvd. Woodland Hills CA 91367.\nOn the Woodland Hills-Warner Center Neighborhood Council website at calendar page at whcouncil.org\nYou can also receive our agendas via email by subscribing to A. City’s Early Notification System (ENS)\n\n     Notice to Paid Representatives  \nIf you are compensated to monitor\, attend\, or speak at this meeting\, City law may require you to register asalobbyistandreportyouractivity.SeeLosAngelesMunicipalCodeSection48.01etseq. \nMore information is available at ethics.lacity.org/lobbying. For assistance\, please contact the Ethics Commission at (213) 978-1960 or ethics.commission@lacity.org \n  \n  \n  \n  \n     Public Access of Records  \nIn compliance with Government Code section 54957.5\, non-exempt writings that are distributed to a majority or all the board in advance of a meeting may be viewed at our website: www.whcouncil.org or at the scheduled meeting. In addition\, if you would like a copy of any record related to an item on the agenda\, please get in touch with Dena Weiss by email to d.weiss@whcouncil.org \n  \n     Reconsideration and Grievance Process  \nFor information on the NC’s process for board action reconsideration\, stakeholder grievance policy\, or any other procedural matters related to this Council\, please consult the NC Bylaws. The Bylaws are available at our Board meetings and our website www.whcouncil.org. \n  \n 
URL:https://whcouncil.org/event/community-services-committee-meeting-30/
LOCATION:LAFD Fire Station 84\, 21050 Burbank Blvd.\, Woodland Hills\, CA\, 91367\, United States
CATEGORIES:Community Services
GEO:34.1729585;-118.5915767
X-APPLE-STRUCTURED-LOCATION;VALUE=URI;X-ADDRESS=LAFD Fire Station 84 21050 Burbank Blvd. Woodland Hills CA 91367 United States;X-APPLE-RADIUS=500;X-TITLE=21050 Burbank Blvd.:geo:-118.5915767,34.1729585
END:VEVENT
BEGIN:VEVENT
DTSTART;TZID=America/Los_Angeles:20241203T183000
DTEND;TZID=America/Los_Angeles:20241203T203000
DTSTAMP:20260425T055950
CREATED:20241201T014749Z
LAST-MODIFIED:20241201T014749Z
UID:10001461-1733250600-1733257800@whcouncil.org
SUMMARY:Education Committee Meeting
DESCRIPTION:The WHWCNC Education Committee hosts their regular meeting Tuesday December 3rd\, 2024 6:30 pm to 8:30 pm via Zoom.  All are welcome. For the zoom link and the agenda for the evening\, click here: Dec 3\, 2024
URL:https://whcouncil.org/event/education-committee-meeting-6/
LOCATION:ZOOM\, NONE\, NONE\, CA\, NONE\, United States
CATEGORIES:Education
ORGANIZER;CN="Julie Waltrip":MAILTO:J.waltrip@whcouncil.org
GEO:37.0982847;-122.0979399
X-APPLE-STRUCTURED-LOCATION;VALUE=URI;X-ADDRESS=ZOOM NONE NONE CA NONE United States;X-APPLE-RADIUS=500;X-TITLE=NONE:geo:-122.0979399,37.0982847
END:VEVENT
BEGIN:VEVENT
DTSTART;TZID=America/Los_Angeles:20241203T184500
DTEND;TZID=America/Los_Angeles:20241203T204500
DTSTAMP:20260425T055950
CREATED:20241203T022435Z
LAST-MODIFIED:20241203T022435Z
UID:10001462-1733251500-1733258700@whcouncil.org
SUMMARY:Special Education Committee Meeting
DESCRIPTION:The WHWCNC Education Committee hosts a Special Meeting Tuesday December 3\, 2024 6:45 pm via Zoom. All are welcome. For zoom link and agenda\, click here: Dec 3\, 2024
URL:https://whcouncil.org/event/special-education-committee-meeting-2/
LOCATION:ZOOM\, NONE\, NONE\, CA\, NONE\, United States
CATEGORIES:Education
ORGANIZER;CN="Julie Waltrip":MAILTO:J.waltrip@whcouncil.org
GEO:37.0982847;-122.0979399
X-APPLE-STRUCTURED-LOCATION;VALUE=URI;X-ADDRESS=ZOOM NONE NONE CA NONE United States;X-APPLE-RADIUS=500;X-TITLE=NONE:geo:-122.0979399,37.0982847
END:VEVENT
BEGIN:VEVENT
DTSTART;TZID=America/Los_Angeles:20241204T183000
DTEND;TZID=America/Los_Angeles:20241204T193000
DTSTAMP:20260425T055950
CREATED:20241204T003100Z
LAST-MODIFIED:20241204T003735Z
UID:10001463-1733337000-1733340600@whcouncil.org
SUMMARY:Arts & Culture Committee - Special Meeting
DESCRIPTION:Please join us for our last committee meeting for 2024 via Zoom! \nWoodland Hills – Warner Center NC is inviting you to a scheduled Zoom meeting. \nTopic: Arts and Culture Committee – Special Meeting\nTime: Dec 4\, 2024 06:30 PM Pacific Time (US and Canada) \nJoin Zoom Meeting\nhttps://us02web.zoom.us/j/81483490146 \nMeeting ID: 814 8349 0146 \n— \nOne tap mobile\n+16694449171\,\,81483490146# US\n+16699006833\,\,81483490146# US (San Jose) \n— \nDial by your location\n• +1 669 444 9171 US\n• +1 669 900 6833 US (San Jose)\n• +1 346 248 7799 US (Houston)\n• +1 719 359 4580 US\n• +1 253 205 0468 US\n• +1 253 215 8782 US (Tacoma)\n• +1 646 931 3860 US\n• +1 689 278 1000 US\n• +1 929 205 6099 US (New York)\n• +1 301 715 8592 US (Washington DC)\n• +1 305 224 1968 US\n• +1 309 205 3325 US\n• +1 312 626 6799 US (Chicago)\n• +1 360 209 5623 US\n• +1 386 347 5053 US\n• +1 507 473 4847 US\n• +1 564 217 2000 US\n• 877 853 5257 US Toll-free\n• 888 475 4499 US Toll-free\n• 833 548 0276 US Toll-free\n• 833 548 0282 US Toll-free \nMeeting ID: 814 8349 0146 \nFind your local number: https://us02web.zoom.us/u/kchMO6ptU5 \n  \nAgenda: https://whcouncil.org/wp-content/uploads/minutes-agendas-newsletters/ArtsAgendas_2024-12-04.pdf
URL:https://whcouncil.org/event/arts-culture-committee-special-meeting/
LOCATION:CA
CATEGORIES:Arts & Culture
END:VEVENT
BEGIN:VEVENT
DTSTART;TZID=America/Los_Angeles:20241205T183000
DTEND;TZID=America/Los_Angeles:20241205T190000
DTSTAMP:20260425T055950
CREATED:20241205T003704Z
LAST-MODIFIED:20241205T003738Z
UID:10001464-1733423400-1733425200@whcouncil.org
SUMMARY:Planning\, Land Use\, and Mobility (PLUM) Committee (12/5/24)
DESCRIPTION:The PLUM meeting on December 5\, 2024 has been cancelled.
URL:https://whcouncil.org/event/planning-land-use-and-mobility-plum-committee-12-5-24/
LOCATION:CA
CATEGORIES:PLUM
END:VEVENT
END:VCALENDAR