BEGIN:VCALENDAR
VERSION:2.0
PRODID:-//Woodland Hills Warner - Center Neighborhood Council | Your most local part of CIty Government - ECPv6.15.20//NONSGML v1.0//EN
CALSCALE:GREGORIAN
METHOD:PUBLISH
X-ORIGINAL-URL:https://whcouncil.org
X-WR-CALDESC:Events for Woodland Hills Warner - Center Neighborhood Council | Your most local part of CIty Government
REFRESH-INTERVAL;VALUE=DURATION:PT1H
X-Robots-Tag:noindex
X-PUBLISHED-TTL:PT1H
BEGIN:VTIMEZONE
TZID:America/Los_Angeles
BEGIN:DAYLIGHT
TZOFFSETFROM:-0800
TZOFFSETTO:-0700
TZNAME:PDT
DTSTART:20230312T100000
END:DAYLIGHT
BEGIN:STANDARD
TZOFFSETFROM:-0700
TZOFFSETTO:-0800
TZNAME:PST
DTSTART:20231105T090000
END:STANDARD
BEGIN:DAYLIGHT
TZOFFSETFROM:-0800
TZOFFSETTO:-0700
TZNAME:PDT
DTSTART:20240310T100000
END:DAYLIGHT
BEGIN:STANDARD
TZOFFSETFROM:-0700
TZOFFSETTO:-0800
TZNAME:PST
DTSTART:20241103T090000
END:STANDARD
BEGIN:DAYLIGHT
TZOFFSETFROM:-0800
TZOFFSETTO:-0700
TZNAME:PDT
DTSTART:20250309T100000
END:DAYLIGHT
BEGIN:STANDARD
TZOFFSETFROM:-0700
TZOFFSETTO:-0800
TZNAME:PST
DTSTART:20251102T090000
END:STANDARD
END:VTIMEZONE
BEGIN:VEVENT
DTSTART;TZID=America/Los_Angeles:20241104T183000
DTEND;TZID=America/Los_Angeles:20241104T210000
DTSTAMP:20260425T094639
CREATED:20241102T003330Z
LAST-MODIFIED:20241102T032037Z
UID:10001214-1730745000-1730754000@whcouncil.org
SUMMARY:Community Services Committee Meeting
DESCRIPTION:  \n  \n  \nCommunity Services Committee Members \nJoyce Fletcher\, Chair                               Karen Di Biase \nKate Kennedy \nJulian Tu \n  \n  \n  \nWOODLAND HILLS \n WARNER CENTER   \nNEIGHBORHOOD COUNCIL \n  \nEmail: NCsupport@lacity.org \nWebsite: www.empowerla.org \n  \nCommunity Services Committee Meeting Agenda \n    Monday\, November 4\, 2024 \n Click for Agenda \n6:30p.m. to 9:00p.m. \n  \nCity of Los Angeles Fire Station # 84 – Community Room \n21050 Burbank Blvd\, Woodland Hills\, CA 91367 \nParking is available in the lot across the street. \n  \nSi requiere servicios de traducción\, favor de avisar al Concejo Vecinal 3 días de trabajo (72 horas) antes del evento. Por favor contacte a Dena Weiss de la Mesa Directiva\, d.weiss@whcouncil.org o por correo electrónico avisar al Concejo Vecinal. \nComments from the public on other matters not appearing on the agenda that are within the Board’s jurisdiction will be heard during the General Public Comment period. Please note that under the Brown Act\, the Board is prevented from acting on a matter that you bring to its attention during the General Public Comment period; however\, the issue raised by a member of the public may become the subject of a future Board meeting. Public comment is limited to two (2) minutes per speaker\, unless adjusted by the presiding officer of the Board. \n  \nI.                CALL TO ORDER AND COMMITTEE ROLL CALL\nMembers: Joyce Fletcher-Chair\, Karen DiBiase\, Kate Kennedy\, Julian Tu\n  \n\nAPPROVAL OF MINUTES – September 4\, 2024\n\n                                            October 7\, 2024 \n                                            October 21\, 2024 \n  \n\nGENERAL PUBLIC COMMENT – Comments from the public on non-agenda items that are within the WHWCNC’s Board jurisdiction and within the committee’s jurisdiction.\n\nEach speaker will be allowed two (2) minute(s). \n  \nIV.            AGENDA ITEMS\n  \nFor discussion and possible action: \n  \n\nUpdate on holiday lights on Ventura Blvd. We’ll co-ordinate with the Arts and Culture\n\nCommittee\, Masha Dowell to hang lights on trees on Ventura Blvd. \n  \n\nReminder/placeholder- WHWCNC Toy Drive. The 21th Annual Motor4Toys Charity Car Show and\n\nToy Drive. NC purchase of a space/booth at the car show/toy drive. Dena Weiss will provide a car. \nSunday December 8th from 7am to 11am. We can set up the day before. \nPlanning for outreach for event. \n  \n\nDiscussion related to new water fountains and lights at Warner Park.\n\n  \n\n  Discussion about ways to support Diversity\, Seniors\, Veterans and LGBTQ neighbors in\n\nour community. \n  \n\nDiscussion about plans and committee goals for fiscal year 2024/2025.\n\n  \n\nNew Business – for discussion and possible action at the next committee meeting.\n\n  \nADJOURNMENT\nAs a covered entity under Title II of the Americans with Disabilities Act\, the City of Los Angeles does         not discriminate on the basis of disability and upon request will provide reasonable accommodation           to ensure equal access to its programs\, services\, and activities. Sign language interpreters\, assistive      listening devices\, or other auxiliary aids and/or services may be provided upon request. To ensure availability of services\, please make your request at least 3 business days (72 hours) prior to the        meeting by contacting the Department of Neighborhood Empowerment by calling (213) 978-1551 or  email: NCsupport@lacity.org \n  \n Public Posting of Agendas  \nThe Community Services Committee meets on the 1st and 3rd Monday of each month. However\, visit our  \nwebsite calendar page at whcouncil.org\, to review all committee meeting dates\, as a date may change. \n  \nNeighborhood Council agendas are posted for public review as follows: \n\nFire Station 84 front window located at 21050 Burbank Blvd. Woodland Hills CA 91367.\nOn the Woodland Hills-Warner Center Neighborhood Council website at calendar page at whcouncil.org\nYou can also receive our agendas via email by subscribing to A. City’s Early Notification System (ENS)\n\n     Notice to Paid Representatives  \nIf you are compensated to monitor\, attend\, or speak at this meeting\, City law may require you to register asalobbyistandreportyouractivity.SeeLosAngelesMunicipalCodeSection48.01etseq. \nMore information is available at ethics.lacity.org/lobbying. For assistance\, please contact the Ethics Commission at (213) 978-1960 or ethics.commission@lacity.org \n  \n  \n     Public Access of Records  \nIn compliance with Government Code section 54957.5\, non-exempt writings that are distributed to a majority or all the board in advance of a meeting may be viewed at our website: www.whcouncil.org or at the scheduled meeting. In addition\, if you would like a copy of any record related to an item on the agenda\, please get in touch with Dena Weiss by email to d.weiss@whcouncil.org \n  \n     Reconsideration and Grievance Process  \nFor information on the NC’s process for board action reconsideration\, stakeholder grievance policy\, or any other procedural matters related to this Council\, please consult the NC Bylaws. The Bylaws are available at our Board meetings and our website www.whcouncil.org. \n  \n 
URL:https://whcouncil.org/event/community-services-committee-meeting-29/
LOCATION:LAFD Fire Station 84\, 21050 Burbank Blvd.\, Woodland Hills\, CA\, 91367\, United States
CATEGORIES:Community Services
GEO:34.1729585;-118.5915767
X-APPLE-STRUCTURED-LOCATION;VALUE=URI;X-ADDRESS=LAFD Fire Station 84 21050 Burbank Blvd. Woodland Hills CA 91367 United States;X-APPLE-RADIUS=500;X-TITLE=21050 Burbank Blvd.:geo:-118.5915767,34.1729585
END:VEVENT
BEGIN:VEVENT
DTSTART;TZID=America/Los_Angeles:20241107T183000
DTEND;TZID=America/Los_Angeles:20241107T210000
DTSTAMP:20260425T094639
CREATED:20240317T223323Z
LAST-MODIFIED:20241104T202426Z
UID:10001376-1731004200-1731013200@whcouncil.org
SUMMARY:Planning\, Land Use\, and Mobility (PLUM) Committee Meeting 11/7/24
DESCRIPTION:The PLUM Committee will be holding its regular meeting on Thursday\, November 7\, 2024 at 6:30 pm via Zoom. The significant item is below and the full agenda can be viewed here: November 7\, 2024 PLUM Agenda. \n\nDiscussion and possible motion on planning cases ENV-2024-4894-EAF\, CPC-2024-4893-DB-SPPC-HCA. 19923 Ventura Blvd.\, Woodland Hills\, CA 91364. The applicant proposes a new mixed-use with residential over commercial: A 54-unit 6 story building with 1st floor parking and 1\,249.8 SF commercial over one level of subterranean parking. Project provides (6) low-income apartments. Density bonus case requesting (3) off menu incentives:\n\nAdditional height from 30 feet to 76’3″ feet\, a 154.5% increase.\nIncrease in FAR from 1:1 to 4.69 :1\, a 369% increase.\nReduction of LAMC required parking from 89 spaces to 37 spaces and also two waivers:\n\nwaiver of transitional height via Specific Plan Sec. 7 (E) (1) (f) to exceed 30 feet without setback and\nwaiver of Specific Plan lot coverage Sec.7B(2) from 60% to 88%.\n\n\n\n\n\nAccess the meeting via Zoom: https://us02web.zoom.us/j/83871859383 
URL:https://whcouncil.org/event/planning-land-use-and-mobility-plum-committee-meeting-4-2024-11-07/
LOCATION:ZOOM\, NONE\, NONE\, CA\, NONE\, United States
CATEGORIES:PLUM
GEO:37.0982847;-122.0979399
X-APPLE-STRUCTURED-LOCATION;VALUE=URI;X-ADDRESS=ZOOM NONE NONE CA NONE United States;X-APPLE-RADIUS=500;X-TITLE=NONE:geo:-122.0979399,37.0982847
END:VEVENT
END:VCALENDAR