BEGIN:VCALENDAR
VERSION:2.0
PRODID:-//Woodland Hills Warner - Center Neighborhood Council | Your most local part of CIty Government - ECPv6.15.20//NONSGML v1.0//EN
CALSCALE:GREGORIAN
METHOD:PUBLISH
X-ORIGINAL-URL:https://whcouncil.org
X-WR-CALDESC:Events for Woodland Hills Warner - Center Neighborhood Council | Your most local part of CIty Government
REFRESH-INTERVAL;VALUE=DURATION:PT1H
X-Robots-Tag:noindex
X-PUBLISHED-TTL:PT1H
BEGIN:VTIMEZONE
TZID:America/Los_Angeles
BEGIN:DAYLIGHT
TZOFFSETFROM:-0800
TZOFFSETTO:-0700
TZNAME:PDT
DTSTART:20230312T100000
END:DAYLIGHT
BEGIN:STANDARD
TZOFFSETFROM:-0700
TZOFFSETTO:-0800
TZNAME:PST
DTSTART:20231105T090000
END:STANDARD
BEGIN:DAYLIGHT
TZOFFSETFROM:-0800
TZOFFSETTO:-0700
TZNAME:PDT
DTSTART:20240310T100000
END:DAYLIGHT
BEGIN:STANDARD
TZOFFSETFROM:-0700
TZOFFSETTO:-0800
TZNAME:PST
DTSTART:20241103T090000
END:STANDARD
BEGIN:DAYLIGHT
TZOFFSETFROM:-0800
TZOFFSETTO:-0700
TZNAME:PDT
DTSTART:20250309T100000
END:DAYLIGHT
BEGIN:STANDARD
TZOFFSETFROM:-0700
TZOFFSETTO:-0800
TZNAME:PST
DTSTART:20251102T090000
END:STANDARD
END:VTIMEZONE
BEGIN:VEVENT
DTSTART;TZID=America/Los_Angeles:20241014T160000
DTEND;TZID=America/Los_Angeles:20241014T180000
DTSTAMP:20260425T075026
CREATED:20241001T000254Z
LAST-MODIFIED:20241001T000254Z
UID:10001445-1728921600-1728928800@whcouncil.org
SUMMARY:Outreach Committee Meeting - 10/14/24
DESCRIPTION:The next Outreach Committee Meeting will be held at a special time at 4:00pm PT on Monday\, October 14th via ZOOM \nThe agenda will be posted in advance of the meeting.
URL:https://whcouncil.org/event/outreach-committee-meeting-10-14-24/
LOCATION:ZOOM\, NONE\, NONE\, CA\, NONE\, United States
CATEGORIES:Community Outreach
ORGANIZER;CN="Tracey Rosen":MAILTO:tracey.rosen@gmail.com
GEO:37.0982847;-122.0979399
X-APPLE-STRUCTURED-LOCATION;VALUE=URI;X-ADDRESS=ZOOM NONE NONE CA NONE United States;X-APPLE-RADIUS=500;X-TITLE=NONE:geo:-122.0979399,37.0982847
END:VEVENT
BEGIN:VEVENT
DTSTART;TZID=America/Los_Angeles:20241014T183000
DTEND;TZID=America/Los_Angeles:20241014T200000
DTSTAMP:20260425T075026
CREATED:20241011T215553Z
LAST-MODIFIED:20241011T215553Z
UID:10001448-1728930600-1728936000@whcouncil.org
SUMMARY:Outreach Committee Meeting 10/14/24
DESCRIPTION:The next Outreach Committee Meeting  meeting will be held on October 14\, 2024 at 6:30pm via ZOOM \nJoin Zoom Meeting\nhttps://us02web.zoom.us/j/85021748581 \nVia Phone: 888-475-4499 US Toll-free\nMeeting ID: 850 2174 8581 \n  \nThe agenda can be found HERE: Oct 14\, 2024  \n 
URL:https://whcouncil.org/event/outreach-committee-meeting-10-14-24-2/
LOCATION:ZOOM\, NONE\, NONE\, CA\, NONE\, United States
CATEGORIES:Community Outreach
ORGANIZER;CN="Tracey Rosen":MAILTO:tracey.rosen@gmail.com
GEO:37.0982847;-122.0979399
X-APPLE-STRUCTURED-LOCATION;VALUE=URI;X-ADDRESS=ZOOM NONE NONE CA NONE United States;X-APPLE-RADIUS=500;X-TITLE=NONE:geo:-122.0979399,37.0982847
END:VEVENT
BEGIN:VEVENT
DTSTART;TZID=America/Los_Angeles:20241015T113000
DTEND;TZID=America/Los_Angeles:20241015T133000
DTSTAMP:20260425T075026
CREATED:20241012T174944Z
LAST-MODIFIED:20241012T174944Z
UID:10001449-1728991800-1728999000@whcouncil.org
SUMMARY:Public Safety Committee
DESCRIPTION:The Public Safety Committee hosts their regular monthly meeting Tuesday October 15\, 2024 from 11:30 am to 1:30 pm at the Capital One Cafe inside the Westfield Topanga Mall located at 6600 Topanga Boulevard Suite 1038.  All are welcome.  For the agenda\, click here:  Oct 15\, 2024
URL:https://whcouncil.org/event/public-safety-committee-5/
LOCATION:Community Room\, Capital One Cafe\, 6600 CA-27 Suite 1038 Suite 103\, Canoga Park\, CA\, 91303\, United States
CATEGORIES:Public Safety
ORGANIZER;CN="Julie Waltrip":MAILTO:J.waltrip@whcouncil.org
GEO:34.1900362;-118.6035049
X-APPLE-STRUCTURED-LOCATION;VALUE=URI;X-ADDRESS=Community Room Capital One Cafe 6600 CA-27 Suite 1038 Suite 103 Canoga Park CA 91303 United States;X-APPLE-RADIUS=500;X-TITLE=6600 CA-27 Suite 1038 Suite 103:geo:-118.6035049,34.1900362
END:VEVENT
BEGIN:VEVENT
DTSTART;TZID=America/Los_Angeles:20241015T183000
DTEND;TZID=America/Los_Angeles:20241015T200000
DTSTAMP:20260425T075026
CREATED:20241013T005538Z
LAST-MODIFIED:20241013T005538Z
UID:10001450-1729017000-1729022400@whcouncil.org
SUMMARY:CANCELLATION OF GOVERNANCE MEETING
DESCRIPTION:WH-WC NC  \nGovernance Committee \nMeeting \n  \n\n\n\n\n\n\n\n\n\n\n\n  \n  \n  \n  \n  \n  \n200 N. Spring Street \nLos Ángeles\, CA 9001 \n  \nEmail: NCsupport@lacity.org \nWebsite: www.empowerla.org \n  \n  \n  \n  \n  \n  \n  \n     Regular Meeting \n                    By Zoom   \n             Agenda \nTuesday\, October 15\, 2024 \n6:30 PM  \n  \n  \n  \nNOTICE OF CANCELLATION UNTIL NOVEMBER  19\, 2024 MEETING \n  \nOct 15\, 2024
URL:https://whcouncil.org/event/cancellation-of-governance-meeting/
LOCATION:ZOOM\, NONE\, NONE\, CA\, NONE\, United States
CATEGORIES:Governance
GEO:37.0982847;-122.0979399
X-APPLE-STRUCTURED-LOCATION;VALUE=URI;X-ADDRESS=ZOOM NONE NONE CA NONE United States;X-APPLE-RADIUS=500;X-TITLE=NONE:geo:-122.0979399,37.0982847
END:VEVENT
BEGIN:VEVENT
DTSTART;TZID=America/Los_Angeles:20241016T173000
DTEND;TZID=America/Los_Angeles:20241016T183000
DTSTAMP:20260425T075026
CREATED:20241015T211449Z
LAST-MODIFIED:20241015T211449Z
UID:10001451-1729099800-1729103400@whcouncil.org
SUMMARY:Government Relations Committee Special Meeting 10/16/2024
DESCRIPTION:We will be having a special Government Relations Committee meeting on Wednesday\, October 16\, 2024 at 5:30pm via ZOOM \nZoom Meeting Online or By Telephone \nPlease click the link below to join the webinar:\nhttps://us02web.zoom.us/j/5084383429\nOr Dial (888 475 4499) to Join the Meeting\n#M/1 Enter This Meeting ID: 5084383429 and Press # \n  \nClick HERE to view the Agenda
URL:https://whcouncil.org/event/government-relations-committee-special-meeting-10-16-2024/
LOCATION:ZOOM\, NONE\, NONE\, CA\, NONE\, United States
CATEGORIES:Government Relations
ORGANIZER;CN="Reina McCaughey":MAILTO:r.mccaughey@whcouncil.org
GEO:37.0982847;-122.0979399
X-APPLE-STRUCTURED-LOCATION;VALUE=URI;X-ADDRESS=ZOOM NONE NONE CA NONE United States;X-APPLE-RADIUS=500;X-TITLE=NONE:geo:-122.0979399,37.0982847
END:VEVENT
BEGIN:VEVENT
DTSTART;TZID=America/Los_Angeles:20241016T183000
DTEND;TZID=America/Los_Angeles:20241016T200000
DTSTAMP:20260425T075026
CREATED:20241016T004905Z
LAST-MODIFIED:20241016T004905Z
UID:10001453-1729103400-1729108800@whcouncil.org
SUMMARY:CANCELLATION OF ARTS & CULTURE COMMITTEE MEETING
DESCRIPTION:
URL:https://whcouncil.org/event/cancellation-of-arts-culture-committee-meeting/
LOCATION:CA
CATEGORIES:Arts & Culture
END:VEVENT
BEGIN:VEVENT
DTSTART;TZID=America/Los_Angeles:20241017T183000
DTEND;TZID=America/Los_Angeles:20241017T210000
DTSTAMP:20260425T075026
CREATED:20240317T223431Z
LAST-MODIFIED:20241014T032439Z
UID:10001132-1729189800-1729198800@whcouncil.org
SUMMARY:Planning\, Land Use\, and Mobility (PLUM) Committee Meeting 10/17/24
DESCRIPTION:The Planning\, Land Use\, and Mobility (PLUM) Committee will hold its regular meeting on Thursday\, October 17\, 2024. Significant items for discussion are below. The full agenda is here: October 17\, 2024 PLUM Agenda. \n\nDiscussion and possible action on the Citywide Housing Incentive Program (CHIP) Ordinance\nThe committee will discuss the Citywide Housing Incentive Program (CHIP) and consider a motion related to the plan and/or the draft ordinance. Information on the proposed ordinance can be found on the City’s Planning Department website.\n\nAccess the meeting on Zoom: https://us02web.zoom.us/j/83688139479
URL:https://whcouncil.org/event/planning-land-use-and-mobility-plum-committee-meeting-5-2024-10-17/
LOCATION:ZOOM\, NONE\, NONE\, CA\, NONE\, United States
CATEGORIES:PLUM
GEO:37.0982847;-122.0979399
X-APPLE-STRUCTURED-LOCATION;VALUE=URI;X-ADDRESS=ZOOM NONE NONE CA NONE United States;X-APPLE-RADIUS=500;X-TITLE=NONE:geo:-122.0979399,37.0982847
END:VEVENT
END:VCALENDAR