BEGIN:VCALENDAR
VERSION:2.0
PRODID:-//Woodland Hills Warner - Center Neighborhood Council | Your most local part of CIty Government - ECPv6.15.20//NONSGML v1.0//EN
CALSCALE:GREGORIAN
METHOD:PUBLISH
X-WR-CALNAME:Woodland Hills Warner - Center Neighborhood Council | Your most local part of CIty Government
X-ORIGINAL-URL:https://whcouncil.org
X-WR-CALDESC:Events for Woodland Hills Warner - Center Neighborhood Council | Your most local part of CIty Government
REFRESH-INTERVAL;VALUE=DURATION:PT1H
X-Robots-Tag:noindex
X-PUBLISHED-TTL:PT1H
BEGIN:VTIMEZONE
TZID:America/Los_Angeles
BEGIN:DAYLIGHT
TZOFFSETFROM:-0800
TZOFFSETTO:-0700
TZNAME:PDT
DTSTART:20230312T100000
END:DAYLIGHT
BEGIN:STANDARD
TZOFFSETFROM:-0700
TZOFFSETTO:-0800
TZNAME:PST
DTSTART:20231105T090000
END:STANDARD
BEGIN:DAYLIGHT
TZOFFSETFROM:-0800
TZOFFSETTO:-0700
TZNAME:PDT
DTSTART:20240310T100000
END:DAYLIGHT
BEGIN:STANDARD
TZOFFSETFROM:-0700
TZOFFSETTO:-0800
TZNAME:PST
DTSTART:20241103T090000
END:STANDARD
BEGIN:DAYLIGHT
TZOFFSETFROM:-0800
TZOFFSETTO:-0700
TZNAME:PDT
DTSTART:20250309T100000
END:DAYLIGHT
BEGIN:STANDARD
TZOFFSETFROM:-0700
TZOFFSETTO:-0800
TZNAME:PST
DTSTART:20251102T090000
END:STANDARD
END:VTIMEZONE
BEGIN:VEVENT
DTSTART;TZID=America/Los_Angeles:20240904T183000
DTEND;TZID=America/Los_Angeles:20240904T213000
DTSTAMP:20260425T074616
CREATED:20240901T202431Z
LAST-MODIFIED:20240901T203422Z
UID:10001193-1725474600-1725485400@whcouncil.org
SUMMARY:Community Services Special Meeting
DESCRIPTION:  \n  \n  \nNeighborhood Council Committee Members: \nJoyce Fletcher\, Chair                               Karen Di Biase \nKate Kennedy \nJulian Tu \n  \n  \n  \nWOODLAND HILLS \n WARNER CENTER   \nNEIGHBORHOOD COUNCIL \n  \nEmail: NCsupport@lacity.org \nWebsite: www.empowerla.org \n  \nCommunity Services Committee SPECIAL – Meeting Agenda \nWednesday\, September 4\, 2024 \n(Committee did not meet on Monday September 2nd  \ndue to Labor Day Holiday) \n  \n6:30p.m. to 9:00p.m. \n  \nCity of Los Angeles Fire Station # 84 – Community Room \n21050 Burbank Blvd\, Woodland Hills\, CA 91367 \nParking is available in the lot across the street. \nClick for Agenda \nHow to do a Community Impact Statement \nSi requiere servicios de traducción\, favor de avisar al Concejo Vecinal 3 días de trabajo (72 horas) antes del evento. Por favor contacte a Dena Weiss de la Mesa Directiva\, d.weiss@whcouncil.org o por correo electrónico avisar al Concejo Vecinal. \nComments from the public on other matters not appearing on the agenda that are within the Board’s jurisdiction will be heard during the General Public Comment period. Please note that under the Brown Act\, the Board is prevented from acting on a matter that you bring to its attention during the General Public Comment period; however\, the issue raised by a member of the public may become the subject of a future Board meeting. Public comment is limited to two (2) minutes per speaker\, unless adjusted by the presiding officer of the Board. \n  \nI.                CALL TO ORDER AND COMMITTEE ROLL CALL\nMembers: Joyce Fletcher-Chair\, Karen DiBiase\, Kate Kennedy\, Julian Tu\n  \n\nAPPROVAL OF MINUTES – August 19\, 2024\n\n  \n\nGENERAL PUBLIC COMMENT – Comments from the public on non-agenda items that are within the WHWCNC’s Board jurisdiction and within the committee’s jurisdiction.\n\nEach speaker will be allowed two (2) minute(s). \n  \nIV.            AGENDA ITEMS\n  \nFor discussion and possible action: \n  \n\nCommunity Improvement Project – Discussion UPDATE related to installing water fountains\,\n\nmore lights and general improvements to Warner Center Park. Research and provide a written plan for a Community Improvement Project to improve Warner Center Park. The Plan will be discussed \nwith the CD3 Council office and Parks and Recreation. CD 3 is working with the WHWCNC and \nthe neighbors who live near the park. \n  \n\nCS Committee articles/updates for the NC Newsletter.\n\n  \n\nUpdate on Holiday Lights on Ventura Blvd.\n\n  \n\nHow to write a Community Impact Statement.\n\nSee attached document. \n  \n\nReminder/placeholder- WHWCNC Toy Drive. The 21th Annual Motor4Toys Charity Car Show and\n\nToy Drive. NC purchase of a space/booth at the car show/toy drive. Dena Weiss will provide a car. \n  \n\nForums – Discussion about NC Forums and important issues in the community that may be\n\naddressed by the CS Committee presenting a Special Presentation/Forum. \nPossible Community Plan Forum with PLUM Committee. \n  \n\nNeighborhood community organizations that could benefit from an NPG.\n\n      \n\nDiscussion of committee goals for fiscal year 2024/2025.\n\n  \n\nNew Business – for discussion and possible action at the next committee meeting.\n\n  \nADJOURNMENT\nAs a covered entity under Title II of the Americans with Disabilities Act\, the City of Los Angeles does         not discriminate on the basis of disability and upon request will provide reasonable accommodation           to ensure equal access to its programs\, services\, and activities. Sign language interpreters\, assistive      listening devices\, or other auxiliary aids and/or services may be provided upon request. To ensure availability of services\, please make your request at least 3 business days (72 hours) prior to the        meeting by contacting the Department of Neighborhood Empowerment by calling (213) 978-1551 or  email: NCsupport@lacity.org \n  \n Public Posting of Agendas  \nThe Community Services Committee meets on the 1st and 3rd Monday of each month. However\, visit our  \nwebsite calendar page at whcouncil.org\, to review all committee meeting dates\, as a date may change. \n  \nNeighborhood Council agendas are posted for public review as follows: \n\nFire Station 84 front window located at 21050 Burbank Blvd. Woodland Hills CA 91367.\nOn the Woodland Hills-Warner Center Neighborhood Council website at calendar page at whcouncil.org\n\n  \n  \n  \n\nYou can also receive our agendas via email by subscribing to A. City’s Early Notification System (ENS)\n\n  \n     Notice to Paid Representatives  \nIf you are compensated to monitor\, attend\, or speak at this meeting\, City law may require you to register asalobbyistandreportyouractivity.SeeLosAngelesMunicipalCodeSection48.01etseq. \nMore information is available at ethics.lacity.org/lobbying. For assistance\, please contact the Ethics Commission at (213) 978-1960 or ethics.commission@lacity.org \n  \n     Public Access of Records  \nIn compliance with Government Code section 54957.5\, non-exempt writings that are distributed to a majority or all the board in advance of a meeting may be viewed at our website: www.whcouncil.org or at the scheduled meeting. In addition\, if you would like a copy of any record related to an item on the agenda\, please get in touch with Dena Weiss by email to d.weiss@whcouncil.org \n  \n     Reconsideration and Grievance Process  \nFor information on the NC’s process for board action reconsideration\, stakeholder grievance policy\, or any other procedural matters related to this Council\, please consult the NC Bylaws. The Bylaws are available at our Board meetings and our website www.whcouncil.org. \n  \n 
URL:https://whcouncil.org/event/community-services-special-meeting/
LOCATION:LAFD Fire Station 84\, 21050 Burbank Blvd.\, Woodland Hills\, CA\, 91367\, United States
CATEGORIES:Community Services
GEO:34.1729585;-118.5915767
X-APPLE-STRUCTURED-LOCATION;VALUE=URI;X-ADDRESS=LAFD Fire Station 84 21050 Burbank Blvd. Woodland Hills CA 91367 United States;X-APPLE-RADIUS=500;X-TITLE=21050 Burbank Blvd.:geo:-118.5915767,34.1729585
END:VEVENT
BEGIN:VEVENT
DTSTART;TZID=America/Los_Angeles:20240905T183000
DTEND;TZID=America/Los_Angeles:20240905T193000
DTSTAMP:20260425T074616
CREATED:20240317T223323Z
LAST-MODIFIED:20240902T170630Z
UID:10001374-1725561000-1725564600@whcouncil.org
SUMMARY:Planning\, Land Use\, and Mobility (PLUM) Committee Meeting 9/5/24
DESCRIPTION:The Planning\, Land Use\, and Mobility (PLUM) Committee will hold its regular meeting on Thursday\, September 5\, 2024 via Zoom. The major item to be discussed is below. The full agenda can be accessed here: September 5\, 2025 PLUM Agenda. The Zoom meeting can be accessed here: https://us02web.zoom.us/j/83871859383 \n\nReview of New Cases to be placed on next meeting agenda\, Review of Current Cases\, and general committee business.\nThe committee will discuss the status of currently outstanding cases and assignment of new cases for consideration at future meetings.
URL:https://whcouncil.org/event/planning-land-use-and-mobility-plum-committee-meeting-4-2024-09-05/
LOCATION:ZOOM\, NONE\, NONE\, CA\, NONE\, United States
CATEGORIES:PLUM
ORGANIZER;CN="Don Patterson":MAILTO:whwcncarea4@gmail.com
GEO:37.0982847;-122.0979399
X-APPLE-STRUCTURED-LOCATION;VALUE=URI;X-ADDRESS=ZOOM NONE NONE CA NONE United States;X-APPLE-RADIUS=500;X-TITLE=NONE:geo:-122.0979399,37.0982847
END:VEVENT
BEGIN:VEVENT
DTSTART;TZID=America/Los_Angeles:20240907T080000
DTEND;TZID=America/Los_Angeles:20240907T100000
DTSTAMP:20260425T074616
CREATED:20240904T232754Z
LAST-MODIFIED:20240904T232754Z
UID:10001434-1725696000-1725703200@whcouncil.org
SUMMARY:WHWCNC 1st Saturday Community Cleanup will be on 09-07-24
DESCRIPTION:Activity: We will finish our project started in August by cleaning up the 7 remaining tree wells\, removing excess brush and trash.\n\nTime:  8am-10am\n\nLocation:  Winnetka Ave/Victory Blvd. (across from Pierce College.  Park in the Orange Line parking lot\, near the west side).\n\nBring gloves\, hat\, water.  Tools and bags will be provided.
URL:https://whcouncil.org/event/whwcnc-1st-saturday-community-cleanup-will-be-on-09-07-24/
LOCATION:CA
CATEGORIES:Environment & Beautification
END:VEVENT
END:VCALENDAR