BEGIN:VCALENDAR
VERSION:2.0
PRODID:-//Woodland Hills Warner - Center Neighborhood Council | Your most local part of CIty Government - ECPv6.15.20//NONSGML v1.0//EN
CALSCALE:GREGORIAN
METHOD:PUBLISH
X-ORIGINAL-URL:https://whcouncil.org
X-WR-CALDESC:Events for Woodland Hills Warner - Center Neighborhood Council | Your most local part of CIty Government
REFRESH-INTERVAL;VALUE=DURATION:PT1H
X-Robots-Tag:noindex
X-PUBLISHED-TTL:PT1H
BEGIN:VTIMEZONE
TZID:America/Los_Angeles
BEGIN:DAYLIGHT
TZOFFSETFROM:-0800
TZOFFSETTO:-0700
TZNAME:PDT
DTSTART:20230312T100000
END:DAYLIGHT
BEGIN:STANDARD
TZOFFSETFROM:-0700
TZOFFSETTO:-0800
TZNAME:PST
DTSTART:20231105T090000
END:STANDARD
BEGIN:DAYLIGHT
TZOFFSETFROM:-0800
TZOFFSETTO:-0700
TZNAME:PDT
DTSTART:20240310T100000
END:DAYLIGHT
BEGIN:STANDARD
TZOFFSETFROM:-0700
TZOFFSETTO:-0800
TZNAME:PST
DTSTART:20241103T090000
END:STANDARD
BEGIN:DAYLIGHT
TZOFFSETFROM:-0800
TZOFFSETTO:-0700
TZNAME:PDT
DTSTART:20250309T100000
END:DAYLIGHT
BEGIN:STANDARD
TZOFFSETFROM:-0700
TZOFFSETTO:-0800
TZNAME:PST
DTSTART:20251102T090000
END:STANDARD
END:VTIMEZONE
BEGIN:VEVENT
DTSTART;TZID=America/Los_Angeles:20240605T190000
DTEND;TZID=America/Los_Angeles:20240805T005446
DTSTAMP:20260425T090748
CREATED:20240805T005445Z
LAST-MODIFIED:20240805T005445Z
UID:10001431-1717614000-1722819286@whcouncil.org
SUMMARY:CANCELLED 6-5-2024 WH Issues and Policies Cmte Mtg
DESCRIPTION:This meeting was canceled and never agendized for actions
URL:https://whcouncil.org/event/cancelled-6-5-2024-wh-issues-and-policies-cmte-mtg/
LOCATION:ZOOM\, NONE\, NONE\, CA\, NONE\, United States
CATEGORIES:WHIP
GEO:37.0982847;-122.0979399
X-APPLE-STRUCTURED-LOCATION;VALUE=URI;X-ADDRESS=ZOOM NONE NONE CA NONE United States;X-APPLE-RADIUS=500;X-TITLE=NONE:geo:-122.0979399,37.0982847
END:VEVENT
BEGIN:VEVENT
DTSTART;TZID=America/Los_Angeles:20240702T190000
DTEND;TZID=America/Los_Angeles:20240805T010209
DTSTAMP:20260425T090748
CREATED:20240805T010207Z
LAST-MODIFIED:20240805T010207Z
UID:10001433-1719946800-1722819729@whcouncil.org
SUMMARY:CANCELLED 7-2-2024 WH Issues and Policies Cmte Mtg
DESCRIPTION:This meeting was canceled due to the holiday week and was never agendized with actions.
URL:https://whcouncil.org/event/cancelled-7-2-2024-wh-issues-and-policies-cmte-mtg/
LOCATION:ZOOM\, NONE\, NONE\, CA\, NONE\, United States
CATEGORIES:WHIP
GEO:37.0982847;-122.0979399
X-APPLE-STRUCTURED-LOCATION;VALUE=URI;X-ADDRESS=ZOOM NONE NONE CA NONE United States;X-APPLE-RADIUS=500;X-TITLE=NONE:geo:-122.0979399,37.0982847
END:VEVENT
BEGIN:VEVENT
DTSTART;TZID=America/Los_Angeles:20240805T190000
DTEND;TZID=America/Los_Angeles:20240805T213000
DTSTAMP:20260425T090748
CREATED:20240803T182348Z
LAST-MODIFIED:20240803T183609Z
UID:10001430-1722884400-1722893400@whcouncil.org
SUMMARY:Special Community Services Committe Meeting
DESCRIPTION:Community Services Committee Special Meeting   \nMonday\, August 5\, 2024 \n  \n7:00p.m.  \n  \nClick for Agenda \nCommunity Impact Statements \nHow to do a Community Improvement Application \n  \nCity of Los Angeles Fire Station # 84 – Community Room \n21050 Burbank Blvd\, Woodland Hills\, CA 91367 \nParking is available in the lot across the street. \n  \nSi requiere servicios de traducción\, favor de avisar al Concejo Vecinal 3 días de trabajo (72 horas) antes del evento. Por favor contacte a Dena Weiss de la Mesa Directiva\, d.weiss@whcouncil.org o por correo electrónico avisar al Concejo Vecinal. \nComments from the public on other matters not appearing on the agenda that are within the Board’s jurisdiction will be heard during the General Public Comment period. Please note that under the Brown Act\, the Board is prevented from acting on a matter that you bring to its attention during the General Public Comment period; however\, the issue raised by a member of the public may become the subject of a future Board meeting. Public comment is limited to two (2) minutes per speaker\, unless adjusted by the presiding officer of the Board. \n  \nI.                CALL TO ORDER AND COMMITTEE ROLL CALL\nMembers: Joyce Fletcher-Chair\, Karen DiBiase\, Kate Kennedy\, Julian Tu\n  \n\nAPPROVAL OF MINUTES – June 3\, 2024\n\n                                            July 5\, 2024 \n  \n\nGENERAL PUBLIC COMMENT – Comments from the public on non-agenda items that are within the WHWCNC’s Board jurisdiction and within the committee’s jurisdiction.\n\nEach speaker will be allowed two (2) minute(s). \n  \nIV.            AGENDA ITEMS\n  \nFor discussion and possible action: \n  \n\nReminder/placeholder- WHWCNC Toy Drive. The 21th Annual Motor4Toys Charity Car Show and\n\nToy Drive. NC purchase of a space/booth at the car show/toy drive. Dena Weiss will provide a car. \n  \n\nCommittee tabling at Farmers Market August 10th or other location and other date.\n\n  \n\nCS Committee articles/updates for the NC Newsletter.\n\n  \n\nHow to write a Community Impact Statement.\n\nSee attached document. \n  \n\nCommunity Improvement Project (CIP) – Discussion related to installing water fountains\, more lights\n\nand general improvements to Warner Center Park. Research and provide a written plan for a        Community Improvement Project to improve Warner Center Park. The Plan will be discussed \nwith the CD3 Council office and Parks and Recreation. \nSee attached document – Guidelines for a CIP. \n  \n\nForums – Discussion about NC Forums and important issues in the community that may be\n\naddressed by the CS Committee presenting a Special Presentation/Forum. \n  \n\nNeighborhood community organizations that could benefit from a NPG.\n\n      \n\nDiscussion of committee goals for fiscal year 2024/2025.\n\n  \n\nNew Business – for discussion and possible action at the next committee meeting.\n\n  \nADJOURNMENT\nAs a covered entity under Title II of the Americans with Disabilities Act\, the City of Los Angeles does         not discriminate on the basis of disability and upon request will provide reasonable accommodation           to ensure equal access to its programs\, services\, and activities. Sign language interpreters\, assistive      listening devices\, or other auxiliary aids and/or services may be provided upon request. To ensure availability of services\, please make your request at least 3 business days (72 hours) prior to the        meeting by contacting the Department of Neighborhood Empowerment by calling (213) 978-1551 or  email: NCsupport@lacity.org \n  \n Public Posting of Agendas  \nThe Community Services Committee meets on the 1st and 3rd Monday of each month. However\, visit our  \nwebsite calendar page at whcouncil.org\, to review all committee meeting dates\, as a date may change. \n  \nNeighborhood Council agendas are posted for public review as follows: \n\nFire Station 84 front window located at 21050 Burbank Blvd. Woodland Hills CA 91367.\nOn the Woodland Hills-Warner Center Neighborhood Council website at calendar page at whcouncil.org\nYou can also receive our agendas via email by subscribing to A. City’s Early Notification System (ENS)\n\n  \n     Notice to Paid Representatives  \nIf you are compensated to monitor\, attend\, or speak at this meeting\, City law may require you to register asalobbyistandreportyouractivity.SeeLosAngelesMunicipalCodeSection48.01etseq. \nMore information is available at ethics.lacity.org/lobbying. For assistance\, please contact the Ethics Commission at (213) 978-1960 or ethics.commission@lacity.org \n  \n     Public Access of Records  \nIn compliance with Government Code section 54957.5\, non-exempt writings that are distributed to a majority or all the board in advance of a meeting may be viewed at our website: www.whcouncil.org or at the scheduled meeting. In addition\, if you would like a copy of any record related to an item on the agenda\, please get in touch with Dena Weiss by email to d.weiss@whcouncil.org \n  \n     Reconsideration and Grievance Process  \nFor information on the NC’s process for board action reconsideration\, stakeholder grievance policy\, or any other procedural matters related to this Council\, please consult the NC Bylaws. The Bylaws are available at our Board meetings and our website www.whcouncil.org. \n  \n 
URL:https://whcouncil.org/event/special-community-services-committe-meeting/
LOCATION:LAFD Fire Station 84\, 21050 Burbank Blvd.\, Woodland Hills\, CA\, 91367\, United States
CATEGORIES:Community Services
GEO:34.1729585;-118.5915767
X-APPLE-STRUCTURED-LOCATION;VALUE=URI;X-ADDRESS=LAFD Fire Station 84 21050 Burbank Blvd. Woodland Hills CA 91367 United States;X-APPLE-RADIUS=500;X-TITLE=21050 Burbank Blvd.:geo:-118.5915767,34.1729585
END:VEVENT
BEGIN:VEVENT
DTSTART;TZID=America/Los_Angeles:20240807T150000
DTEND;TZID=America/Los_Angeles:20240807T170000
DTSTAMP:20260425T090748
CREATED:20240807T191640Z
LAST-MODIFIED:20240807T191640Z
UID:10001185-1723042800-1723050000@whcouncil.org
SUMMARY:Government Relations Committee Meeting - 8/7 - Canceled
DESCRIPTION:Please note that the August 7th Government Relations Committee meeting has been canceled. \n  \nThank you for your understanding.
URL:https://whcouncil.org/event/government-relations-committee-meeting-8-7-canceled/
LOCATION:CA
CATEGORIES:Government Relations
END:VEVENT
BEGIN:VEVENT
DTSTART;TZID=America/Los_Angeles:20240807T190000
DTEND;TZID=America/Los_Angeles:20240807T213000
DTSTAMP:20260425T090748
CREATED:20240805T012108Z
LAST-MODIFIED:20240805T013404Z
UID:10001184-1723057200-1723066200@whcouncil.org
SUMMARY:8-7-2024 WH Issues and Policies Cmte Virtual Mtg
DESCRIPTION:
URL:https://whcouncil.org/event/8-7-2024-wh-issues-and-policies-cmte-virtual-mtg/
LOCATION:ZOOM\, NONE\, NONE\, CA\, NONE\, United States
CATEGORIES:WHIP
GEO:37.0982847;-122.0979399
X-APPLE-STRUCTURED-LOCATION;VALUE=URI;X-ADDRESS=ZOOM NONE NONE CA NONE United States;X-APPLE-RADIUS=500;X-TITLE=NONE:geo:-122.0979399,37.0982847
END:VEVENT
END:VCALENDAR