BEGIN:VCALENDAR
VERSION:2.0
PRODID:-//Woodland Hills Warner - Center Neighborhood Council | Your most local part of CIty Government - ECPv6.15.20//NONSGML v1.0//EN
CALSCALE:GREGORIAN
METHOD:PUBLISH
X-WR-CALNAME:Woodland Hills Warner - Center Neighborhood Council | Your most local part of CIty Government
X-ORIGINAL-URL:https://whcouncil.org
X-WR-CALDESC:Events for Woodland Hills Warner - Center Neighborhood Council | Your most local part of CIty Government
REFRESH-INTERVAL;VALUE=DURATION:PT1H
X-Robots-Tag:noindex
X-PUBLISHED-TTL:PT1H
BEGIN:VTIMEZONE
TZID:America/Los_Angeles
BEGIN:DAYLIGHT
TZOFFSETFROM:-0800
TZOFFSETTO:-0700
TZNAME:PDT
DTSTART:20230312T100000
END:DAYLIGHT
BEGIN:STANDARD
TZOFFSETFROM:-0700
TZOFFSETTO:-0800
TZNAME:PST
DTSTART:20231105T090000
END:STANDARD
BEGIN:DAYLIGHT
TZOFFSETFROM:-0800
TZOFFSETTO:-0700
TZNAME:PDT
DTSTART:20240310T100000
END:DAYLIGHT
BEGIN:STANDARD
TZOFFSETFROM:-0700
TZOFFSETTO:-0800
TZNAME:PST
DTSTART:20241103T090000
END:STANDARD
BEGIN:DAYLIGHT
TZOFFSETFROM:-0800
TZOFFSETTO:-0700
TZNAME:PDT
DTSTART:20250309T100000
END:DAYLIGHT
BEGIN:STANDARD
TZOFFSETFROM:-0700
TZOFFSETTO:-0800
TZNAME:PST
DTSTART:20251102T090000
END:STANDARD
END:VTIMEZONE
BEGIN:VEVENT
DTSTART;TZID=America/Los_Angeles:20240602T110000
DTEND;TZID=America/Los_Angeles:20240602T123000
DTSTAMP:20260425T152630
CREATED:20240531T012047Z
LAST-MODIFIED:20240531T012047Z
UID:10001164-1717326000-1717331400@whcouncil.org
SUMMARY:Donation drive to benefit Haven Hills and West Valley Food Pantry
DESCRIPTION:Please help support! \nSan Fernando Valley Moms Demand Action will be holding a donation drive for the benefit of Haven Hills domestic violence shelter and West Valley Food Pantry. \nSunday June\, 2\, 2024 from 11:00 A.M to 12:30 P.M. \nLocation: Woodland Hills Community Church 21338 Dumetz Rd\, Woodland Hills\, CA\, United States\, California. \n  \n 
URL:https://whcouncil.org/event/donation-drive-to-benefit-haven-hills-and-west-valley-food-pantry/
LOCATION:21338 Dumetz Rd\, Woodland Hills\, CA\, Dumetz Road\, Los Angeles\, CA\, 91364\, United States
CATEGORIES:Community,Homeless & Social Justice
ATTACH;FMTTYPE=image/jpeg:https://whcouncil.org/wp-content/uploads/2024/05/Haven-Hills.jpg
ORGANIZER;CN="Reina McCaughey":MAILTO:r.mccaughey@whcouncil.org
GEO:34.1569645;-118.5959158
X-APPLE-STRUCTURED-LOCATION;VALUE=URI;X-ADDRESS=21338 Dumetz Rd Woodland Hills CA Dumetz Road Los Angeles CA 91364 United States;X-APPLE-RADIUS=500;X-TITLE=Dumetz Road:geo:-118.5959158,34.1569645
END:VEVENT
BEGIN:VEVENT
DTSTART;TZID=America/Los_Angeles:20240603T183000
DTEND;TZID=America/Los_Angeles:20240603T210000
DTSTAMP:20260425T152630
CREATED:20240531T224412Z
LAST-MODIFIED:20240531T224412Z
UID:10001166-1717439400-1717448400@whcouncil.org
SUMMARY:Community Services Committee Meeting
DESCRIPTION:  \n  \n  \nNeighborhood Council Committee Members: \nJoyce Fletcher\, Chair                               Karen Di Biase \nKate Kennedy \nJulian Tu \n  \n  \n  \nWOODLAND HILLS \n WARNER CENTER   \nNEIGHBORHOOD COUNCIL \n  \nEmail: NCsupport@lacity.org \nWebsite: www.empowerla.org \n: \n  \nMeeting Agenda \nClick for Agenda \nCommunity Services Committee   \nMonday\, June 3\, 2024 \n  \n6:30 p.m.  \n  \nCity of Los Angeles Fire Station # 84 – Community Room \n21050 Burbank Blvd\, Woodland Hills\, CA 91367 \nParking is available in the lot across the street. \n  \nSi requiere servicios de traducción\, favor de avisar al Concejo Vecinal 3 días de trabajo (72 horas) antes del evento. Por favor contacte a Dena Weiss de la Mesa Directiva\, d.weiss@whcouncil.org o por correo electrónico avisar al Concejo Vecinal. \nComments from the public on other matters not appearing on the agenda that are within the Board’s jurisdiction will be heard during the General Public Comment period. Please note that under the Brown Act\, the Board is prevented from acting on a matter that you bring to its attention during the General Public Comment period; however\, the issue raised by a member of the public may become the subject of a future Board meeting. Public comment is limited to two (2) minutes per speaker\, unless adjusted by the presiding officer of the Board. \n  \nI.                CALL TO ORDER AND COMMITTEE ROLL CALL\nMembers: Joyce Fletcher-Chair\, Karen DiBiase\, Kate Kennedy\, Julian Tu\n  \n\nAPPROVAL OF MINUTES – April 15\, 2024\n\n                                             May 13\, 2024 Cancelled \n                                             May 20\, 2024 \n  \n\nGENERAL PUBLIC COMMENT – Comments from the public on non-agenda items that are within the WHWCNC’s Board jurisdiction and within the committee’s jurisdiction.\n\nEach speaker will be allowed two (2) minute(s). \n  \nIV.            AGENDA ITEMS\n  \nFor discussion and possible action: \n  \n\nWHWCNC Toy Drive. The 21th Annual Motor4Toys Charity Car Show and Toy Drive.\n\nNC purchase of a space/booth at the car show/toy drive. \n  \n\nDiscussion related to a Community Improvement Project for installing water fountains\,\n\nmore lights\, flower gardens and general improvements to Warner Center Park. Julian Tu \n  \n\nDiscussion related to holding a WHWCNC Family Forum. Kate Kennedy\n\n  \n\nDiscussion of issues in the community that may be addressed by the CS Committee\n\nby having a Special Presentation/Forum or a Community Improvement Project. Also \nneighborhood community organizations that could benefit from an NPG. \n  \n\nNew Business – for discussion and possible action at the next committee meeting.\n\n\nADJOURNMENT\nAs a covered entity under Title II of the Americans with Disabilities Act\, the City of Los Angeles does not discriminate on the basis of disability and upon request will provide reasonable accommodation to ensure equal access to its programs\, services\, and activities. Sign language interpreters\, assistive listening devices\, or other auxiliary aids and/or services may be provided upon request. To ensure availability of services\, please make your request at least 3 business days (72 hours) prior to the meeting by contacting the Department of Neighborhood Empowerment by calling (213) 978-1551 or email: NCsupport@lacity.org \n  \n Public Posting of Agendas  \nThe Community Services Committee meets on the 1st and 3rd Monday of each month. However\, visit our  \nwebsite calendar page at whcouncil.org\, to review all committee meeting dates\, as a date may change. \n  \nNeighborhood Council agendas are posted for public review as follows: \n\nFire Station 84\, front window\, located at 21050 Burbank Blvd. Woodland Hills CA 91367.\nOn the Woodland Hills-Warner Center Neighborhood Council website at calendar page at whcouncil.org\nYou can also receive our agendas via email by subscribing to A. City’s Early Notification System (ENS)\n\n     Notice to Paid Representatives  \nIf you are compensated to monitor\, attend\, or speak at this meeting\, City law may require you to register asalobbyistandreportyouractivity.SeeLosAngelesMunicipalCodeSection48.01etseq. \nMore information is available at ethics.lacity.org/lobbying. For assistance\, please contact the Ethics Commission at (213) 978-1960 or ethics.commission@lacity.org \n  \n  \n  \n  \n  \n     Public Access of Records  \nIn compliance with Government Code section 54957.5\, non-exempt writings that are distributed to a majority or all the board in advance of a meeting may be viewed at our website: www.whcouncil.org or at the scheduled meeting. In addition\, if you would like a copy of any record related to an item on the agenda\, please get in touch with Dena Weiss by email to d.weiss@whcouncil.org \n  \n     Reconsideration and Grievance Process  \nFor information on the NC’s process for board action reconsideration\, stakeholder grievance policy\, or any other procedural matters related to this Council\, please consult the NC Bylaws. The Bylaws are available at our Board meetings and our website www.whcouncil.org. \n  \n 
URL:https://whcouncil.org/event/community-services-committee-meeting-25/
LOCATION:LAFD Fire Station 84\, 21050 Burbank Blvd.\, Woodland Hills\, CA\, 91367\, United States
CATEGORIES:Community Services
GEO:34.1729585;-118.5915767
X-APPLE-STRUCTURED-LOCATION;VALUE=URI;X-ADDRESS=LAFD Fire Station 84 21050 Burbank Blvd. Woodland Hills CA 91367 United States;X-APPLE-RADIUS=500;X-TITLE=21050 Burbank Blvd.:geo:-118.5915767,34.1729585
END:VEVENT
BEGIN:VEVENT
DTSTART;TZID=America/Los_Angeles:20240604T184500
DTEND;TZID=America/Los_Angeles:20240604T203000
DTSTAMP:20260425T152630
CREATED:20240604T010341Z
LAST-MODIFIED:20240604T031044Z
UID:10001170-1717526700-1717533000@whcouncil.org
SUMMARY:Special Meeting Education Committee
DESCRIPTION:The WHWCNC Education Committee is hosting a Special Meeting on Tuesday June 4\, 2024 at 6:45 pm via ZOOM.  All are welcome.  For agenda and ZOOM instructions\, click here:  Jun 4\, 2024
URL:https://whcouncil.org/event/special-meeting-education-committee/
LOCATION:ZOOM\, NONE\, NONE\, CA\, NONE\, United States
CATEGORIES:Education
ORGANIZER;CN="Julie Waltrip":MAILTO:J.waltrip@whcouncil.org
GEO:37.0982847;-122.0979399
X-APPLE-STRUCTURED-LOCATION;VALUE=URI;X-ADDRESS=ZOOM NONE NONE CA NONE United States;X-APPLE-RADIUS=500;X-TITLE=NONE:geo:-122.0979399,37.0982847
END:VEVENT
BEGIN:VEVENT
DTSTART;TZID=America/Los_Angeles:20240605T150000
DTEND;TZID=America/Los_Angeles:20240605T163000
DTSTAMP:20260425T152630
CREATED:20240602T003447Z
LAST-MODIFIED:20240602T003447Z
UID:10001168-1717599600-1717605000@whcouncil.org
SUMMARY:Government Relations Committee Meeting June 5\, 2024
DESCRIPTION:This is a public meeting of the Government Relations Committee – Wednesday\, June 5\, 2024\, 3p-4:30p PT. The meeting will be held virtually via Zoom. Link is on the agenda.
URL:https://whcouncil.org/event/government-relations-committee-meeting-june-5-2024/
LOCATION:CA
END:VEVENT
BEGIN:VEVENT
DTSTART;TZID=America/Los_Angeles:20240605T190000
DTEND;TZID=America/Los_Angeles:20240805T005446
DTSTAMP:20260425T152630
CREATED:20240805T005445Z
LAST-MODIFIED:20240805T005445Z
UID:10001431-1717614000-1722819286@whcouncil.org
SUMMARY:CANCELLED 6-5-2024 WH Issues and Policies Cmte Mtg
DESCRIPTION:This meeting was canceled and never agendized for actions
URL:https://whcouncil.org/event/cancelled-6-5-2024-wh-issues-and-policies-cmte-mtg/
LOCATION:ZOOM\, NONE\, NONE\, CA\, NONE\, United States
CATEGORIES:WHIP
GEO:37.0982847;-122.0979399
X-APPLE-STRUCTURED-LOCATION;VALUE=URI;X-ADDRESS=ZOOM NONE NONE CA NONE United States;X-APPLE-RADIUS=500;X-TITLE=NONE:geo:-122.0979399,37.0982847
END:VEVENT
BEGIN:VEVENT
DTSTART;TZID=America/Los_Angeles:20240606T183000
DTEND;TZID=America/Los_Angeles:20240606T210000
DTSTAMP:20260425T152630
CREATED:20240317T223323Z
LAST-MODIFIED:20240602T195034Z
UID:10001371-1717698600-1717707600@whcouncil.org
SUMMARY:Planning\, Land Use\, and Mobility (PLUM) Committee Meeting 6/6/24
DESCRIPTION:The PLUM Committee will hold its regular meeting on Thursday\, June 6\, 2024 at 6:30 pm. Significant items on the agenda are below. The full agenda can be found here: Jun 6\, 2024 PLUM Agenda \n\n\n\nDiscussion and possible action on DIR-2023-7305-DRB-SPP-MSP-HCA\, 4172 N. Rosario Road\, Woodland Hills\, 91367. The applicant proposes the construction of a new 2-story single family dwelling with ADU and enclosed garage for 4-car spaces with 2 tandem included\, with a total square footage of 4\,248.\n\n\n\n\n\n\nCourtesy presentation by California Landmark Group (CLG Woodland Plaza\, LLC) of the development plans for the 3.88-acre property located at 21241-21243 Ventura Boulevard\, 5436 Comercio Way and 21200-21240 Clarendon Street in Woodland Hills\, located in the C4-1LD and P-1LD Zones and the Ventura/Cahuenga Boulevard Corridor Specific Plan area. Due to uncertainty of future market demands\, California Landmark Group will be seeking Los Angeles City Planning approval for two different projects\, as described below\, but would proceed to construct the one that is most palatable for market conditions at the time that construction would commence.\n\nTownhome Condominium Project – A residential development with 126 three-story single-family condominium townhomes\, seven (7) homes of which restricted for Very Low Income (VLI) Households\, and associated parking (within private parking garages and surface stalls) and open space areas.\nMixed-Use Project – A seven-story mixed-use development with 578 residential apartment units (including 48 VLI Household units)\, approximately 7\,400 square feet of commercial space\, and two parking levels (on and above grade) containing commercial and residential parking stalls.\n\n\n\n\n\n\nDiscussion on the presentation received by Los Angeles City Planning updating the committee on the Southwest Valley Community Plan. The committee will discuss the presentation and develop next steps for the committee to contribute comments to the plan review process.
URL:https://whcouncil.org/event/planning-land-use-and-mobility-plum-committee-meeting-4-2024-06-06/
LOCATION:LAFD Fire Station 84\, 21050 Burbank Blvd.\, Woodland Hills\, CA\, 91367\, United States
CATEGORIES:PLUM
ORGANIZER;CN="Don Patterson":MAILTO:whwcncarea4@gmail.com
GEO:34.1729585;-118.5915767
X-APPLE-STRUCTURED-LOCATION;VALUE=URI;X-ADDRESS=LAFD Fire Station 84 21050 Burbank Blvd. Woodland Hills CA 91367 United States;X-APPLE-RADIUS=500;X-TITLE=21050 Burbank Blvd.:geo:-118.5915767,34.1729585
END:VEVENT
END:VCALENDAR