BEGIN:VCALENDAR
VERSION:2.0
PRODID:-//Woodland Hills Warner - Center Neighborhood Council | Your most local part of CIty Government - ECPv6.15.20//NONSGML v1.0//EN
CALSCALE:GREGORIAN
METHOD:PUBLISH
X-WR-CALNAME:Woodland Hills Warner - Center Neighborhood Council | Your most local part of CIty Government
X-ORIGINAL-URL:https://whcouncil.org
X-WR-CALDESC:Events for Woodland Hills Warner - Center Neighborhood Council | Your most local part of CIty Government
REFRESH-INTERVAL;VALUE=DURATION:PT1H
X-Robots-Tag:noindex
X-PUBLISHED-TTL:PT1H
BEGIN:VTIMEZONE
TZID:America/Los_Angeles
BEGIN:DAYLIGHT
TZOFFSETFROM:-0800
TZOFFSETTO:-0700
TZNAME:PDT
DTSTART:20230312T100000
END:DAYLIGHT
BEGIN:STANDARD
TZOFFSETFROM:-0700
TZOFFSETTO:-0800
TZNAME:PST
DTSTART:20231105T090000
END:STANDARD
BEGIN:DAYLIGHT
TZOFFSETFROM:-0800
TZOFFSETTO:-0700
TZNAME:PDT
DTSTART:20240310T100000
END:DAYLIGHT
BEGIN:STANDARD
TZOFFSETFROM:-0700
TZOFFSETTO:-0800
TZNAME:PST
DTSTART:20241103T090000
END:STANDARD
BEGIN:DAYLIGHT
TZOFFSETFROM:-0800
TZOFFSETTO:-0700
TZNAME:PDT
DTSTART:20250309T100000
END:DAYLIGHT
BEGIN:STANDARD
TZOFFSETFROM:-0700
TZOFFSETTO:-0800
TZNAME:PST
DTSTART:20251102T090000
END:STANDARD
END:VTIMEZONE
BEGIN:VEVENT
DTSTART;TZID=America/Los_Angeles:20240506T183000
DTEND;TZID=America/Los_Angeles:20240506T210000
DTSTAMP:20260425T160835
CREATED:20240503T183206Z
LAST-MODIFIED:20240506T210042Z
UID:10001401-1715020200-1715029200@whcouncil.org
SUMMARY:Cancelled-Community Services Committee Meeting
DESCRIPTION:  \n  \nNeighborhood Council Committee Members: \nJoyce Fletcher\, Chair                               Karen Di Biase \nKate Kennedy \nJulian Tu \n  \nClick for Agenda \n  \nWOODLAND HILLS \n WARNER CENTER   \nNEIGHBORHOOD COUNCIL \n  \nEmail: NCsupport@lacity.org \nWebsite: www.empowerla.org \n  \n  \nCancelled \nMeeting Agenda \nCommunity Services Committee   \nMonday\, May 6\, 2024 \n6:30 p.m.  \n  \nCity of Los Angeles Fire Station # 84 – Community Room \n21050 Burbank Blvd\, Woodland Hills\, CA 91367 \nParking is available in the lot across the street. \n  \nSi requiere servicios de traducción\, favor de avisar al Concejo Vecinal 3 días de trabajo (72 horas) antes del evento. Por favor contacte a Dena Weiss de la Mesa Directiva\, d.weiss@whcouncil.org o por correo electrónico avisar al Concejo Vecinal. \nComments from the public on other matters not appearing on the agenda that are within the Board’s jurisdiction will be heard during the General Public Comment period. Please note that under the Brown Act\, the Board is prevented from acting on a matter that you bring to its attention during the General Public Comment period; however\, the issue raised by a member of the public may become the subject of a future Board meeting. Public comment is limited to two (2) minutes per speaker\, unless adjusted by the presiding officer of the Board. \n  \nI.                CALL TO ORDER AND COMMITTEE ROLL CALL\nMembers: Joyce Fletcher-Chair\, Karen DiBiase\, Kate Kennedy\, Julian Tu\n  \n\nAPPROVAL OF MINUTES – April 15\, 2024\n\n  \n\nGENERAL PUBLIC COMMENT – Comments from the public on non-agenda items that are within the WHWCNC’s Board jurisdiction and within the committee’s jurisdiction.\n\nEach speaker will be allowed two (2) minute(s). \n  \nIV.            AGENDA ITEMS\n  \nFor discussion and possible action: \n  \n\nGeneral discussion of the role of the Community Services Committee.\n\n  \n\nOne Generation Senior Symposium\, May 18th event logistics. The Community Services\n\nCommittee (CS) will facilitate NC participation in this event. \n  \n\nWHWCNC Toy Drive. The 21th Annual Motor4Toys Charity Car Show and Toy Drive.\n\nNC purchase of a space/booth at the car show/toy drive. \n  \n\nPossible new non-profits that can receive funding during the 2024-2025 fiscal year.\n\nJuly 1\, 2024 to June 30\, 2025 \n  \n\nDiscussion of issues in the community that may be addressed by the CS Committee\n\nby having a Special Presentation or Forum. \n  \n\nNew Business – for discussion and possible action at the next committee meeting.\n\n\nADJOURNMENT\nAs a covered entity under Title II of the Americans with Disabilities Act\, the City of Los Angeles does not discriminate on the basis of disability and upon request will provide reasonable accommodation to ensure equal access to its programs\, services\, and activities. Sign language interpreters\, assistive listening devices\, or other auxiliary aids and/or services may be provided upon request. To ensure availability of services\, please make your request at least 3 business days (72 hours) prior to the meeting by contacting the Department of Neighborhood Empowerment by calling (213) 978-1551 or email: NCsupport@lacity.org \n  \n Public Posting of Agendas – \nThe Community Services Committee meets on the 1st and 3rd Monday of each month. However\, visit our  \nwebsite calendar page at whcouncil.org\, to review all committee meeting dates\, as a date may change. \n  \nNeighborhood Council agendas are posted for public review as follows: \n\nFire Station 84 front window located at 21050 Burbank Blvd. Woodland Hills CA 91367.\nOn the Woodland Hills-Warner Center Neighborhood Council website at calendar page at whcouncil.org\nYou can also receive our agendas via email by subscribing to A. City’s Early Notification System (ENS)\n\n     Notice to Paid Representatives  \nIf you are compensated to monitor\, attend\, or speak at this meeting\, City law may require you to register asalobbyistandreportyouractivity.SeeLosAngelesMunicipalCodeSection48.01etseq. \nMore information is available at ethics.lacity.org/lobbying. For assistance\, please contact the Ethics Commission at (213) 978-1960 or ethics.commission@lacity.org \n  \n     Public Access of Records  \nIn compliance with Government Code section 54957.5\, non-exempt writings that are distributed to a majority or all the board in advance of a meeting may be viewed at our website: www.whcouncil.org or at the scheduled meeting. In addition\, if you would like a copy of any record related to an item on the agenda\, please get in touch with Dena Weiss by email to d.weiss@whcouncil.org \n  \n     Reconsideration and Grievance Process  \nFor information on the NC’s process for board action reconsideration\, stakeholder grievance policy\, or any other procedural matters related to this Council\, please consult the NC Bylaws. The Bylaws are available at our Board meetings and our website www.whcouncil.org. \n  \n 
URL:https://whcouncil.org/event/community-services-committee-meeting-24/
LOCATION:LAFD Fire Station 84\, 21050 Burbank Blvd.\, Woodland Hills\, CA\, 91367\, United States
CATEGORIES:Community Services
GEO:34.1729585;-118.5915767
X-APPLE-STRUCTURED-LOCATION;VALUE=URI;X-ADDRESS=LAFD Fire Station 84 21050 Burbank Blvd. Woodland Hills CA 91367 United States;X-APPLE-RADIUS=500;X-TITLE=21050 Burbank Blvd.:geo:-118.5915767,34.1729585
END:VEVENT
BEGIN:VEVENT
DTSTART;TZID=America/Los_Angeles:20240507T183000
DTEND;TZID=America/Los_Angeles:20240507T210000
DTSTAMP:20260425T160835
CREATED:20240505T000757Z
LAST-MODIFIED:20240505T000757Z
UID:10001402-1715106600-1715115600@whcouncil.org
SUMMARY:Education Committee
DESCRIPTION:The WHWCNC Education Committee is hosting their regular meeting on Tuesday May 7\, 2024 at 6:30 pm via ZOOM.  All are welcome.  For agenda and zoom login instructions\, click here:  May 7\, 2024
URL:https://whcouncil.org/event/education-committee-7/
LOCATION:ZOOM\, NONE\, NONE\, CA\, NONE\, United States
CATEGORIES:Education
ORGANIZER;CN="Julie Waltrip":MAILTO:J.waltrip@whcouncil.org
GEO:37.0982847;-122.0979399
X-APPLE-STRUCTURED-LOCATION;VALUE=URI;X-ADDRESS=ZOOM NONE NONE CA NONE United States;X-APPLE-RADIUS=500;X-TITLE=NONE:geo:-122.0979399,37.0982847
END:VEVENT
BEGIN:VEVENT
DTSTART;TZID=America/Los_Angeles:20240508T183000
DTEND;TZID=America/Los_Angeles:20240508T210000
DTSTAMP:20260425T160835
CREATED:20240505T051933Z
LAST-MODIFIED:20240508T063948Z
UID:10001403-1715193000-1715202000@whcouncil.org
SUMMARY:Regular Full Board Meeting - 5/8/24
DESCRIPTION:Please join us for our next Regular Full Board Meeting on May 8\, 2024 from 6:30 p.m.- 09:00 pm \nAll Stakeholders (residents\, businesses and community organizations in Woodland Hills – Warner Center) are encouraged to attend \nCity of Los Angeles Fire Station #84\, in the Community Room\n21050 Burbank Blvd.\, Woodland Hills\, CA\,  91367 \nThe agenda is available below or can be downloaded at May 8\, 2024 \nThe supporting documents can be downloaded at May 8\, 2024 \n  \nAgenda: \n        \n                                    \n                        \n                            \n\n\n  \nSupporting documents:
URL:https://whcouncil.org/event/regular-full-board-meeting-5-8-24/
LOCATION:LAFD Fire Station 84\, 21050 Burbank Blvd.\, Woodland Hills\, CA\, 91367\, United States
CATEGORIES:Council Meetings,Full Council
ATTACH;FMTTYPE=image/jpeg:https://whcouncil.org/wp-content/uploads/2024/05/WHWCNC-template-LAFD-3.jpg
GEO:34.1729585;-118.5915767
X-APPLE-STRUCTURED-LOCATION;VALUE=URI;X-ADDRESS=LAFD Fire Station 84 21050 Burbank Blvd. Woodland Hills CA 91367 United States;X-APPLE-RADIUS=500;X-TITLE=21050 Burbank Blvd.:geo:-118.5915767,34.1729585
END:VEVENT
END:VCALENDAR