BEGIN:VCALENDAR
VERSION:2.0
PRODID:-//Woodland Hills Warner - Center Neighborhood Council | Your most local part of CIty Government - ECPv6.15.20//NONSGML v1.0//EN
CALSCALE:GREGORIAN
METHOD:PUBLISH
X-ORIGINAL-URL:https://whcouncil.org
X-WR-CALDESC:Events for Woodland Hills Warner - Center Neighborhood Council | Your most local part of CIty Government
REFRESH-INTERVAL;VALUE=DURATION:PT1H
X-Robots-Tag:noindex
X-PUBLISHED-TTL:PT1H
BEGIN:VTIMEZONE
TZID:America/Los_Angeles
BEGIN:DAYLIGHT
TZOFFSETFROM:-0800
TZOFFSETTO:-0700
TZNAME:PDT
DTSTART:20230312T100000
END:DAYLIGHT
BEGIN:STANDARD
TZOFFSETFROM:-0700
TZOFFSETTO:-0800
TZNAME:PST
DTSTART:20231105T090000
END:STANDARD
BEGIN:DAYLIGHT
TZOFFSETFROM:-0800
TZOFFSETTO:-0700
TZNAME:PDT
DTSTART:20240310T100000
END:DAYLIGHT
BEGIN:STANDARD
TZOFFSETFROM:-0700
TZOFFSETTO:-0800
TZNAME:PST
DTSTART:20241103T090000
END:STANDARD
BEGIN:DAYLIGHT
TZOFFSETFROM:-0800
TZOFFSETTO:-0700
TZNAME:PDT
DTSTART:20250309T100000
END:DAYLIGHT
BEGIN:STANDARD
TZOFFSETFROM:-0700
TZOFFSETTO:-0800
TZNAME:PST
DTSTART:20251102T090000
END:STANDARD
END:VTIMEZONE
BEGIN:VEVENT
DTSTART;TZID=America/Los_Angeles:20240401T190000
DTEND;TZID=America/Los_Angeles:20240401T210000
DTSTAMP:20260425T175647
CREATED:20240330T234252Z
LAST-MODIFIED:20240330T234459Z
UID:10001144-1711998000-1712005200@whcouncil.org
SUMMARY:Special Community Services Committee Meeting
DESCRIPTION:WOODLAND HILLS \n WARNER CENTER   \nNEIGHBORHOOD COUNCIL \n  \nEmail: NCsupport@lacity.org \nWebsite: www.empowerla.org \n: \n  \nSpecial – Meeting Agenda \nCommunity Services Committee   \nMonday\, April 1\, 2024 \n7:00 p.m.  \n Click for Agenda \nCity of Los Angeles Fire Station # 84 – Community Room \n21050 Burbank Blvd\, Woodland Hills\, CA 91367 \nParking is available in the lot across the street. \n  \nSi requiere servicios de traducción\, favor de avisar al Concejo Vecinal 3 días de trabajo (72 horas) antes del evento. Por favor contacte a Dena Weiss de la Mesa Directiva\, d.weiss@whcouncil.org o por correo electrónico avisar al Concejo Vecinal. \nComments from the public on other matters not appearing on the agenda that are within the Board’s jurisdiction will be heard during the General Public Comment period. Please note that under the Brown Act\, the Board is prevented from acting on a matter that you bring to its attention during the General Public Comment period; however\, the issue raised by a member of the public may become the subject of a future Board meeting. Public comment is limited to two (2) minutes per speaker\, unless adjusted by the presiding officer of the Board. \n  \nI.                CALL TO ORDER AND COMMITTEE ROLL CALL\nMembers: Joyce Fletcher-Chair\, Karen DiBiase\, Kate Kennedy\, Julian Tu\n  \n\nAPPROVAL OF MINUTES – March 18\, 2024\n\n  \n\nGENERAL PUBLIC COMMENT – Comments from the public on non-agenda items that are within the WHWCNC’s Board jurisdiction and within the committee’s jurisdiction.\n\nEach speaker will be allowed two (2) minute(s). \n  \nIV.            AGENDA ITEMS\n  \nFor discussion and possible action: \n  \n\nGrateful Hearts Event – April 6\, 2024. Discussion related to specific logistics for event.\n\n  \n\nOne Generation Senior Symposium\, May 18th event logistics. The Community Services\n\nCommittee (CS) will facilitate NC participation in this event. \n  \n\nWHWCNC Toy Drive. The 21th Annual Motor4Toys Charity Car Show and Toy Drive.\n\nNC purchase of a space/booth at the car show/toy drive. \n  \n\nReview of writing Neighborhood Purpose Grants (NPG).\n\nPossible new non-profits that can receive funding during the 2024-2025 fiscal year. \nJuly 1\, 2024 to June 30\, 2025 \n  \n\nCandidate Forum to be presented by the CS Committee for the November Election.\n\n  \n\nDiscussion of issues in the community that may be addressed by the CS Committee.\n\n  \n\nNumber of committee members on Community Services.\n\n  \n\nNew Business – for discussion and possible action at the next committee meeting.\n\n\nADJOURNMENT\nAs a covered entity under Title II of the Americans with Disabilities Act\, the City of Los Angeles does not discriminate on the basis of disability and upon request will provide reasonable accommodation to ensure equal access to its programs\, services\, and activities. Sign language interpreters\, assistive listening devices\, or other auxiliary aids and/or services may be provided upon request. To ensure availability of services\, please make your request at least 3 business days (72 hours) prior to the meeting by contacting the Department of Neighborhood Empowerment by calling (213) 978-1551 or email: NCsupport@lacity.org \n  \n Public Posting of Agendas – \nThe Community Services Committee meets on the 1st and 3rd Monday of each month. However\, visit our  \nwebsite calendar page at whcouncil.org\, to review all committee meeting dates\, as a date may change. \n  \nNeighborhood Council agendas are posted for public review as follows: \n\nFire Station 84 front window located at 21050 Burbank Blvd. Woodland Hills CA 91367.\nOn the Woodland Hills-Warner Center Neighborhood Council website at calendar page at whcouncil.org\nYou can also receive our agendas via email by subscribing to A. City’s Early Notification System (ENS)\n\n     Notice to Paid Representatives  \nIf you are compensated to monitor\, attend\, or speak at this meeting\, City law may require you to register asalobbyistandreportyouractivity.SeeLosAngelesMunicipalCodeSection48.01etseq. \nMore information is available at ethics.lacity.org/lobbying. For assistance\, please contact the Ethics Commission at (213) 978-1960 or ethics.commission@lacity.org \n  \n     Public Access of Records  \nIn compliance with Government Code section 54957.5\, non-exempt writings that are distributed to a majority or all the board in advance of a meeting may be viewed at our website: www.whcouncil.org or at the scheduled meeting. In addition\, if you would like a copy of any record related to an item on the agenda\, please get in touch with Dena Weiss by email to d.weiss@whcouncil.org \n  \n     Reconsideration and Grievance Process  \nFor information on the NC’s process for board action reconsideration\, stakeholder grievance policy\, or any other procedural matters related to this Council\, please consult the NC Bylaws. The Bylaws are available at our Board meetings and our website www.whcouncil.org. \n  \n 
URL:https://whcouncil.org/event/special-community-services-committee-meeting-8/
LOCATION:LAFD Fire Station 84\, 21050 Burbank Blvd.\, Woodland Hills\, CA\, 91367\, United States
CATEGORIES:Community Services
GEO:34.1729585;-118.5915767
X-APPLE-STRUCTURED-LOCATION;VALUE=URI;X-ADDRESS=LAFD Fire Station 84 21050 Burbank Blvd. Woodland Hills CA 91367 United States;X-APPLE-RADIUS=500;X-TITLE=21050 Burbank Blvd.:geo:-118.5915767,34.1729585
END:VEVENT
BEGIN:VEVENT
DTSTART;TZID=America/Los_Angeles:20240402T183000
DTEND;TZID=America/Los_Angeles:20240402T183000
DTSTAMP:20260425T175647
CREATED:20240331T001222Z
LAST-MODIFIED:20240331T232243Z
UID:10001146-1712082600-1712082600@whcouncil.org
SUMMARY:Education Committee Meeting - Cancelled
DESCRIPTION:Apr 2\, 2024 Education Meeting Cancelled.
URL:https://whcouncil.org/event/education-committee-6/
LOCATION:ZOOM\, NONE\, NONE\, CA\, NONE\, United States
CATEGORIES:Education
ORGANIZER;CN="Julie Waltrip":MAILTO:J.waltrip@whcouncil.org
GEO:37.0982847;-122.0979399
X-APPLE-STRUCTURED-LOCATION;VALUE=URI;X-ADDRESS=ZOOM NONE NONE CA NONE United States;X-APPLE-RADIUS=500;X-TITLE=NONE:geo:-122.0979399,37.0982847
END:VEVENT
BEGIN:VEVENT
DTSTART;TZID=America/Los_Angeles:20240403T150000
DTEND;TZID=America/Los_Angeles:20240403T163000
DTSTAMP:20260425T175647
CREATED:20240330T213756Z
LAST-MODIFIED:20240331T221039Z
UID:10001142-1712156400-1712161800@whcouncil.org
SUMMARY:Government Relations Committee Meeting - April 3\, 2024
DESCRIPTION:Please join us for our Government Relations Committee meeting on April 3\, 2024 via Zoom. The agenda can be downloaded here: Apr 3\, 2024 \nhttps://us02web.zoom.us/j/84187663598  \nOr Dial (669) 900-6833 to Join the Meeting Then Enter This Webinar ID 841 8766 3598 \n 
URL:https://whcouncil.org/event/government-relations-committee-meeting-april-3-2024/
LOCATION:ZOOM\, NONE\, NONE\, CA\, NONE\, United States
CATEGORIES:Government Relations
ATTACH;FMTTYPE=image/jpeg:https://whcouncil.org/wp-content/uploads/2024/03/Gov-Relations.jpg
GEO:37.0982847;-122.0979399
X-APPLE-STRUCTURED-LOCATION;VALUE=URI;X-ADDRESS=ZOOM NONE NONE CA NONE United States;X-APPLE-RADIUS=500;X-TITLE=NONE:geo:-122.0979399,37.0982847
END:VEVENT
BEGIN:VEVENT
DTSTART;TZID=America/Los_Angeles:20240403T190000
DTEND;TZID=America/Los_Angeles:20240403T220000
DTSTAMP:20260425T175647
CREATED:20240331T194658Z
LAST-MODIFIED:20240422T065345Z
UID:10001147-1712170800-1712181600@whcouncil.org
SUMMARY:WH Issues and Policies [WHIP] Cmte Mtg 4-3-2024
DESCRIPTION:
URL:https://whcouncil.org/event/2024-04-03-wh-issues-and-policies-cmte-mtg/
LOCATION:ZOOM\, NONE\, NONE\, CA\, NONE\, United States
CATEGORIES:WHIP
GEO:37.0982847;-122.0979399
X-APPLE-STRUCTURED-LOCATION;VALUE=URI;X-ADDRESS=ZOOM NONE NONE CA NONE United States;X-APPLE-RADIUS=500;X-TITLE=NONE:geo:-122.0979399,37.0982847
END:VEVENT
BEGIN:VEVENT
DTSTART;TZID=America/Los_Angeles:20240404T080000
DTEND;TZID=America/Los_Angeles:20240404T170000
DTSTAMP:20260425T175647
CREATED:20240317T223323Z
LAST-MODIFIED:20240331T222614Z
UID:10001369-1712217600-1712250000@whcouncil.org
SUMMARY:Planning\, Land Use\, and Mobility (PLUM) Committee Meeting Virtual Meeting
DESCRIPTION:The Planning\, Land Use\, and Mobility (PLUM) Committee will hold its regular meeting on Thursday\, April 4\, 2024 via Zoom. The full agenda can be viewed here: April 4\, 2024 PLUM Agenda. \nThe item on the agenda is: \n\n\n\n\nReview of New Cases to be placed on next meeting agenda\, Review of Current Cases\, and general committee business.\nThe committee will discuss the status of currently outstanding cases and assignment of new cases for consideration at future meetings.\n\nTo join the meeting: \n\n\n\nPlease click the link below to join the webinar: https://us02web.zoom.us/j/87496964714\nOr Dial (669) 900-6833 to Join the Meeting\nThen Enter This Webinar ID: 87496964714 and Press #
URL:https://whcouncil.org/event/planning-land-use-and-mobility-plum-committee-meeting-4/
LOCATION:CA
CATEGORIES:PLUM
END:VEVENT
BEGIN:VEVENT
DTSTART;TZID=America/Los_Angeles:20240406T080000
DTEND;TZID=America/Los_Angeles:20240406T083000
DTSTAMP:20260425T175647
CREATED:20240331T215039Z
LAST-MODIFIED:20240331T215039Z
UID:10001384-1712390400-1712392200@whcouncil.org
SUMMARY:1st Saturday Clean-Up Canceled
DESCRIPTION:Please note that our 1st Saturday Clean-Up has been canceled so that we can take part in the Grateful Hearts event at Warner Park on April 6th. \n  \nWe are also planning to participate in a community service project at Jesse Gabriel’s Day of Service on April 14th
URL:https://whcouncil.org/event/1st-saturday-clean-up-canceled/
LOCATION:CA
CATEGORIES:Environment & Beautification
END:VEVENT
END:VCALENDAR