BEGIN:VCALENDAR
VERSION:2.0
PRODID:-//Woodland Hills Warner - Center Neighborhood Council | Your most local part of CIty Government - ECPv6.15.20//NONSGML v1.0//EN
CALSCALE:GREGORIAN
METHOD:PUBLISH
X-WR-CALNAME:Woodland Hills Warner - Center Neighborhood Council | Your most local part of CIty Government
X-ORIGINAL-URL:https://whcouncil.org
X-WR-CALDESC:Events for Woodland Hills Warner - Center Neighborhood Council | Your most local part of CIty Government
REFRESH-INTERVAL;VALUE=DURATION:PT1H
X-Robots-Tag:noindex
X-PUBLISHED-TTL:PT1H
BEGIN:VTIMEZONE
TZID:America/Los_Angeles
BEGIN:DAYLIGHT
TZOFFSETFROM:-0800
TZOFFSETTO:-0700
TZNAME:PDT
DTSTART:20230312T100000
END:DAYLIGHT
BEGIN:STANDARD
TZOFFSETFROM:-0700
TZOFFSETTO:-0800
TZNAME:PST
DTSTART:20231105T090000
END:STANDARD
BEGIN:DAYLIGHT
TZOFFSETFROM:-0800
TZOFFSETTO:-0700
TZNAME:PDT
DTSTART:20240310T100000
END:DAYLIGHT
BEGIN:STANDARD
TZOFFSETFROM:-0700
TZOFFSETTO:-0800
TZNAME:PST
DTSTART:20241103T090000
END:STANDARD
BEGIN:DAYLIGHT
TZOFFSETFROM:-0800
TZOFFSETTO:-0700
TZNAME:PDT
DTSTART:20250309T100000
END:DAYLIGHT
BEGIN:STANDARD
TZOFFSETFROM:-0700
TZOFFSETTO:-0800
TZNAME:PST
DTSTART:20251102T090000
END:STANDARD
END:VTIMEZONE
BEGIN:VEVENT
DTSTART;TZID=America/Los_Angeles:20240219T183000
DTEND;TZID=America/Los_Angeles:20240219T210000
DTSTAMP:20260425T212301
CREATED:20240217T011910Z
LAST-MODIFIED:20240217T012305Z
UID:10001359-1708367400-1708376400@whcouncil.org
SUMMARY:Community Services Meeting
DESCRIPTION:Monday February 19th-6:30 PM \nFire Station 84 \n  \n  \n  \nNeighborhood Council Committee Members: \nJoyce Fletcher\, Chair Karen Di Biase \nTracey Rosen \nKate Kennedy \n  \n  \n  \n  \n  \nWOODLAND HILLS \n WARNER CENTER   \nNEIGHBORHOOD COUNCIL \n  \nEmail: NCsupport@lacity.org \nWebsite: www.empowerla.org \n: \n  \nMeeting Agenda \nCommunity Services Committee   \nMonday\, February 19\, 2024 \n6:30 p.m.  \n Click for Agenda \nCity of Los Angeles Fire Station # 84 – Community Room \n21050 Burbank Blvd\, Woodland Hills\, CA 91367 \nParking is available in the lot across the street. \n  \nSi requiere servicios de traducción\, favor de avisar al Concejo Vecinal 3 días de trabajo (72 horas) antes del evento. Por favor contacte a Dena Weiss de la Mesa Directiva\, d.weiss@whcouncil.org o por correo electrónico avisar al Concejo Vecinal. \nComments from the public on other matters not appearing on the agenda that are within the Board’s jurisdiction will be heard during the General Public Comment period. Please note that under the Brown Act\, the Board is prevented from acting on a matter that you bring to its attention during the General Public Comment period; however\, the issue raised by a member of the public may become the subject of a future Board meeting. Public comment is limited to two (2) minutes per speaker\, unless adjusted by the presiding officer of the Board. \n  \nI.                CALL TO ORDER AND COMMITTEE ROLL CALL\n  \n\nAPPROVAL OF MINUTES – January 15\, 2024\n\n                                             February 5. 2024 Cancelled due to rain \n  \n\nGENERAL PUBLIC COMMENT – Comments from the public on non-agenda items that are within the WHWCNC’s Board jurisdiction and within the committee’s jurisdiction.\n\nEach speaker will be allowed two (2) minute(s). \n  \nIV.            AGENDA ITEMS\n  \nFor discussion and possible action: \n  \n\nDiscussion related to specific logistics for how we will facilitate the April 6th Grateful Hearts event.\n\nTent Set-up\, member printing of handouts\, crayons\, etc. not purchased at HALO. \n  \n\nDiscussion related to the board retreat and committee recommendations to be\n\npresented to the Governance Committee for discussion. \n  \n\nDiscussion related to the Mission Statement for the Community Services Committee.\n\n  \n\nCS Committee update to be published in the WHWCNC Newsletter\n\n  \n\nOne Generation Senior Symposium.\n\n  \n\nDiscussion related to creating community partnerships with stakeholders who may not\n\nbe specifically served by other committees such as veterans\, seniors\, the LGBTQ community\, \nand Hispanic stakeholders\, etc. \n  \n\nNew Business – for discussion and possible action at the next committee meeting.\n\n\nADJOURNMENT\nAs a covered entity under Title II of the Americans with Disabilities Act\, the City of Los Angeles does not discriminate on the basis of disability and upon request will provide reasonable accommodation to ensure equal access to its programs\, services\, and activities. Sign language interpreters\, assistive listening devices\, or other auxiliary aids and/or services may be provided upon request. To ensure availability of services\, please make your request at least 3 business days (72 hours) prior to the meeting by contacting the Department of Neighborhood Empowerment by calling (213) 978-1551 or email: NCsupport@lacity.org \n  \n Public Posting of Agendas – \nThe Community Services Committee meets on the 1st and 3rd Monday of each month. However\, visit our  \nwebsite calendar page at whcouncil.org\, to review all committee meeting dates\, as a date may change. \n  \nNeighborhood Council agendas are posted for public review as follows: \n\nWest Valley Warner Center Chamber window located at 6100 Topanga Canyon Blvd\, Ste 2330\, Woodland Hills\, CA 91367\nOn the Woodland Hills-Warner Center Neighborhood Council website at calendar page at whcouncil.org\nYou can also receive our agendas via email by subscribing to A. City’s Early Notification System (ENS)\n\n     Notice to Paid Representatives – \nIf you are compensated to monitor\, attend\, or speak at this meeting\, City law may require you to register asalobbyistandreportyouractivity.SeeLosAngelesMunicipalCodeSection48.01etseq. \nMore information is available at ethics.lacity.org/lobbying. For assistance\, please contact the Ethics Commission at (213) 978-1960 or ethics.commission@lacity.org \n  \n  \n     Public Access of Records – \nIn compliance with Government Code section 54957.5\, non-exempt writings that are distributed to a majority or all the board in advance of a meeting may be viewed at our website: www.whcouncil.org or at the scheduled meeting. In addition\, if you would like a copy of any record related to an item on the agenda\, please get in touch with Dena Weiss by email to d.weiss@whcouncil.org \n  \n     Reconsideration and Grievance Process – \nFor information on the NC’s process for board action reconsideration\, stakeholder grievance policy\, or any other procedural matters related to this Council\, please consult the NC Bylaws. The Bylaws are available at our Board meetings and our website www.whcouncil.org. \n  \n 
URL:https://whcouncil.org/event/community-services-meeting-13/
LOCATION:LAFD Fire Station 84\, 21050 Burbank Blvd.\, Woodland Hills\, CA\, 91367\, United States
CATEGORIES:Community Services
GEO:34.1729585;-118.5915767
X-APPLE-STRUCTURED-LOCATION;VALUE=URI;X-ADDRESS=LAFD Fire Station 84 21050 Burbank Blvd. Woodland Hills CA 91367 United States;X-APPLE-RADIUS=500;X-TITLE=21050 Burbank Blvd.:geo:-118.5915767,34.1729585
END:VEVENT
BEGIN:VEVENT
DTSTART;TZID=America/Los_Angeles:20240220T183000
DTEND;TZID=America/Los_Angeles:20240220T200000
DTSTAMP:20260425T212301
CREATED:20240218T005714Z
LAST-MODIFIED:20240218T005714Z
UID:10001108-1708453800-1708459200@whcouncil.org
SUMMARY:WHWCNC Governance Committee Meeting
DESCRIPTION:Regular Governance Committee Meeting  \nAgenda \nWoodland Hills Library \nSecond Floor \n22200 Ventura Blvd\, Woodland Hills\, CA 91364 \nFebruary 20\, 2024 \n6:30 p.m. – 8:00 p.m. \n  \nSi requiere servicios de traducción\, favor de avisar al Concejo Vecinal 3 días de trabajo (72 horas) antes del evento. Por favor contacte Karen DiaBiase\, Secretaria\, al 818-639-9444 o por correo electrónico www.whcouncil.org para avisar al Concejo Vecinal. \n  \nComments from the public on other matters not appearing on the agenda that are within the Committee’s jurisdiction will be heard during the General Public Comment period. Please note that under the Brown Act\, the Committee is prevented from acting on a matter that you bring to its attention during the General Public Comment period; however\, the issue raised by a member of the public may become the subject of a future Committee meeting. Public comment is limited to 2 minutes per speaker\, unless adjusted by the presiding officer of the Committee. \n  \n Items for Discussion and Possible Action:  \n  \nAll comment is limited to 2 minutes per speaker\, unless adjusted by the presiding chair of the committee.  \n\nCall to Order.\nRoll call of members: Executive Committee and Officers: Chair – Dena Weiss\, Tracey Rosen\, Heath Kline\, Karen DiBiase and Don Patterson.\n\n  \n\nPublic Announcements by city officials and representatives: (2) minutes per speaker.\nStakeholder Public Comment Period (on items NOT on the agenda): (1) minute per speaker.\nApproval of Committee Minutes: January 16\, 2024.\n\n  \nItems for discussion and possible action:  \n  \nItem One: Review of Qualifications for an Area 4 Alternate  Representative \nDiscussion and action: \nReview of qualifications for Aava Dekordi to apply for the Area 4 Alternate Representative position. \nConfidential supporting documents will be shared with Officers. \n  \nRoll call vote. \n  \nItem Two: Review of Qualifications for an At Large Alternate  Representative \nDiscussion and action: \nReview of qualifications for applicant(s) to  apply for the At Large Alternate Representative position. \nConfidential supporting documents will be shared with Officers. \n  \nRoll call vote. \n  \nItem Three: \nDiscussion and possible action: \n  \nRefinement (if necessary) of the Governance Mission Statement for the NC Website. This is the current description on our website: \n  \nGovernance Committee \n\nCouncil Bylaws\nOperating Procedures\n– Standing Rules of the Council\n– NC Training Manual\nEthics and Rules\nElection Rules and Procedures\nGrievance and Official Action – LA Conflict of Interest Code\nYouth Board Member Information\n\nThis committee undertakes comprehensive evaluation of the organization’s Bylaws and Operating Procedures; to make them completer and more defined for the NC Board and all stakeholders. \n  \n \nProcess \nThe committee anticipates potential ethics questions so that future WHWCNC board members and stakeholders will have a sound and understandable framework for decisions. It clarifies the process and purpose of disciplinary measures such as grievances. It also defines what constitutes an “official action” by the WHWCNC board. \n \nUpdates and Training \nThe committee is also responsible for periodic updates and training of board members regarding the rules in which the NC is required to operate under. \n  \n  \nCompare this with the current description in the NC Board Application form: \n  \nGOVERNANCE COMMITTEE \nThe Committee reviews and resolves a wide variety of NC governance issues and concerns. Reviews the existing NC Bylaws\, Standing Rules\, Best Practices and recommends updates when necessary. Verifies applicant qualifications for vacant board seats. Reviews board member attendance and makes recommendations. The committee reviews and maintains updates of new rules and regulations that govern NCs as determined by EmpowerLA and the City. Makes \nrecommendations to EmpowerLA and the City as needed. \n  \nItem Four: Board Retreat \nDiscussion and action: \n  \nBoard Retreat discussion regarding the date and location and content. Continued from prior discussions at Governance. \n  \nRoll call vote if necessary. \n  \nItem Five: Bylaw Review \nDiscussion and action regarding review of Bylaws which were last amended on May 19\, 2022. Committee members will continue where we left off. \n  \nSee posted existing Bylaws. \n  \nRoll call vote. \n  \nADJOURNMENT. The next meeting will be on March 19\, 2024\, at the Woodland Hills Library. As a covered entity under Title II of the Americans with Disabilities Act\, the City of Los Angeles does not discriminate on the basis of disability and upon request will provide reasonable accommodation to ensure equal access to its programs\, services\, and activities. Sign language interpreters\, assistive listening devices\, or other auxiliary aids and/or services may be provided upon request. To ensure availability of services\, please make your request at least 3 business days (72 hours) prior to the meeting by contacting the Department of Neighborhood Empowerment by calling (213) 978-1551 or email: NCsupport@lacity.org. \n  \nPublic Posting of Agendas –  \nNeighborhood Council agendas are posted for public review as follows: \n\nA copy of this agenda is also physically posted on the plexiglass box at the front door of Firestation 84\, located at 21050 Burbank Blvd.\, Woodland Hills\, CA\, 91367\nwww.whcouncil.org\nYou can also receive our agendas via email by subscribing to L.A. City’s Early Notification System (ENS)\n\n  \nNotice to Paid Representatives –  \nIf you are compensated to monitor\, attend\, or speak at this meeting\, City law may require you to register as a lobbyist and report your activity. See Los Angeles Municipal Code Section 48.01 et seq. More information is available at ethics.lacity.org/lobbying. For assistance\, please contact the Ethics Commission at (213) 978-1960 or ethics.commission@lacity.org. \n  \nPublic Access of Records –  \nIn compliance with Government Code section 54957.5\, non-exempt writings that are distributed to a majority or all of the board in advance of a meeting may be viewed at our website: www.WHWCNC.org or at the scheduled meeting. In addition\, if you would like a copy of any record related to an item on the agenda\, please contact Dena Weiss at: d.weiss@whcouncil.org. \n  \nReconsideration and Grievance Process –  \nFor information on the NC’s process for board action reconsideration\, stakeholder grievance policy\, or any other procedural matters related to this Council\, please consult the NC Bylaws. The Bylaws are available at our Board meetings and on our website.Feb 20\, 2024
URL:https://whcouncil.org/event/whwcnc-governance-committee-meeting-8/
LOCATION:Woodland Hills Public Library\, Upper Room\, 22200 Ventura Blvd.\, Woodland Hills\, CA\, 91364\, United States
CATEGORIES:Environment & Beautification,Governance
GEO:34.1678825;-118.6106854
X-APPLE-STRUCTURED-LOCATION;VALUE=URI;X-ADDRESS=Woodland Hills Public Library Upper Room 22200 Ventura Blvd. Woodland Hills CA 91364 United States;X-APPLE-RADIUS=500;X-TITLE=22200 Ventura Blvd.:geo:-118.6106854,34.1678825
END:VEVENT
BEGIN:VEVENT
DTSTART;TZID=America/Los_Angeles:20240222T183000
DTEND;TZID=America/Los_Angeles:20240222T213000
DTSTAMP:20260425T212301
CREATED:20240226T225300Z
LAST-MODIFIED:20240422T070651Z
UID:10001115-1708626600-1708637400@whcouncil.org
SUMMARY:Cancelled WH Issues and Policies [WHIP] Cmte Mtg 2-22-2024
DESCRIPTION:Meeting Cancelled
URL:https://whcouncil.org/event/whip-cancelled-2-22-24/
LOCATION:LAFD Fire Station 84\, 21050 Burbank Blvd.\, Woodland Hills\, CA\, 91367\, United States
CATEGORIES:WHIP
GEO:34.1729585;-118.5915767
X-APPLE-STRUCTURED-LOCATION;VALUE=URI;X-ADDRESS=LAFD Fire Station 84 21050 Burbank Blvd. Woodland Hills CA 91367 United States;X-APPLE-RADIUS=500;X-TITLE=21050 Burbank Blvd.:geo:-118.5915767,34.1729585
END:VEVENT
END:VCALENDAR