BEGIN:VCALENDAR
VERSION:2.0
PRODID:-//Woodland Hills Warner - Center Neighborhood Council | Your most local part of CIty Government - ECPv6.15.20//NONSGML v1.0//EN
CALSCALE:GREGORIAN
METHOD:PUBLISH
X-WR-CALNAME:Woodland Hills Warner - Center Neighborhood Council | Your most local part of CIty Government
X-ORIGINAL-URL:https://whcouncil.org
X-WR-CALDESC:Events for Woodland Hills Warner - Center Neighborhood Council | Your most local part of CIty Government
REFRESH-INTERVAL;VALUE=DURATION:PT1H
X-Robots-Tag:noindex
X-PUBLISHED-TTL:PT1H
BEGIN:VTIMEZONE
TZID:America/Los_Angeles
BEGIN:DAYLIGHT
TZOFFSETFROM:-0800
TZOFFSETTO:-0700
TZNAME:PDT
DTSTART:20230312T100000
END:DAYLIGHT
BEGIN:STANDARD
TZOFFSETFROM:-0700
TZOFFSETTO:-0800
TZNAME:PST
DTSTART:20231105T090000
END:STANDARD
BEGIN:DAYLIGHT
TZOFFSETFROM:-0800
TZOFFSETTO:-0700
TZNAME:PDT
DTSTART:20240310T100000
END:DAYLIGHT
BEGIN:STANDARD
TZOFFSETFROM:-0700
TZOFFSETTO:-0800
TZNAME:PST
DTSTART:20241103T090000
END:STANDARD
BEGIN:DAYLIGHT
TZOFFSETFROM:-0800
TZOFFSETTO:-0700
TZNAME:PDT
DTSTART:20250309T100000
END:DAYLIGHT
BEGIN:STANDARD
TZOFFSETFROM:-0700
TZOFFSETTO:-0800
TZNAME:PST
DTSTART:20251102T090000
END:STANDARD
END:VTIMEZONE
BEGIN:VEVENT
DTSTART;TZID=America/Los_Angeles:20240130T183000
DTEND;TZID=America/Los_Angeles:20240130T200000
DTSTAMP:20260425T201429
CREATED:20240125T001536Z
LAST-MODIFIED:20240128T012645Z
UID:10001350-1706639400-1706644800@whcouncil.org
SUMMARY:Public Health & Homelessness Committee Meeting
DESCRIPTION:Please join us for our next Public Health & Homelessness Committee meeting on Tuesday\, January 30th at 6:30pm at the Woodland Hills Library. \n  \nAgenda is available HERE . \nSupporting documents are available HERE
URL:https://whcouncil.org/event/public-health-homelessness-committee-meeting-2/
LOCATION:Woodland Hills Public Library\, Upper Room\, 22200 Ventura Blvd.\, Woodland Hills\, CA\, 91364\, United States
CATEGORIES:Homeless & Social Justice,Public Health
ORGANIZER;CN="Reina McCaughey":MAILTO:r.mccaughey@whcouncil.org
GEO:34.1678825;-118.6106854
X-APPLE-STRUCTURED-LOCATION;VALUE=URI;X-ADDRESS=Woodland Hills Public Library Upper Room 22200 Ventura Blvd. Woodland Hills CA 91364 United States;X-APPLE-RADIUS=500;X-TITLE=22200 Ventura Blvd.:geo:-118.6106854,34.1678825
END:VEVENT
BEGIN:VEVENT
DTSTART;TZID=America/Los_Angeles:20240201T183000
DTEND;TZID=America/Los_Angeles:20240201T210000
DTSTAMP:20260425T201429
CREATED:20240129T142948Z
LAST-MODIFIED:20240129T142948Z
UID:10001351-1706812200-1706821200@whcouncil.org
SUMMARY:Planning Land Use and Mobility (PLUM) Committee Regular Meeting
DESCRIPTION:The PLUM Committee will hold its regular meeting on Thursday\, February 1\, 2024. Items for discussion are below. The full agenda is located by clicking here. \n\n\n\n\nReview of New Cases to be placed on next meeting agenda\, Review of Current Cases\, and general committee business.\nThe committee will discuss the status of currently outstanding cases and assignment of new cases for consideration at future meetings.\nDiscussion on frequency of regular meetings.\nThe committee will consider whether to contain to have two regular meetings per month or reduce frequency to one meeting per month due to current planning case load.\nDiscussion and possible action to develop a committee mission statement.
URL:https://whcouncil.org/event/planning-land-use-and-mobility-plum-committee-regular-meeting-5/
LOCATION:LAFD Fire Station 84\, 21050 Burbank Blvd.\, Woodland Hills\, CA\, 91367\, United States
CATEGORIES:PLUM
ORGANIZER;CN="Don Patterson":MAILTO:whwcncarea4@gmail.com
GEO:34.1729585;-118.5915767
X-APPLE-STRUCTURED-LOCATION;VALUE=URI;X-ADDRESS=LAFD Fire Station 84 21050 Burbank Blvd. Woodland Hills CA 91367 United States;X-APPLE-RADIUS=500;X-TITLE=21050 Burbank Blvd.:geo:-118.5915767,34.1729585
END:VEVENT
END:VCALENDAR