BEGIN:VCALENDAR
VERSION:2.0
PRODID:-//Woodland Hills Warner - Center Neighborhood Council | Your most local part of CIty Government - ECPv6.15.20//NONSGML v1.0//EN
CALSCALE:GREGORIAN
METHOD:PUBLISH
X-ORIGINAL-URL:https://whcouncil.org
X-WR-CALDESC:Events for Woodland Hills Warner - Center Neighborhood Council | Your most local part of CIty Government
REFRESH-INTERVAL;VALUE=DURATION:PT1H
X-Robots-Tag:noindex
X-PUBLISHED-TTL:PT1H
BEGIN:VTIMEZONE
TZID:America/Los_Angeles
BEGIN:DAYLIGHT
TZOFFSETFROM:-0800
TZOFFSETTO:-0700
TZNAME:PDT
DTSTART:20230312T100000
END:DAYLIGHT
BEGIN:STANDARD
TZOFFSETFROM:-0700
TZOFFSETTO:-0800
TZNAME:PST
DTSTART:20231105T090000
END:STANDARD
BEGIN:DAYLIGHT
TZOFFSETFROM:-0800
TZOFFSETTO:-0700
TZNAME:PDT
DTSTART:20240310T100000
END:DAYLIGHT
BEGIN:STANDARD
TZOFFSETFROM:-0700
TZOFFSETTO:-0800
TZNAME:PST
DTSTART:20241103T090000
END:STANDARD
BEGIN:DAYLIGHT
TZOFFSETFROM:-0800
TZOFFSETTO:-0700
TZNAME:PDT
DTSTART:20250309T100000
END:DAYLIGHT
BEGIN:STANDARD
TZOFFSETFROM:-0700
TZOFFSETTO:-0800
TZNAME:PST
DTSTART:20251102T090000
END:STANDARD
END:VTIMEZONE
BEGIN:VEVENT
DTSTART;TZID=America/Los_Angeles:20240102T183000
DTEND;TZID=America/Los_Angeles:20240102T183000
DTSTAMP:20260425T201943
CREATED:20231231T015307Z
LAST-MODIFIED:20240229T195857Z
UID:10001339-1704220200-1704220200@whcouncil.org
SUMMARY:Education & Youth Committee 1/2/24
DESCRIPTION:The Education & Youth Committee hosts its regular meeting Tuesday January 2\, 2024 at 6:30 pm at the Fire Station #84 Community Room 21050 Burbank Blvd. Woodland Hills\, Ca 91364.  All are welcome to attend.  For Agenda and supporting documents click here:Feb 1\, 2024
URL:https://whcouncil.org/event/education-youth-committee/
LOCATION:LAFD Fire Station 84\, 21050 Burbank Blvd.\, Woodland Hills\, CA\, 91367\, United States
CATEGORIES:Education
ATTACH;FMTTYPE=image/png:https://whcouncil.org/wp-content/uploads/2023/12/IMG_3023.png
GEO:34.1729585;-118.5915767
X-APPLE-STRUCTURED-LOCATION;VALUE=URI;X-ADDRESS=LAFD Fire Station 84 21050 Burbank Blvd. Woodland Hills CA 91367 United States;X-APPLE-RADIUS=500;X-TITLE=21050 Burbank Blvd.:geo:-118.5915767,34.1729585
END:VEVENT
BEGIN:VEVENT
DTSTART;TZID=America/Los_Angeles:20240102T183000
DTEND;TZID=America/Los_Angeles:20240102T203000
DTSTAMP:20260425T201943
CREATED:20231231T211703Z
LAST-MODIFIED:20231231T211703Z
UID:10001340-1704220200-1704227400@whcouncil.org
SUMMARY:Education Committee Meeting 1/2/24
DESCRIPTION:Please join us for our next Education Committee Meeting \nFire Station #84\nCommunity Room\n21050 Burbank Blvd\, Woodland Hills\, CA 91364\nTuesday January 2\, 2024\n6:30 p.m. \nThe agenda can be found Jan 2\, 2024
URL:https://whcouncil.org/event/education-committee-meeting-1-2-24/
LOCATION:LAFD Fire Station 84\, 21050 Burbank Blvd.\, Woodland Hills\, CA\, 91367\, United States
CATEGORIES:Education
GEO:34.1729585;-118.5915767
X-APPLE-STRUCTURED-LOCATION;VALUE=URI;X-ADDRESS=LAFD Fire Station 84 21050 Burbank Blvd. Woodland Hills CA 91367 United States;X-APPLE-RADIUS=500;X-TITLE=21050 Burbank Blvd.:geo:-118.5915767,34.1729585
END:VEVENT
BEGIN:VEVENT
DTSTART;TZID=America/Los_Angeles:20240104T183000
DTEND;TZID=America/Los_Angeles:20240104T200000
DTSTAMP:20260425T201943
CREATED:20231231T230041Z
LAST-MODIFIED:20231231T230728Z
UID:10001341-1704393000-1704398400@whcouncil.org
SUMMARY:Planning Land Use and Mobility (PLUM) Committee CANCELLED
DESCRIPTION:The January 4\, 2024 regular meeting of the Planning Land Use and Mobility (PLUM) Committee is CANCELLED. See the cancellation notice here.
URL:https://whcouncil.org/event/planning-land-use-and-mobility-plum-committee-8/
LOCATION:LAFD Fire Station 84\, 21050 Burbank Blvd.\, Woodland Hills\, CA\, 91367\, United States
CATEGORIES:PLUM
ORGANIZER;CN="Don Patterson":MAILTO:whwcncarea4@gmail.com
GEO:34.1729585;-118.5915767
X-APPLE-STRUCTURED-LOCATION;VALUE=URI;X-ADDRESS=LAFD Fire Station 84 21050 Burbank Blvd. Woodland Hills CA 91367 United States;X-APPLE-RADIUS=500;X-TITLE=21050 Burbank Blvd.:geo:-118.5915767,34.1729585
END:VEVENT
BEGIN:VEVENT
DTSTART;TZID=America/Los_Angeles:20240106T083000
DTEND;TZID=America/Los_Angeles:20240106T113000
DTSTAMP:20260425T201943
CREATED:20240103T235135Z
LAST-MODIFIED:20240229T194941Z
UID:10001342-1704529800-1704540600@whcouncil.org
SUMMARY:1st Saturday Clean-Up 1/6/24
DESCRIPTION:Please join us for our first 1st Saturdays Clean Up of 2024 from 8:30 to 11:30 AM Saturday\, January 6th!  We will remove trash and trim street trees. \n  \nWe will clean the two blocks east of Canoga to Variel\, north side of Vanowen. We can meet at Milwood Ave. (see map below for exact location) \nThere is no rain expected.  Parking available on Milwood. \n  \nPlease spread the word\, we can use more volunteers to help beautify our community \n 
URL:https://whcouncil.org/event/1st-saturday-clean-up-1-6-24/
LOCATION:CA
CATEGORIES:Environment & Beautification
END:VEVENT
END:VCALENDAR