BEGIN:VCALENDAR
VERSION:2.0
PRODID:-//Woodland Hills Warner - Center Neighborhood Council | Your most local part of CIty Government - ECPv6.15.20//NONSGML v1.0//EN
CALSCALE:GREGORIAN
METHOD:PUBLISH
X-WR-CALNAME:Woodland Hills Warner - Center Neighborhood Council | Your most local part of CIty Government
X-ORIGINAL-URL:https://whcouncil.org
X-WR-CALDESC:Events for Woodland Hills Warner - Center Neighborhood Council | Your most local part of CIty Government
REFRESH-INTERVAL;VALUE=DURATION:PT1H
X-Robots-Tag:noindex
X-PUBLISHED-TTL:PT1H
BEGIN:VTIMEZONE
TZID:America/Los_Angeles
BEGIN:DAYLIGHT
TZOFFSETFROM:-0800
TZOFFSETTO:-0700
TZNAME:PDT
DTSTART:20240310T100000
END:DAYLIGHT
BEGIN:STANDARD
TZOFFSETFROM:-0700
TZOFFSETTO:-0800
TZNAME:PST
DTSTART:20241103T090000
END:STANDARD
BEGIN:DAYLIGHT
TZOFFSETFROM:-0800
TZOFFSETTO:-0700
TZNAME:PDT
DTSTART:20250309T100000
END:DAYLIGHT
BEGIN:STANDARD
TZOFFSETFROM:-0700
TZOFFSETTO:-0800
TZNAME:PST
DTSTART:20251102T090000
END:STANDARD
BEGIN:DAYLIGHT
TZOFFSETFROM:-0800
TZOFFSETTO:-0700
TZNAME:PDT
DTSTART:20260308T100000
END:DAYLIGHT
BEGIN:STANDARD
TZOFFSETFROM:-0700
TZOFFSETTO:-0800
TZNAME:PST
DTSTART:20261101T090000
END:STANDARD
END:VTIMEZONE
BEGIN:VEVENT
DTSTART;TZID=America/Los_Angeles:20251204T183000
DTEND;TZID=America/Los_Angeles:20251204T210000
DTSTAMP:20260424T012747
CREATED:20251202T011126Z
LAST-MODIFIED:20251202T011126Z
UID:10001569-1764873000-1764882000@whcouncil.org
SUMMARY:Planning\, Land Use and Mobility Committee Meeting
DESCRIPTION:PLUM Committee Members\nMarty Lipkin\, Co-Chair\nJoyce Fletcher\, Co-Chair\nAugust Steurer\nHenry Rice\nKaren Koe\nBobbie Wasserman\nMatt Richman\nWOODLAND HILLS\nWARNER CENTER\nNEIGHBORHOOD\nCOUNCIL\nPLUM Committee\nMeeting Agenda \nClick for Agenda\nThursday\, Dec. 4\, 2025\n6:30 pm to 9:00pm\nFire Station 84\n21050 Burbank Blvd. Woodland Hills CA\n91367\nFree parking across the street.\nSi requiere servicios de traducción\, favor de avisar al Concejo Vecinal 3 días de trabajo (72 horas) antes\ndel evento. Por favor contacte a Secretary\, Joyce Fletcher de la Mesa Directiva\, j.fletcher@whcouncil.org\no por correo electrónico avisar al Concejo Vecinal.\nPublic comment on other matters not appearing on the agenda: that are within the Board’s jurisdiction\nwill be heard during the General Public Comment period. Please note that under the Brown Act\, the\nCommittee is prevented from acting on a matter that you bring to its attention during the General Public\nComment period; however\, the issue raised by a member of the public may become the subject of a\nfuture Committee meeting.\nPublic comment on agenda items is limited to two (2) minutes per speaker\, unless adjusted by the\npresiding officer of the Board.\nI. CALL TO ORDER:\nCOMMITTEE ROLL CALL\nMembers: Marty Lipkin\, Co-Chair\, Joyce Fletcher\, Co-Chair\, August Steurer\, Karen Koe.\nHenry Rice\, Matt Richman\, Bobbie Wasserman\nII. APPROVAL OF MINUTES – October 16\, 2025\nIII. General Public Comment on Items on the Agenda – Comments from the public on agenda\nitems that are within the WHWCNC’s Board jurisdiction and within the committee’s jurisdiction.\nEach speaker will be allowed a two (2) minute comment on each agenda item.\nIV. AGENDA ITEMS\nFor discussion and possible action:\n1. New Verizon Wireless Telecommunications Facility “Archwood” WTF on Parking\nStructure at 21725 Victory Blvd. Canoga Park\, Westfield Topanga Mall.\nZA-2025-1291-CUW.\nReview of Case Report.\n2. Wisteria at Warner Center\, 5490\, 5500\, 5600 N. Canoga Blvd.\nCity Planning request for NC approval of Project Permit Compliance for Vertical 2 Signage at\nWisteria per the Warner Center Sign District.\n3. Notice of Proposed Demolitions in Woodland Hills.\n1. Notice of proposed demolition at: 23475 Long Valley Road\nDemolition pre-inspection application number: 25019-20000-03800 & 02/B25VN30152 & 54\n2. Notice of proposed demolition at: 22045 Clarendon St.\nDemolition pre-inspection application No: 25019-20000-03550/ BN25VN28003\n3. Notice of Proposed demolition at 6100 Topanga Canyon Blvd.\nDemolition pre-inspection application No: 25019-20000-03804/B25VN30164\n4. 22044 Crespi Street – 25019-20000-03882/B25VN30867\n5. 21010 Vanowen Street – 25019-20000-03908/B25VN31051\n6. 5800 Winnetka Avenue – 25019-20000-3992/B25VN31889\n7. 23236 Hatteras Street – 25019-20000-04143/B25VN33129\n4. New Business – to be discussed and possibly placed on a future committee meeting\nagenda.\nADJOURNMENT\nAs a covered entity under Title II of the Americans with Disabilities Act\, the City of Los\nAngeles does not discriminate on the basis of disability and upon request will provide\nreasonable accommodation to ensure equal access to its programs\, services\, and activities.\nSign language interpreters\, assistive listening devices\, or other auxiliary aids and/or\nservices may be provided upon request. To ensure availability of services\, please make\nyour request at least 3 business days (72 hours) prior to the meeting by contacting the\nDepartment of Neighborhood Empowerment by calling (213) 978-1551 or email:\nNCsupport@lacity.org.\nPublic Posting of Agendas\nThe Community Services Committee meets on the 1st and 3rd Thursday of each month.\nHowever\, visit our website calendar page at whcouncil.org\, to review all committee\nmeeting dates\, as the date may change. Neighborhood Council agendas are posted for\npublic review as follows:\nFire Station 84 front window located at 21050 Burbank Blvd. Woodland Hills CA 91367.\nOn the Woodland Hills-Warner Center Neighborhood Council website at calendar page at\nwww.whcouncil.org You can also receive our agendas via email by subscribing to L.A.\nCity’s Early Notification System (ENS)\nNotice to Paid Representatives\nIf you are compensated to monitor\, attend\, or speak at this meeting\, City law may require you to register\nas a lobbyist and report your activity. See Los Angeles Municipal Code Section 48.01 et seq.\nMore information is available at ethics.lacity.org/lobbying. For assistance\, please contact the\nEthics Commission at (213) 978-1960 or ethics.commission@lacity.org\nPublic Access of Records\nIn compliance with Government Code section 54957.5\, non-exempt writings that are distributed to a\nmajority or all the board in advance of a meeting may be viewed at our website: www.whcouncil.org or\nat the scheduled meeting. In addition\, if you would like a copy of any record related to an item on the\nagenda\, please get in touch with Secretary\, Joyce Fletcher by email to j.fletcher@whcouncil.org\nReconsideration and Grievance Process\nFor information on the NC’s process for board action reconsideration\, stakeholder grievance policy\, or\nany other procedural matters related to this Council\, please consult the NC Bylaws. The Bylaws are\navailable at our Board meetings and on our website www.whcouncil.org.
URL:https://whcouncil.org/event/planning-land-use-and-mobility-committee-meeting/
LOCATION:LAFD Fire Station 84\, 21050 Burbank Blvd.\, Woodland Hills\, CA\, 91367\, United States
CATEGORIES:PLUM
GEO:34.1729585;-118.5915767
X-APPLE-STRUCTURED-LOCATION;VALUE=URI;X-ADDRESS=LAFD Fire Station 84 21050 Burbank Blvd. Woodland Hills CA 91367 United States;X-APPLE-RADIUS=500;X-TITLE=21050 Burbank Blvd.:geo:-118.5915767,34.1729585
END:VEVENT
END:VCALENDAR