BEGIN:VCALENDAR
VERSION:2.0
PRODID:-//Woodland Hills Warner - Center Neighborhood Council | Your most local part of CIty Government - ECPv6.15.20//NONSGML v1.0//EN
CALSCALE:GREGORIAN
METHOD:PUBLISH
X-ORIGINAL-URL:https://whcouncil.org
X-WR-CALDESC:Events for Woodland Hills Warner - Center Neighborhood Council | Your most local part of CIty Government
REFRESH-INTERVAL;VALUE=DURATION:PT1H
X-Robots-Tag:noindex
X-PUBLISHED-TTL:PT1H
BEGIN:VTIMEZONE
TZID:America/Los_Angeles
BEGIN:DAYLIGHT
TZOFFSETFROM:-0800
TZOFFSETTO:-0700
TZNAME:PDT
DTSTART:20240310T100000
END:DAYLIGHT
BEGIN:STANDARD
TZOFFSETFROM:-0700
TZOFFSETTO:-0800
TZNAME:PST
DTSTART:20241103T090000
END:STANDARD
BEGIN:DAYLIGHT
TZOFFSETFROM:-0800
TZOFFSETTO:-0700
TZNAME:PDT
DTSTART:20250309T100000
END:DAYLIGHT
BEGIN:STANDARD
TZOFFSETFROM:-0700
TZOFFSETTO:-0800
TZNAME:PST
DTSTART:20251102T090000
END:STANDARD
BEGIN:DAYLIGHT
TZOFFSETFROM:-0800
TZOFFSETTO:-0700
TZNAME:PDT
DTSTART:20260308T100000
END:DAYLIGHT
BEGIN:STANDARD
TZOFFSETFROM:-0700
TZOFFSETTO:-0800
TZNAME:PST
DTSTART:20261101T090000
END:STANDARD
END:VTIMEZONE
BEGIN:VEVENT
DTSTART;TZID=America/Los_Angeles:20250510T110000
DTEND;TZID=America/Los_Angeles:20250510T170000
DTSTAMP:20260424T122437
CREATED:20250502T173324Z
LAST-MODIFIED:20250502T173327Z
UID:10001506-1746874800-1746896400@whcouncil.org
SUMMARY:4th Annual Valley Asian Pacific Islander Cultural Festival
DESCRIPTION:
URL:https://whcouncil.org/event/4th-annual-valley-asian-pacific-islander-cultural-festival/
LOCATION:Pierce College\, 6201 Winnetka Ave\, Woodland Hills\, CA\, 91367\, United States
CATEGORIES:Community,Community Services
ATTACH;FMTTYPE=image/png:https://whcouncil.org/wp-content/uploads/2025/05/2024VAPICultura-Flyer.png
GEO:34.1862217;-118.5822758
X-APPLE-STRUCTURED-LOCATION;VALUE=URI;X-ADDRESS=Pierce College 6201 Winnetka Ave Woodland Hills CA 91367 United States;X-APPLE-RADIUS=500;X-TITLE=6201 Winnetka Ave:geo:-118.5822758,34.1862217
END:VEVENT
BEGIN:VEVENT
DTSTART;TZID=America/Los_Angeles:20250514T183000
DTEND;TZID=America/Los_Angeles:20250514T210000
DTSTAMP:20260424T122437
CREATED:20240628T015632Z
LAST-MODIFIED:20240628T025255Z
UID:10001418-1747247400-1747256400@whcouncil.org
SUMMARY:Regular Full Board Meeting 5/14/25
DESCRIPTION:Please join us for the regular monthly Board meeting of the Woodland Hills – Warner Center Neighborhood Council \nThe agenda and meeting details will be available here 72 hours in advance of the meeting.
URL:https://whcouncil.org/event/regular-full-board-meeting-2025-05-14/
LOCATION:CA
CATEGORIES:Council Meetings,Full Council
ATTACH;FMTTYPE=image/jpeg:https://whcouncil.org/wp-content/uploads/2024/06/WHWC-Board-ZOOM-1.jpg
END:VEVENT
BEGIN:VEVENT
DTSTART;TZID=America/Los_Angeles:20250517T080000
DTEND;TZID=America/Los_Angeles:20250517T100000
DTSTAMP:20260424T122437
CREATED:20250514T045803Z
LAST-MODIFIED:20250514T045803Z
UID:10001509-1747468800-1747476000@whcouncil.org
SUMMARY:Saturday Neighborhood Clean-Up!
DESCRIPTION:3rd (and final) community cleanup at the American Legion Hall on Saturday\, May 17th 8-10am. \nWear long pants\, hats\, gloves. Tools and bags will be provided.\nLet’s make this meeting place for our Veterans look great for Memorial Day weekend!
URL:https://whcouncil.org/event/saturday-neighborhood-clean-up/
LOCATION:American Legion Post 826\, 5320 Fallbrook Ave\, Woodland Hills\, CA\, 91367\, United States
CATEGORIES:Environment & Beautification
ATTACH;FMTTYPE=image/jpeg:https://whcouncil.org/wp-content/uploads/2025/05/1st-Saturdays.jpg
GEO:34.1669069;-118.6230139
X-APPLE-STRUCTURED-LOCATION;VALUE=URI;X-ADDRESS=American Legion Post 826 5320 Fallbrook Ave Woodland Hills CA 91367 United States;X-APPLE-RADIUS=500;X-TITLE=5320 Fallbrook Ave:geo:-118.6230139,34.1669069
END:VEVENT
BEGIN:VEVENT
DTSTART;TZID=America/Los_Angeles:20250526T183000
DTEND;TZID=America/Los_Angeles:20250526T200000
DTSTAMP:20260424T122437
CREATED:20250425T190444Z
LAST-MODIFIED:20250428T211918Z
UID:10001266-1748284200-1748289600@whcouncil.org
SUMMARY:Outreach Committee Meeting 5/26/25
DESCRIPTION:The agenda will be posted a minimum of 72 hours in advance of the meeting
URL:https://whcouncil.org/event/outreach-committee-meeting-4-28-25-2025-05-26/
LOCATION:Community Room\, Capital One Cafe\, 6600 CA-27 Suite 1038 Suite 103\, Canoga Park\, CA\, 91303\, United States
CATEGORIES:Community Outreach
ATTACH;FMTTYPE=image/jpeg:https://whcouncil.org/wp-content/uploads/2024/11/Outreach-Committee-2.jpg
ORGANIZER;CN="Tracey Rosen":MAILTO:tracey.rosen@gmail.com
GEO:34.1900362;-118.6035049
X-APPLE-STRUCTURED-LOCATION;VALUE=URI;X-ADDRESS=Community Room Capital One Cafe 6600 CA-27 Suite 1038 Suite 103 Canoga Park CA 91303 United States;X-APPLE-RADIUS=500;X-TITLE=6600 CA-27 Suite 1038 Suite 103:geo:-118.6035049,34.1900362
END:VEVENT
END:VCALENDAR