BEGIN:VCALENDAR
VERSION:2.0
PRODID:-//Woodland Hills Warner - Center Neighborhood Council | Your most local part of CIty Government - ECPv6.15.20//NONSGML v1.0//EN
CALSCALE:GREGORIAN
METHOD:PUBLISH
X-ORIGINAL-URL:https://whcouncil.org
X-WR-CALDESC:Events for Woodland Hills Warner - Center Neighborhood Council | Your most local part of CIty Government
REFRESH-INTERVAL;VALUE=DURATION:PT1H
X-Robots-Tag:noindex
X-PUBLISHED-TTL:PT1H
BEGIN:VTIMEZONE
TZID:America/Los_Angeles
BEGIN:DAYLIGHT
TZOFFSETFROM:-0800
TZOFFSETTO:-0700
TZNAME:PDT
DTSTART:20230312T100000
END:DAYLIGHT
BEGIN:STANDARD
TZOFFSETFROM:-0700
TZOFFSETTO:-0800
TZNAME:PST
DTSTART:20231105T090000
END:STANDARD
BEGIN:DAYLIGHT
TZOFFSETFROM:-0800
TZOFFSETTO:-0700
TZNAME:PDT
DTSTART:20240310T100000
END:DAYLIGHT
BEGIN:STANDARD
TZOFFSETFROM:-0700
TZOFFSETTO:-0800
TZNAME:PST
DTSTART:20241103T090000
END:STANDARD
BEGIN:DAYLIGHT
TZOFFSETFROM:-0800
TZOFFSETTO:-0700
TZNAME:PDT
DTSTART:20250309T100000
END:DAYLIGHT
BEGIN:STANDARD
TZOFFSETFROM:-0700
TZOFFSETTO:-0800
TZNAME:PST
DTSTART:20251102T090000
END:STANDARD
END:VTIMEZONE
BEGIN:VEVENT
DTSTART;TZID=America/Los_Angeles:20240811T173000
DTEND;TZID=America/Los_Angeles:20240811T203000
DTSTAMP:20260425T052824
CREATED:20240628T013622Z
LAST-MODIFIED:20240708T012124Z
UID:10001412-1723397400-1723408200@whcouncil.org
SUMMARY:Visit the WHWCNC Booth at Free Concerts at Warner Park this Sunday
DESCRIPTION:Come visit the Woodland Hills – Warner Center Neighborhood Council booth at this Sunday’s Free Concert at Warner Center Park\n\n\n📍 5800 Topanga Canyon Blvd\, Woodland Hills\, CA 91367\n\n\nEmerging musician performances start at 5:30 with the Headline Performer taking the stage at 6:30pm\n\n \n\n\nWe look forward to seeing you there!
URL:https://whcouncil.org/event/visit-the-whwcnc-booth-at-free-concerts-at-warner-park-this-sunday-2024-08-11/
LOCATION:Warner Park\, 5800 Topanga Canyon Blvd\, Woodland Hills\, CA\, 91367\, United States
CATEGORIES:Community
ATTACH;FMTTYPE=image/jpeg:https://whcouncil.org/wp-content/uploads/2024/06/Concerts-schedule.jpg
GEO:34.17556;-118.60548
X-APPLE-STRUCTURED-LOCATION;VALUE=URI;X-ADDRESS=Warner Park 5800 Topanga Canyon Blvd Woodland Hills CA 91367 United States;X-APPLE-RADIUS=500;X-TITLE=5800 Topanga Canyon Blvd:geo:-118.60548,34.17556
END:VEVENT
BEGIN:VEVENT
DTSTART;TZID=America/Los_Angeles:20240812T183000
DTEND;TZID=America/Los_Angeles:20240812T200000
DTSTAMP:20260425T052824
CREATED:20240809T212133Z
LAST-MODIFIED:20240809T212323Z
UID:10001186-1723487400-1723492800@whcouncil.org
SUMMARY:Outreach Committee Meeting 8/12/24
DESCRIPTION:Please join us at our next Outreach Committee meeting on Monday\, August 12th at 6:30 pm. \nCommunity Room\, Capital One Cafe at Westfield Topanga  \n6600 Topanga Canyon Boulevard\, 1038\, Los Angeles\, CA 91303 \n  \nThe agenda is available HERE
URL:https://whcouncil.org/event/outreach-committee-meeting-8-12-24/
LOCATION:Community Room\, Capital One Cafe\, 6600 CA-27 Suite 1038 Suite 103\, Canoga Park\, CA\, 91303\, United States
CATEGORIES:Community Outreach
ATTACH;FMTTYPE=image/jpeg:https://whcouncil.org/wp-content/uploads/2024/08/Outreach-Committee-15.jpg
ORGANIZER;CN="Tracey Rosen":MAILTO:tracey.rosen@gmail.com
GEO:34.1900362;-118.6035049
X-APPLE-STRUCTURED-LOCATION;VALUE=URI;X-ADDRESS=Community Room Capital One Cafe 6600 CA-27 Suite 1038 Suite 103 Canoga Park CA 91303 United States;X-APPLE-RADIUS=500;X-TITLE=6600 CA-27 Suite 1038 Suite 103:geo:-118.6035049,34.1900362
END:VEVENT
BEGIN:VEVENT
DTSTART;TZID=America/Los_Angeles:20240814T183000
DTEND;TZID=America/Los_Angeles:20240814T210000
DTSTAMP:20260425T052824
CREATED:20240628T015632Z
LAST-MODIFIED:20240814T012013Z
UID:10001414-1723660200-1723669200@whcouncil.org
SUMMARY:Regular Full Board Meeting 8/14/24
DESCRIPTION:Please join us for the regular monthly Board meeting of the Woodland Hills – Warner Center Neighborhood Council \nAugust 14\, 2024\n6:30 p.m.- 09:00 p.m.\nVIRTUAL BOARD MEETING \nPlease click the link below to join the webinar:\nhttps://us02web.zoom.us/j/96493712127 \nOr Dial (669) 900-6833 to Join the Meeting\nCode is 964 9371 2127 and Press # \n  \nThe Agenda can be downloaded at Aug 14\, 2024 \nThe Supporting Documents can be downloaded at Aug 14\, 2024 \nThe supporting items for the MER can be downloaded at Aug 14\, 2024
URL:https://whcouncil.org/event/regular-full-board-meeting-2024-08-14/
LOCATION:ZOOM\, NONE\, NONE\, CA\, NONE\, United States
CATEGORIES:Council Meetings,Full Council
ATTACH;FMTTYPE=image/jpeg:https://whcouncil.org/wp-content/uploads/2024/06/WHWC-Board-ZOOM-1.jpg
GEO:37.0982847;-122.0979399
X-APPLE-STRUCTURED-LOCATION;VALUE=URI;X-ADDRESS=ZOOM NONE NONE CA NONE United States;X-APPLE-RADIUS=500;X-TITLE=NONE:geo:-122.0979399,37.0982847
END:VEVENT
END:VCALENDAR