BEGIN:VCALENDAR
VERSION:2.0
PRODID:-//Woodland Hills Warner - Center Neighborhood Council | Your most local part of CIty Government - ECPv6.15.20//NONSGML v1.0//EN
CALSCALE:GREGORIAN
METHOD:PUBLISH
X-ORIGINAL-URL:https://whcouncil.org
X-WR-CALDESC:Events for Woodland Hills Warner - Center Neighborhood Council | Your most local part of CIty Government
REFRESH-INTERVAL;VALUE=DURATION:PT1H
X-Robots-Tag:noindex
X-PUBLISHED-TTL:PT1H
BEGIN:VTIMEZONE
TZID:America/Los_Angeles
BEGIN:DAYLIGHT
TZOFFSETFROM:-0800
TZOFFSETTO:-0700
TZNAME:PDT
DTSTART:20240310T100000
END:DAYLIGHT
BEGIN:STANDARD
TZOFFSETFROM:-0700
TZOFFSETTO:-0800
TZNAME:PST
DTSTART:20241103T090000
END:STANDARD
BEGIN:DAYLIGHT
TZOFFSETFROM:-0800
TZOFFSETTO:-0700
TZNAME:PDT
DTSTART:20250309T100000
END:DAYLIGHT
BEGIN:STANDARD
TZOFFSETFROM:-0700
TZOFFSETTO:-0800
TZNAME:PST
DTSTART:20251102T090000
END:STANDARD
BEGIN:DAYLIGHT
TZOFFSETFROM:-0800
TZOFFSETTO:-0700
TZNAME:PDT
DTSTART:20260308T100000
END:DAYLIGHT
BEGIN:STANDARD
TZOFFSETFROM:-0700
TZOFFSETTO:-0800
TZNAME:PST
DTSTART:20261101T090000
END:STANDARD
END:VTIMEZONE
BEGIN:VEVENT
DTSTART;TZID=America/Los_Angeles:20250729T183000
DTEND;TZID=America/Los_Angeles:20250729T200000
DTSTAMP:20260424T041426
CREATED:20250724T010516Z
LAST-MODIFIED:20250724T011541Z
UID:10001277-1753813800-1753819200@whcouncil.org
SUMMARY:Homeless & Social Justice Advocacy Committee
DESCRIPTION:Jul 29\, 2025(6:30-8pm) \nPlatt Library – Meeting Room \n23600 Victory Blvd\, Woodland Hills\, CA 91367 \nhttps://whcouncil.org/wp-content/uploads/2025/07/HSJA-MEETING-MINUTES-MARCH-2025-.pdf
URL:https://whcouncil.org/event/homeless-social-justice-advocacy-committee/
LOCATION:Platt Library\, 23600 Victory Boulevard\, \, Woodland Hills\, CA\, 91367\, United States
CATEGORIES:Homeless & Social Justice
GEO:34.1862321;-118.6413591
X-APPLE-STRUCTURED-LOCATION;VALUE=URI;X-ADDRESS=Platt Library 23600 Victory Boulevard  Woodland Hills CA 91367 United States;X-APPLE-RADIUS=500;X-TITLE=23600 Victory Boulevard\,:geo:-118.6413591,34.1862321
END:VEVENT
END:VCALENDAR