BEGIN:VCALENDAR
VERSION:2.0
PRODID:-//Woodland Hills Warner - Center Neighborhood Council | Your most local part of CIty Government - ECPv6.15.20//NONSGML v1.0//EN
CALSCALE:GREGORIAN
METHOD:PUBLISH
X-WR-CALNAME:Woodland Hills Warner - Center Neighborhood Council | Your most local part of CIty Government
X-ORIGINAL-URL:https://whcouncil.org
X-WR-CALDESC:Events for Woodland Hills Warner - Center Neighborhood Council | Your most local part of CIty Government
REFRESH-INTERVAL;VALUE=DURATION:PT1H
X-Robots-Tag:noindex
X-PUBLISHED-TTL:PT1H
BEGIN:VTIMEZONE
TZID:America/Los_Angeles
BEGIN:DAYLIGHT
TZOFFSETFROM:-0800
TZOFFSETTO:-0700
TZNAME:PDT
DTSTART:20230312T100000
END:DAYLIGHT
BEGIN:STANDARD
TZOFFSETFROM:-0700
TZOFFSETTO:-0800
TZNAME:PST
DTSTART:20231105T090000
END:STANDARD
BEGIN:DAYLIGHT
TZOFFSETFROM:-0800
TZOFFSETTO:-0700
TZNAME:PDT
DTSTART:20240310T100000
END:DAYLIGHT
BEGIN:STANDARD
TZOFFSETFROM:-0700
TZOFFSETTO:-0800
TZNAME:PST
DTSTART:20241103T090000
END:STANDARD
BEGIN:DAYLIGHT
TZOFFSETFROM:-0800
TZOFFSETTO:-0700
TZNAME:PDT
DTSTART:20250309T100000
END:DAYLIGHT
BEGIN:STANDARD
TZOFFSETFROM:-0700
TZOFFSETTO:-0800
TZNAME:PST
DTSTART:20251102T090000
END:STANDARD
END:VTIMEZONE
BEGIN:VEVENT
DTSTART;TZID=America/Los_Angeles:20240326T183000
DTEND;TZID=America/Los_Angeles:20240326T203000
DTSTAMP:20260425T112704
CREATED:20240323T201949Z
LAST-MODIFIED:20240324T185144Z
UID:10001140-1711477800-1711485000@whcouncil.org
SUMMARY:Homeless & Social Justice Advocacy Committee 3/26/24
DESCRIPTION:Please join us for our Homeless & Social Justice Advocacy Committee \nTuesday\, March 26\, 2024\n6:30 P.M- 8:30 P.M. \nZoom Meeting Online or By Telephone\nPlease click the link below to join the webinar:\nhttps://us02web.zoom.us/j/87489339469\nOr Dial (669) 900-6833 to Join the Meeting\nThen Enter This Webinar ID: 874 8933 9469 and Press # \nAgenda: \nDOWNLOAD THE AGENDA HERE \n        \n                                    \n                        \n                            \n\n\n  \nSupporting Documents: \n        \n                                    \n                        \n                            \n\n\n 
URL:https://whcouncil.org/event/homeless-social-justice-advocacy-committee-3-26-24/
LOCATION:LAFD Fire Station 84\, 21050 Burbank Blvd.\, Woodland Hills\, CA\, 91367\, United States
CATEGORIES:Homeless & Social Justice
ATTACH;FMTTYPE=image/jpeg:https://whcouncil.org/wp-content/uploads/2024/03/Homeless-6.jpg
ORGANIZER;CN="Reina McCaughey":MAILTO:r.mccaughey@whcouncil.org
GEO:34.1729585;-118.5915767
X-APPLE-STRUCTURED-LOCATION;VALUE=URI;X-ADDRESS=LAFD Fire Station 84 21050 Burbank Blvd. Woodland Hills CA 91367 United States;X-APPLE-RADIUS=500;X-TITLE=21050 Burbank Blvd.:geo:-118.5915767,34.1729585
END:VEVENT
END:VCALENDAR