BEGIN:VCALENDAR
VERSION:2.0
PRODID:-//Woodland Hills Warner - Center Neighborhood Council | Your most local part of CIty Government - ECPv6.15.20//NONSGML v1.0//EN
CALSCALE:GREGORIAN
METHOD:PUBLISH
X-WR-CALNAME:Woodland Hills Warner - Center Neighborhood Council | Your most local part of CIty Government
X-ORIGINAL-URL:https://whcouncil.org
X-WR-CALDESC:Events for Woodland Hills Warner - Center Neighborhood Council | Your most local part of CIty Government
REFRESH-INTERVAL;VALUE=DURATION:PT1H
X-Robots-Tag:noindex
X-PUBLISHED-TTL:PT1H
BEGIN:VTIMEZONE
TZID:America/Los_Angeles
BEGIN:DAYLIGHT
TZOFFSETFROM:-0800
TZOFFSETTO:-0700
TZNAME:PDT
DTSTART:20230312T100000
END:DAYLIGHT
BEGIN:STANDARD
TZOFFSETFROM:-0700
TZOFFSETTO:-0800
TZNAME:PST
DTSTART:20231105T090000
END:STANDARD
BEGIN:DAYLIGHT
TZOFFSETFROM:-0800
TZOFFSETTO:-0700
TZNAME:PDT
DTSTART:20240310T100000
END:DAYLIGHT
BEGIN:STANDARD
TZOFFSETFROM:-0700
TZOFFSETTO:-0800
TZNAME:PST
DTSTART:20241103T090000
END:STANDARD
BEGIN:DAYLIGHT
TZOFFSETFROM:-0800
TZOFFSETTO:-0700
TZNAME:PDT
DTSTART:20250309T100000
END:DAYLIGHT
BEGIN:STANDARD
TZOFFSETFROM:-0700
TZOFFSETTO:-0800
TZNAME:PST
DTSTART:20251102T090000
END:STANDARD
END:VTIMEZONE
BEGIN:VEVENT
DTSTART;TZID=America/Los_Angeles:20240430T183000
DTEND;TZID=America/Los_Angeles:20240430T200000
DTSTAMP:20260425T112746
CREATED:20240427T225628Z
LAST-MODIFIED:20240429T231248Z
UID:10001398-1714501800-1714507200@whcouncil.org
SUMMARY:Homeless & Social Justice Advocacy Committee Meeting - 4/30/24
DESCRIPTION:Please join us for our Homeless & Social Justice Advocacy Committee on Tuesday\, April 30\, 2024 from 6:30 P.M- 8:00 P.M. \nZoom Meeting Online or By Telephone\nPlease click the link below to join the webinar:\nhttps://us02web.zoom.us/j/88551577762 \nOr Dial (669) 900-6833 to Join the Meeting\nThen Enter This Webinar ID: 88551577762 and Press # \n  \nThe Agenda can be downloaded at Apr 30\, 2024 \n  \n        \n                                    \n                        \n                            \n\n\n  \n 
URL:https://whcouncil.org/event/14927/
LOCATION:CA
CATEGORIES:Homeless & Social Justice
ATTACH;FMTTYPE=image/jpeg:https://whcouncil.org/wp-content/uploads/2024/04/Homeless-8.jpg
END:VEVENT
END:VCALENDAR