BEGIN:VCALENDAR
VERSION:2.0
PRODID:-//Woodland Hills Warner - Center Neighborhood Council | Your most local part of CIty Government - ECPv6.15.20//NONSGML v1.0//EN
CALSCALE:GREGORIAN
METHOD:PUBLISH
X-ORIGINAL-URL:https://whcouncil.org
X-WR-CALDESC:Events for Woodland Hills Warner - Center Neighborhood Council | Your most local part of CIty Government
REFRESH-INTERVAL;VALUE=DURATION:PT1H
X-Robots-Tag:noindex
X-PUBLISHED-TTL:PT1H
BEGIN:VTIMEZONE
TZID:America/Los_Angeles
BEGIN:DAYLIGHT
TZOFFSETFROM:-0800
TZOFFSETTO:-0700
TZNAME:PDT
DTSTART:20230312T100000
END:DAYLIGHT
BEGIN:STANDARD
TZOFFSETFROM:-0700
TZOFFSETTO:-0800
TZNAME:PST
DTSTART:20231105T090000
END:STANDARD
BEGIN:DAYLIGHT
TZOFFSETFROM:-0800
TZOFFSETTO:-0700
TZNAME:PDT
DTSTART:20240310T100000
END:DAYLIGHT
BEGIN:STANDARD
TZOFFSETFROM:-0700
TZOFFSETTO:-0800
TZNAME:PST
DTSTART:20241103T090000
END:STANDARD
BEGIN:DAYLIGHT
TZOFFSETFROM:-0800
TZOFFSETTO:-0700
TZNAME:PDT
DTSTART:20250309T100000
END:DAYLIGHT
BEGIN:STANDARD
TZOFFSETFROM:-0700
TZOFFSETTO:-0800
TZNAME:PST
DTSTART:20251102T090000
END:STANDARD
END:VTIMEZONE
BEGIN:VEVENT
DTSTART;TZID=America/Los_Angeles:20240302T080000
DTEND;TZID=America/Los_Angeles:20240302T110000
DTSTAMP:20260425T202019
CREATED:20240229T194258Z
LAST-MODIFIED:20240229T222828Z
UID:10001121-1709366400-1709377200@whcouncil.org
SUMMARY:Saturday Clean-Up  3/2/24
DESCRIPTION:For this month’s Clean-Up\, we will be identifying and counting the empty Tree Wells in the area so that we can request new trees from the city. \nIf you are available to help\, please join us on \nSaturday March 2\, 2024 \nMeet at 8am.  Rain or Shine. \nCoffee Bean at 21851 Ventura Blvd.\, Woodland Hills. \nWe will be driving and counting the empty tree wells on the concrete sidewalk only. \nThis is for missing street trees. \n\nYou will: \n\nIdentify by name the street you are counting including your direction (North\, South\, East\, West)\nNote the street cross street where you begin and end.\nCount the empty tree wells to your right. Turn around and count the empty tree wells on the same street going in the opposite direction.\nSend the information you collected to Karen so we can consolidate a report.
URL:https://whcouncil.org/event/saturday-clean-up-3-2-24/
LOCATION:CA
CATEGORIES:Environment & Beautification
END:VEVENT
END:VCALENDAR