BEGIN:VCALENDAR
VERSION:2.0
PRODID:-//Woodland Hills Warner - Center Neighborhood Council | Your most local part of CIty Government - ECPv6.15.20//NONSGML v1.0//EN
CALSCALE:GREGORIAN
METHOD:PUBLISH
X-WR-CALNAME:Woodland Hills Warner - Center Neighborhood Council | Your most local part of CIty Government
X-ORIGINAL-URL:https://whcouncil.org
X-WR-CALDESC:Events for Woodland Hills Warner - Center Neighborhood Council | Your most local part of CIty Government
REFRESH-INTERVAL;VALUE=DURATION:PT1H
X-Robots-Tag:noindex
X-PUBLISHED-TTL:PT1H
BEGIN:VTIMEZONE
TZID:America/Los_Angeles
BEGIN:DAYLIGHT
TZOFFSETFROM:-0800
TZOFFSETTO:-0700
TZNAME:PDT
DTSTART:20250309T100000
END:DAYLIGHT
BEGIN:STANDARD
TZOFFSETFROM:-0700
TZOFFSETTO:-0800
TZNAME:PST
DTSTART:20251102T090000
END:STANDARD
BEGIN:DAYLIGHT
TZOFFSETFROM:-0800
TZOFFSETTO:-0700
TZNAME:PDT
DTSTART:20260308T100000
END:DAYLIGHT
BEGIN:STANDARD
TZOFFSETFROM:-0700
TZOFFSETTO:-0800
TZNAME:PST
DTSTART:20261101T090000
END:STANDARD
BEGIN:DAYLIGHT
TZOFFSETFROM:-0800
TZOFFSETTO:-0700
TZNAME:PDT
DTSTART:20270314T100000
END:DAYLIGHT
BEGIN:STANDARD
TZOFFSETFROM:-0700
TZOFFSETTO:-0800
TZNAME:PST
DTSTART:20271107T090000
END:STANDARD
END:VTIMEZONE
BEGIN:VEVENT
DTSTART;VALUE=DATE:20260319
DTEND;VALUE=DATE:20260323
DTSTAMP:20260423T155135
CREATED:20260226T065942Z
LAST-MODIFIED:20260227T235354Z
UID:10001598-1773878400-1774223999@whcouncil.org
SUMMARY:The Wall That Heals: March 19th - 22nd
DESCRIPTION:The Wall That Heals in Woodland Hills at Pierce College\nVeterans\, families\, and community members are invited to experience The Wall That Heals in Woodland Hills at Pierce College\, March 19–22.\nThis traveling memorial offers a powerful space for remembrance\, connection\, and healing\, featuring a replica of the Vietnam Veterans Memorial and a Mobile Education Center that shares the impact of the Vietnam War. The exhibit is free to attend and welcomes veterans of all eras\, their families\, and those wishing to pay tribute.
URL:https://whcouncil.org/event/the-wall-that-heals-march-19th-22nd/
LOCATION:Pierce College\, 6201 Winnetka Ave\, Woodland Hills\, CA\, 91367\, United States
CATEGORIES:Community
ATTACH;FMTTYPE=image/png:https://whcouncil.org/wp-content/uploads/2026/02/theWallThatHeals.png
GEO:34.1862217;-118.5822758
X-APPLE-STRUCTURED-LOCATION;VALUE=URI;X-ADDRESS=Pierce College 6201 Winnetka Ave Woodland Hills CA 91367 United States;X-APPLE-RADIUS=500;X-TITLE=6201 Winnetka Ave:geo:-118.5822758,34.1862217
END:VEVENT
END:VCALENDAR