BEGIN:VCALENDAR
VERSION:2.0
PRODID:-//Woodland Hills Warner - Center Neighborhood Council | Your most local part of CIty Government - ECPv6.15.20//NONSGML v1.0//EN
CALSCALE:GREGORIAN
METHOD:PUBLISH
X-WR-CALNAME:Woodland Hills Warner - Center Neighborhood Council | Your most local part of CIty Government
X-ORIGINAL-URL:https://whcouncil.org
X-WR-CALDESC:Events for Woodland Hills Warner - Center Neighborhood Council | Your most local part of CIty Government
REFRESH-INTERVAL;VALUE=DURATION:PT1H
X-Robots-Tag:noindex
X-PUBLISHED-TTL:PT1H
BEGIN:VTIMEZONE
TZID:America/Los_Angeles
BEGIN:DAYLIGHT
TZOFFSETFROM:-0800
TZOFFSETTO:-0700
TZNAME:PDT
DTSTART:20240310T100000
END:DAYLIGHT
BEGIN:STANDARD
TZOFFSETFROM:-0700
TZOFFSETTO:-0800
TZNAME:PST
DTSTART:20241103T090000
END:STANDARD
BEGIN:DAYLIGHT
TZOFFSETFROM:-0800
TZOFFSETTO:-0700
TZNAME:PDT
DTSTART:20250309T100000
END:DAYLIGHT
BEGIN:STANDARD
TZOFFSETFROM:-0700
TZOFFSETTO:-0800
TZNAME:PST
DTSTART:20251102T090000
END:STANDARD
BEGIN:DAYLIGHT
TZOFFSETFROM:-0800
TZOFFSETTO:-0700
TZNAME:PDT
DTSTART:20260308T100000
END:DAYLIGHT
BEGIN:STANDARD
TZOFFSETFROM:-0700
TZOFFSETTO:-0800
TZNAME:PST
DTSTART:20261101T090000
END:STANDARD
END:VTIMEZONE
BEGIN:VEVENT
DTSTART;TZID=America/Los_Angeles:20250510T110000
DTEND;TZID=America/Los_Angeles:20250510T170000
DTSTAMP:20260424T143216
CREATED:20250502T173324Z
LAST-MODIFIED:20250502T173327Z
UID:10001506-1746874800-1746896400@whcouncil.org
SUMMARY:4th Annual Valley Asian Pacific Islander Cultural Festival
DESCRIPTION:
URL:https://whcouncil.org/event/4th-annual-valley-asian-pacific-islander-cultural-festival/
LOCATION:Pierce College\, 6201 Winnetka Ave\, Woodland Hills\, CA\, 91367\, United States
CATEGORIES:Community,Community Services
ATTACH;FMTTYPE=image/png:https://whcouncil.org/wp-content/uploads/2025/05/2024VAPICultura-Flyer.png
GEO:34.1862217;-118.5822758
X-APPLE-STRUCTURED-LOCATION;VALUE=URI;X-ADDRESS=Pierce College 6201 Winnetka Ave Woodland Hills CA 91367 United States;X-APPLE-RADIUS=500;X-TITLE=6201 Winnetka Ave:geo:-118.5822758,34.1862217
END:VEVENT
END:VCALENDAR