BEGIN:VCALENDAR
VERSION:2.0
PRODID:-//Woodland Hills Warner - Center Neighborhood Council | Your most local part of CIty Government - ECPv6.15.20//NONSGML v1.0//EN
CALSCALE:GREGORIAN
METHOD:PUBLISH
X-ORIGINAL-URL:https://whcouncil.org
X-WR-CALDESC:Events for Woodland Hills Warner - Center Neighborhood Council | Your most local part of CIty Government
REFRESH-INTERVAL;VALUE=DURATION:PT1H
X-Robots-Tag:noindex
X-PUBLISHED-TTL:PT1H
BEGIN:VTIMEZONE
TZID:America/Los_Angeles
BEGIN:DAYLIGHT
TZOFFSETFROM:-0800
TZOFFSETTO:-0700
TZNAME:PDT
DTSTART:20230312T100000
END:DAYLIGHT
BEGIN:STANDARD
TZOFFSETFROM:-0700
TZOFFSETTO:-0800
TZNAME:PST
DTSTART:20231105T090000
END:STANDARD
BEGIN:DAYLIGHT
TZOFFSETFROM:-0800
TZOFFSETTO:-0700
TZNAME:PDT
DTSTART:20240310T100000
END:DAYLIGHT
BEGIN:STANDARD
TZOFFSETFROM:-0700
TZOFFSETTO:-0800
TZNAME:PST
DTSTART:20241103T090000
END:STANDARD
BEGIN:DAYLIGHT
TZOFFSETFROM:-0800
TZOFFSETTO:-0700
TZNAME:PDT
DTSTART:20250309T100000
END:DAYLIGHT
BEGIN:STANDARD
TZOFFSETFROM:-0700
TZOFFSETTO:-0800
TZNAME:PST
DTSTART:20251102T090000
END:STANDARD
END:VTIMEZONE
BEGIN:VEVENT
DTSTART;TZID=America/Los_Angeles:20241014T160000
DTEND;TZID=America/Los_Angeles:20241014T180000
DTSTAMP:20260425T153302
CREATED:20241001T000254Z
LAST-MODIFIED:20241001T000254Z
UID:10001445-1728921600-1728928800@whcouncil.org
SUMMARY:Outreach Committee Meeting - 10/14/24
DESCRIPTION:The next Outreach Committee Meeting will be held at a special time at 4:00pm PT on Monday\, October 14th via ZOOM \nThe agenda will be posted in advance of the meeting.
URL:https://whcouncil.org/event/outreach-committee-meeting-10-14-24/
LOCATION:ZOOM\, NONE\, NONE\, CA\, NONE\, United States
CATEGORIES:Community Outreach
ORGANIZER;CN="Tracey Rosen":MAILTO:tracey.rosen@gmail.com
GEO:37.0982847;-122.0979399
X-APPLE-STRUCTURED-LOCATION;VALUE=URI;X-ADDRESS=ZOOM NONE NONE CA NONE United States;X-APPLE-RADIUS=500;X-TITLE=NONE:geo:-122.0979399,37.0982847
END:VEVENT
BEGIN:VEVENT
DTSTART;TZID=America/Los_Angeles:20241014T183000
DTEND;TZID=America/Los_Angeles:20241014T200000
DTSTAMP:20260425T153302
CREATED:20241011T215553Z
LAST-MODIFIED:20241011T215553Z
UID:10001448-1728930600-1728936000@whcouncil.org
SUMMARY:Outreach Committee Meeting 10/14/24
DESCRIPTION:The next Outreach Committee Meeting  meeting will be held on October 14\, 2024 at 6:30pm via ZOOM \nJoin Zoom Meeting\nhttps://us02web.zoom.us/j/85021748581 \nVia Phone: 888-475-4499 US Toll-free\nMeeting ID: 850 2174 8581 \n  \nThe agenda can be found HERE: Oct 14\, 2024  \n 
URL:https://whcouncil.org/event/outreach-committee-meeting-10-14-24-2/
LOCATION:ZOOM\, NONE\, NONE\, CA\, NONE\, United States
CATEGORIES:Community Outreach
ORGANIZER;CN="Tracey Rosen":MAILTO:tracey.rosen@gmail.com
GEO:37.0982847;-122.0979399
X-APPLE-STRUCTURED-LOCATION;VALUE=URI;X-ADDRESS=ZOOM NONE NONE CA NONE United States;X-APPLE-RADIUS=500;X-TITLE=NONE:geo:-122.0979399,37.0982847
END:VEVENT
BEGIN:VEVENT
DTSTART;TZID=America/Los_Angeles:20241028T183000
DTEND;TZID=America/Los_Angeles:20241028T200000
DTSTAMP:20260425T153302
CREATED:20241025T220333Z
LAST-MODIFIED:20241028T235804Z
UID:10001210-1730140200-1730145600@whcouncil.org
SUMMARY:Outreach Committee Meeting 10/28 - CANCELED
DESCRIPTION:We apologize for the inconvenience but tonight’s Outreach Committee Meeting on October 28th has been canceled.  The next scheduled meeting will be on November 11th \n  \n 
URL:https://whcouncil.org/event/outreach-committee-meeting-10-28/
LOCATION:Community Room\, Capital One Cafe\, 6600 CA-27 Suite 1038 Suite 103\, Canoga Park\, CA\, 91303\, United States
CATEGORIES:Community Outreach
ORGANIZER;CN="Tracey Rosen":MAILTO:tracey.rosen@gmail.com
GEO:34.1900362;-118.6035049
X-APPLE-STRUCTURED-LOCATION;VALUE=URI;X-ADDRESS=Community Room Capital One Cafe 6600 CA-27 Suite 1038 Suite 103 Canoga Park CA 91303 United States;X-APPLE-RADIUS=500;X-TITLE=6600 CA-27 Suite 1038 Suite 103:geo:-118.6035049,34.1900362
END:VEVENT
END:VCALENDAR