BEGIN:VCALENDAR
VERSION:2.0
PRODID:-//Woodland Hills Warner - Center Neighborhood Council | Your most local part of CIty Government - ECPv6.15.20//NONSGML v1.0//EN
CALSCALE:GREGORIAN
METHOD:PUBLISH
X-ORIGINAL-URL:https://whcouncil.org
X-WR-CALDESC:Events for Woodland Hills Warner - Center Neighborhood Council | Your most local part of CIty Government
REFRESH-INTERVAL;VALUE=DURATION:PT1H
X-Robots-Tag:noindex
X-PUBLISHED-TTL:PT1H
BEGIN:VTIMEZONE
TZID:America/Los_Angeles
BEGIN:DAYLIGHT
TZOFFSETFROM:-0800
TZOFFSETTO:-0700
TZNAME:PDT
DTSTART:20230312T100000
END:DAYLIGHT
BEGIN:STANDARD
TZOFFSETFROM:-0700
TZOFFSETTO:-0800
TZNAME:PST
DTSTART:20231105T090000
END:STANDARD
BEGIN:DAYLIGHT
TZOFFSETFROM:-0800
TZOFFSETTO:-0700
TZNAME:PDT
DTSTART:20240310T100000
END:DAYLIGHT
BEGIN:STANDARD
TZOFFSETFROM:-0700
TZOFFSETTO:-0800
TZNAME:PST
DTSTART:20241103T090000
END:STANDARD
BEGIN:DAYLIGHT
TZOFFSETFROM:-0800
TZOFFSETTO:-0700
TZNAME:PDT
DTSTART:20250309T100000
END:DAYLIGHT
BEGIN:STANDARD
TZOFFSETFROM:-0700
TZOFFSETTO:-0800
TZNAME:PST
DTSTART:20251102T090000
END:STANDARD
END:VTIMEZONE
BEGIN:VEVENT
DTSTART;TZID=America/Los_Angeles:20240711T173000
DTEND;TZID=America/Los_Angeles:20240711T190000
DTSTAMP:20260425T202447
CREATED:20240710T015139Z
LAST-MODIFIED:20240711T211500Z
UID:10001422-1720719000-1720724400@whcouncil.org
SUMMARY:Special Outreach Meeting - 7/11/24 on Zoom
DESCRIPTION:Please join us for our next Outreach Committee Meeting via ZOOM on Thursday\, July 11th at 5:30pm \nZoom Meeting Online or By Telephone \nPlease click the following link to join the webinar: https://us02web.zoom.us/j/82284713332 \nOr Dial (669) 900-6833 to Join the Meeting\, then Enter This Webinar ID: 822 8471 3332 and Press # \nAll meetings are open to the public and stakeholders (those who live\, work or regularly volunteer in Woodland Hills – Warner Center) encouraged to participate in a committee. \nWe will be finalizing the quarterly newsletter and discussing objectives for the 2024 – 2025 fiscal year. \nThe agenda is below or can be downloaded HERE: Jul 11\, 2024
URL:https://whcouncil.org/event/special-outreach-meeting-7-11-24-on-zoom/
LOCATION:ZOOM\, NONE\, NONE\, CA\, NONE\, United States
CATEGORIES:Community Outreach
ATTACH;FMTTYPE=image/jpeg:https://whcouncil.org/wp-content/uploads/2024/07/Outreach-Committee-13.jpg
ORGANIZER;CN="Tracey Rosen":MAILTO:tracey.rosen@gmail.com
GEO:37.0982847;-122.0979399
X-APPLE-STRUCTURED-LOCATION;VALUE=URI;X-ADDRESS=ZOOM NONE NONE CA NONE United States;X-APPLE-RADIUS=500;X-TITLE=NONE:geo:-122.0979399,37.0982847
END:VEVENT
BEGIN:VEVENT
DTSTART;TZID=America/Los_Angeles:20240722T183000
DTEND;TZID=America/Los_Angeles:20240722T200000
DTSTAMP:20260425T202447
CREATED:20240722T001702Z
LAST-MODIFIED:20240722T001702Z
UID:10001427-1721673000-1721678400@whcouncil.org
SUMMARY:Outreach Committee Meeting 7/22/24
DESCRIPTION:Please join us for our next Outreach Committee Meeting at 6:30pm on Monday\, July 22\, 2024.  We will be meeting in-person in the Community Room of  the Capital One Cafe in the Westfield Topanga Mall. \n  \nThe agenda can be downloaded HERE  or viewed below \n 
URL:https://whcouncil.org/event/outreach-committee-meeting-7-22-24/
LOCATION:Community Room\, Capital One Cafe\, 6600 CA-27 Suite 1038 Suite 103\, Canoga Park\, CA\, 91303\, United States
CATEGORIES:Community Outreach,Council Meetings
ATTACH;FMTTYPE=image/jpeg:https://whcouncil.org/wp-content/uploads/2024/07/Outreach-Committee-14.jpg
ORGANIZER;CN="Tracey Rosen":MAILTO:tracey.rosen@gmail.com
GEO:34.1900362;-118.6035049
X-APPLE-STRUCTURED-LOCATION;VALUE=URI;X-ADDRESS=Community Room Capital One Cafe 6600 CA-27 Suite 1038 Suite 103 Canoga Park CA 91303 United States;X-APPLE-RADIUS=500;X-TITLE=6600 CA-27 Suite 1038 Suite 103:geo:-118.6035049,34.1900362
END:VEVENT
END:VCALENDAR