BEGIN:VCALENDAR
VERSION:2.0
PRODID:-//Woodland Hills Warner - Center Neighborhood Council | Your most local part of CIty Government - ECPv6.15.20//NONSGML v1.0//EN
CALSCALE:GREGORIAN
METHOD:PUBLISH
X-WR-CALNAME:Woodland Hills Warner - Center Neighborhood Council | Your most local part of CIty Government
X-ORIGINAL-URL:https://whcouncil.org
X-WR-CALDESC:Events for Woodland Hills Warner - Center Neighborhood Council | Your most local part of CIty Government
REFRESH-INTERVAL;VALUE=DURATION:PT1H
X-Robots-Tag:noindex
X-PUBLISHED-TTL:PT1H
BEGIN:VTIMEZONE
TZID:America/Los_Angeles
BEGIN:DAYLIGHT
TZOFFSETFROM:-0800
TZOFFSETTO:-0700
TZNAME:PDT
DTSTART:20230312T100000
END:DAYLIGHT
BEGIN:STANDARD
TZOFFSETFROM:-0700
TZOFFSETTO:-0800
TZNAME:PST
DTSTART:20231105T090000
END:STANDARD
BEGIN:DAYLIGHT
TZOFFSETFROM:-0800
TZOFFSETTO:-0700
TZNAME:PDT
DTSTART:20240310T100000
END:DAYLIGHT
BEGIN:STANDARD
TZOFFSETFROM:-0700
TZOFFSETTO:-0800
TZNAME:PST
DTSTART:20241103T090000
END:STANDARD
BEGIN:DAYLIGHT
TZOFFSETFROM:-0800
TZOFFSETTO:-0700
TZNAME:PDT
DTSTART:20250309T100000
END:DAYLIGHT
BEGIN:STANDARD
TZOFFSETFROM:-0700
TZOFFSETTO:-0800
TZNAME:PST
DTSTART:20251102T090000
END:STANDARD
END:VTIMEZONE
BEGIN:VEVENT
DTSTART;TZID=America/Los_Angeles:20241113T183000
DTEND;TZID=America/Los_Angeles:20241113T210000
DTSTAMP:20260425T040007
CREATED:20241110T030503Z
LAST-MODIFIED:20241113T011950Z
UID:10001455-1731522600-1731531600@whcouncil.org
SUMMARY:WHWCNC Regular Board Meeting 11/13/24
DESCRIPTION:WOODLAND HILLS WARNER CENTER NEIGHBORHOOD COUNCIL \n  \n        Regular Full Board Meeting \nCity of Los Angeles Fire Station # 84\, in the Community Room \n200 N. Spring Street Los Angeles\, CA 90012 \nEmail: NCsupport@lacity.org Website: www.empowerla.org \n  \n   21050 Burbank Blvd.\, Woodland Hills\, CA\, 91367 \n November 13\, 2024 \n6:30 p.m.- 09:00 p.m. \nIN PERSON BOARD MEETING  \n  \nThe Agenda is included below or can be DOWNLOADED HERE \nThe Supporting Documents can be DOWNLOADED HERE \nThe supporting documents for the MER can be Downloaded HERE \n  \nSi requiere servicios de traducción\, favor de avisar al Concejo Vecinal 3 días de trabajo (72 horas) antes del evento. Por favor contacte Karen DiBiase\, Secretaria\, al 818-639-9444 o por correo electrónico www.whcouncil.org para avisar al Concejo Vecinal. \n*PUBLIC INPUT ON AGENDA ITEMS – The public may address the Board on any agenda item before the Board takes an action on an item. Comments from the public on agenda items will be heard only when the respective item is being considered. Public comment is limited to (1) minute per speaker unless adjusted by the President. Public comment can only be made one time and will be heard at the beginning of an agenda item. \n*PUBLIC INPUT ON MATTERS NOT ON THE AGENDA – Comments from the public on other matters not appearing on the agenda that are within the Board’s jurisdiction will be heard during the General Public Comment period. Please note that under the Brown Act\, the Board is prevented from acting on a matter that you bring to its attention during the General Public Comment period; however\, the issue raised by a member of the public may become the subject of a future Board meeting. \n  \nBoard Members: \nArea 1 – Karen DiBiase\, Geoffrey Hobson\, Rochelle / Shelly Schwartz\, Reina Cerros- McCaughey \nArea 2 – Julian Tu\, Masha Dowell \nArea 3 – Tracey Rosen\, Dean Mathew\, Harout Z. Aristakessian\, Jayce Baron \nArea 4 – Don Patterson\, Martin Lipkin\, Dena Weiss \nArea 5 – Julie Waltrip\, Steve Sommers \nArea 6 –William Barnett\, Heath Kline\, Megan Jacoby \nArea 7 – Kate Kennedy\, Lillian / Joyce Fletcher\,  Rosaleen O’Sullivan\nAt-Large – August Steurer\, Vacant Seat for Alternate\nYouth Member – Vacant seat \n  \nAGENDA \nCall to Order \nPledge of Allegiance \nRoll Call \n  \nPublic Announcements: \nOffice of Councilmember Bob Blumenfield – if available                                                      (2 minute each) \nOffice of Local and State Officials – if available                                                                     (2 minute each) \nOther Local Agencies – if available                                                                                     (2 minute each) \n  \nGeneral Public Comment\, by the Public\, on Non-Agenda Items: \nGeneral Public Comment is limited to one (1) minute per speaker and 10 minutes total due to length of agenda. \n  \n\n Organization\, Operation\, Policies\, & Procedures & Reports: \n\nAll comment is limited to 1 minute per speaker\, unless adjusted by the presiding officer of the Board. There will be ONE opportunity to speak only. Time limits set for each agenda item may be adjusted by the presiding officer of the Board. Time limits may vary so the public is encouraged to join the meeting several minutes PRIOR to a specific agenda item being discussed. \n  \n\nApproval of Minutes: Board Meeting – July 29\, 2024 and October 14\, 2024                                                                                                                                                                                                                                                  (estimated time 5 minutes)\n\n  \nSee posted support documents                                                                      Roll Call Vote \n  \n\n Officer Reports (estimated time 5 minutes)\n\nPresident – Dena Weiss   \nVice President – Tracey Rosen \nTreasurer – Heath Kline \nSecretary -Karen DiBiase   \nParliamentarian – Don Patterson \n  \n\n Area Reports (it is requested that each area designate one representative to report each month).                                                                                                                                                                                                    (estimated time 10 minutes)\n\nArea 1 – Karen DiBiase\, Geoffrey Hobson\, Rochelle / Shelly Schwartz\, Reina Cerros- McCaughey \nArea 2 – Julian Tu\, Masha Dowell \nArea 3 – Tracey Rosen\, Dean Mathew\, Harout Z. Aristakessian\, Jayce Baron \nArea 4 – Don Patterson\, Martin Lipkin\, Dena Weiss \nArea 5 – Julie Waltrip\, Steve Sommers \nArea 6 –William Barnett\, Heath Kline\, Megan Jacoby \nArea 7 – Kate Kennedy\, Lillian / Joyce Fletcher\,  Rosaleen O’Sullivan \n  \nItems for Discussion and Possible Action:  \nItem No. 1 \nPresentation By Empower LA on Code of Conduct and Civility (24-086)  \n(estimated time 15 minutes) \n  \nItem No. 2 \nHeath Kline\, Treasurer  \n(24-087) Approval of MER for October\, 2024 \nFor discussion and action                                                                                         (estimated time 5 minutes) \n  \nSee posted support document                                                                                    Roll Call Vote \n  \nItem No. 3 \nDon Patterson\, Martin Lipkin\, Chairs of PLUM \n(24-088) PLUM Committee Motion regarding CHIP      \nFor discussion and possible action                                                                           (estimated time 15 minutes) \n  \nPLUM Motion to approve the written recommendation provided to the PLUM committee related to the Housing Element and Citywide Housing Incentive Program\, CHIP with opposition to Inclusion of Single-Family Zoning Options in the Citywide Housing Incentive Program (CHIP) \nWHEREAS\, the City of Los Angeles is mandated by the State to increase its residential zoning capacity to meet the Regional Housing Needs Assessment (RHNA) over eight years; and\, \nWHEREAS\, the City Council must approve an updated Housing Element to the city’s General Plan by the February deadline to avoid triggering the State’s Builder’s Remedy; and\, \nWHEREAS\, the Department of City Planning has engaged in the Housing Element Rezoning Program\, resulting in multiple ordinances including the Citywide Housing Incentive Program (CHIP); and\, \nWHEREAS\, the Planning Department’s report clearly demonstrates that sufficient zoning capacity can be achieved to meet the State’s mandate without rezoning single-family areas; and\, \nWHEREAS\, the Planning Department has presented six optional strategies that would extend CHIP to single-family dwelling (SFD) zones; and\, \nWHEREAS\, these options fail to address potential negative impacts\, including: \n\nReduced opportunities for single-family home ownership\, contradicting the preference of many apartment renters;\nPotential increase in SFD prices due to reduced supply\, decreasing affordability;\nPossible economic consequences include workforce displacement and business relocation;\n\nNOW\, THEREFORE\, BE IT RESOLVED\,\nthat the Woodland Hills – Warner Center Neighborhood Council: \n\nSUPPORTS the adoption of the Los Angeles City Planning Commission’s recommendation to approve Draft #3 of the Housing Element/CHIP Ordinance as presented by the Planning Department;\nOPPOSES the inclusion of any of the seven Exhibit D “options” that would open single-family neighborhoods to multi-family zoning;\nURGES the City Council to maintain the integrity of single-family neighborhoods while meeting the State’s housing mandate through other means\, as outlined in the Planning Department’s report;\nCALLS FOR a more comprehensive analysis of the economic and social impacts of any proposed changes to single-family zoning before such changes are considered in the future;\nDIRECTS the President of the Neighborhood Council to send a letter to the City Council\, the Mayor’s office\, and the Department of City Planning conveying this position.\n\n  \nAugust Steurer made the motion to approve the written recommendation provided to the PLUM committee related to the Housing Element and Citywide Housing Incentive Program\, CHIP.  \nSeconded by Sean McCarthy \nVote: Yes – Don Patterson\, Joyce Fletcher\, Sean McCarthy\, Henry Rice\, August Steurer\, Bobbie Wasserman  \nNo: 0 \nAbstain: Matt Richman \nSee the Planning documents online: \n  \nhttps://planning.lacity.gov/plans-policies/housing-element                                               Roll Call Vote \n  \n     Committee Reports\,                                                                                 (estimated time 10 minutes) \nBudget Committee – Heath Kline\, Chair \nArts and Culture Committee – Masha Dowell\, Chair (absent) \nCommunity Services Committee – Joyce Fletcher\, Chair\nCommunity Outreach Committee –Tracey Rosen\, Chair \nEducation and Youth Committee – Julie Waltrip\, Chair\nEnvironmental & Beautification Committee – Karen DiBiase\, Chair\nGovernance Committee – Dena Weiss\, Chair \nGovernment Relations Committee- Reina Cerros McCaughey\, Chair \nHomeless and Social  Justice Advocacy Committee –Jayce Baron\, Chair \nPublic Safety and Transportation –Julie Waltrip\,  Chair\nPLUM Committee – Don Patterson and Marty Lipkin\, Co-Chairs \nWHIP Committee – August Steurer and Heath Kline\, Co-Chairs \nAd Hoc Committee for Standing Rules- August Steurer and Heath Kline\, Co-Chairs \nAd Hoc Committee for technology use at Virtual Meetings- Dean Matthew Chair \nAd Hoc Holiday Decorations Committee – Joyce Fletcher & Masha Dowell\, Co-Chairs \n  \nAdjournment of Meeting \nThe next Regular Board meeting will be held virtually on December 11\, 2024.  Please visit the calendar page at whcouncil.org for the complete details and to confirm the date and time. \nMeeting dates for the 2024-2025 year: Full Board meetings are held the second Wednesday of every month at 6:30 p.m. Check the NC website calendar for a complete list of committee and board meetings. Meeting dates and times are subject to change. Check the NC calendar for updated meeting schedules. \n  \n*THE AMERICAN WITH DISABILITIES ACT – As a covered entity under Title II of the Americans with Disabilities Act\, the City of Los Angeles does not discriminate based on disability and\, upon request will provide reasonable accommodation to ensure equal access to its programs\, services\, and activities. Sign language interpreters\, assistive listening devices\, or other auxiliary aids and/or services may be provided upon request. To ensure the availability of services\, please make your request at least 3 business days (72 hours) before the meeting by contacting the Department of Neighborhood Empowerment by calling (213) 978-1551 or email: NCsupport@lacity.org. \n*PUBLIC ACCESS OF RECORDS – In compliance with Government Code section 54957.5\, non- exempt writings that are distributed to a majority or all of the board in advance of a meeting may be viewed at our website: www.whcouncil.org or at the scheduled meeting. In addition\, if you would like a copy of any record\, if available\, related to an item on the agenda\, please contact the President and / or Dena Weiss\, at email address d.weiss@whcouncil.org. \n*PUBLIC POSTING OF AGENDAS – agendas are posted for public review as follows: \n\nwhcouncil.org and go to the website Calendar page and click on the date – Board meetings are held on the second Wednesday of each month. Check the calendar for any change of meeting date and/or time.\nYou can also receive our agendas via email by subscribing to A. City’s Early Notification System at https://www.lacity.org/subscriptions\n\nA copy of this agenda is also physically posted in the plexiglass case fixed to the front door of the Fire station 84  located at   21050 Burbank Blvd.\, Woodland Hills\, CA\, 91367 \n\n*RECONSIDERATION AND GRIEVANCE PROCESS – For information on the WHWCNC process for board action reconsideration\, stakeholder grievance policy\, or any other procedural matters related to this Council\, please consult the WHWCNC The Bylaws are available at our website at www.whcouncil.org\nSERVICIOS DE TRADUCCIÓN – Si requiere servicios de traducción\, favor de avisar al Concejo Vecinal 3 días de trabajo (72 horas) antes del evento. Por favor contacte a Dena Weiss al weiss@whcouncil.org o por correo electrónico avisar al Concejo Vecinal.\nNotice to Paid Representatives – If you are compensated to monitor\, attend\, or speak at this meeting\, City law may require you to register as a lobbyist and report your activity. See Los Angeles Municipal Code §§ 48.01 et seq. More information is available at lacity.org/lobbying. For assistance\, please contact the Ethics Commission at {213) 978- 1960 or ethics.commission@lacity.org.\n\n.Nov 13\, 2024
URL:https://whcouncil.org/event/whwcnc-regular-board-meeting-3/
LOCATION:LAFD Fire Station 84\, 21050 Burbank Blvd.\, Woodland Hills\, CA\, 91367\, United States
CATEGORIES:Full Council
ATTACH;FMTTYPE=image/jpeg:https://whcouncil.org/wp-content/uploads/2024/06/WHWC-Board-ZOOM-1.jpg
GEO:34.1729585;-118.5915767
X-APPLE-STRUCTURED-LOCATION;VALUE=URI;X-ADDRESS=LAFD Fire Station 84 21050 Burbank Blvd. Woodland Hills CA 91367 United States;X-APPLE-RADIUS=500;X-TITLE=21050 Burbank Blvd.:geo:-118.5915767,34.1729585
END:VEVENT
END:VCALENDAR