BEGIN:VCALENDAR
VERSION:2.0
PRODID:-//Woodland Hills Warner - Center Neighborhood Council | Your most local part of CIty Government - ECPv6.15.20//NONSGML v1.0//EN
CALSCALE:GREGORIAN
METHOD:PUBLISH
X-WR-CALNAME:Woodland Hills Warner - Center Neighborhood Council | Your most local part of CIty Government
X-ORIGINAL-URL:https://whcouncil.org
X-WR-CALDESC:Events for Woodland Hills Warner - Center Neighborhood Council | Your most local part of CIty Government
REFRESH-INTERVAL;VALUE=DURATION:PT1H
X-Robots-Tag:noindex
X-PUBLISHED-TTL:PT1H
BEGIN:VTIMEZONE
TZID:America/Los_Angeles
BEGIN:DAYLIGHT
TZOFFSETFROM:-0800
TZOFFSETTO:-0700
TZNAME:PDT
DTSTART:20230312T100000
END:DAYLIGHT
BEGIN:STANDARD
TZOFFSETFROM:-0700
TZOFFSETTO:-0800
TZNAME:PST
DTSTART:20231105T090000
END:STANDARD
BEGIN:DAYLIGHT
TZOFFSETFROM:-0800
TZOFFSETTO:-0700
TZNAME:PDT
DTSTART:20240310T100000
END:DAYLIGHT
BEGIN:STANDARD
TZOFFSETFROM:-0700
TZOFFSETTO:-0800
TZNAME:PST
DTSTART:20241103T090000
END:STANDARD
BEGIN:DAYLIGHT
TZOFFSETFROM:-0800
TZOFFSETTO:-0700
TZNAME:PDT
DTSTART:20250309T100000
END:DAYLIGHT
BEGIN:STANDARD
TZOFFSETFROM:-0700
TZOFFSETTO:-0800
TZNAME:PST
DTSTART:20251102T090000
END:STANDARD
END:VTIMEZONE
BEGIN:VEVENT
DTSTART;TZID=America/Los_Angeles:20240409T183000
DTEND;TZID=America/Los_Angeles:20240409T200000
DTSTAMP:20260425T131038
CREATED:20240406T003427Z
LAST-MODIFIED:20240406T003427Z
UID:10001383-1712687400-1712692800@whcouncil.org
SUMMARY:Environment & Beautification Committee Meeting - 4/9/24
DESCRIPTION:Please join us for our Environment & Beautification Committee Meeting on April 9th at 6:30 pm at the Woodland Hills Library (2nd floor community room). \nThe agenda can be downloaded here: Apr 9\, 2024  \n        \n                                    \n                        \n                            \n\no \n  \n 
URL:https://whcouncil.org/event/environment-beautification-committee-meeting-4-9-24/
LOCATION:Woodland Hills Public Library\, Upper Room\, 22200 Ventura Blvd.\, Woodland Hills\, CA\, 91364\, United States
CATEGORIES:Environment & Beautification
GEO:34.1678825;-118.6106854
X-APPLE-STRUCTURED-LOCATION;VALUE=URI;X-ADDRESS=Woodland Hills Public Library Upper Room 22200 Ventura Blvd. Woodland Hills CA 91364 United States;X-APPLE-RADIUS=500;X-TITLE=22200 Ventura Blvd.:geo:-118.6106854,34.1678825
END:VEVENT
BEGIN:VEVENT
DTSTART;TZID=America/Los_Angeles:20240413T080000
DTEND;TZID=America/Los_Angeles:20240413T110000
DTSTAMP:20260425T131038
CREATED:20240412T045310Z
LAST-MODIFIED:20240412T213236Z
UID:10001387-1712995200-1713006000@whcouncil.org
SUMMARY:Saturday Clean-Up 4/13/24
DESCRIPTION:Join the Woodland Hills – Warner Center Neighborhood Council for our Saturday Clean-Up this weekend on April 13th! \n  \nWe’ll be meeting on Ventura Blvd & Oakdale at 9 am (updated time) to clean up the center median along Ventura Blvd. \nAll supplies provided.
URL:https://whcouncil.org/event/saturday-clean-up-4-13-24/
LOCATION:CA
CATEGORIES:Community,Environment & Beautification
END:VEVENT
END:VCALENDAR