BEGIN:VCALENDAR
VERSION:2.0
PRODID:-//Woodland Hills Warner - Center Neighborhood Council | Your most local part of CIty Government - ECPv6.15.20//NONSGML v1.0//EN
CALSCALE:GREGORIAN
METHOD:PUBLISH
X-ORIGINAL-URL:https://whcouncil.org
X-WR-CALDESC:Events for Woodland Hills Warner - Center Neighborhood Council | Your most local part of CIty Government
REFRESH-INTERVAL;VALUE=DURATION:PT1H
X-Robots-Tag:noindex
X-PUBLISHED-TTL:PT1H
BEGIN:VTIMEZONE
TZID:America/Los_Angeles
BEGIN:DAYLIGHT
TZOFFSETFROM:-0800
TZOFFSETTO:-0700
TZNAME:PDT
DTSTART:20230312T100000
END:DAYLIGHT
BEGIN:STANDARD
TZOFFSETFROM:-0700
TZOFFSETTO:-0800
TZNAME:PST
DTSTART:20231105T090000
END:STANDARD
BEGIN:DAYLIGHT
TZOFFSETFROM:-0800
TZOFFSETTO:-0700
TZNAME:PDT
DTSTART:20240310T100000
END:DAYLIGHT
BEGIN:STANDARD
TZOFFSETFROM:-0700
TZOFFSETTO:-0800
TZNAME:PST
DTSTART:20241103T090000
END:STANDARD
BEGIN:DAYLIGHT
TZOFFSETFROM:-0800
TZOFFSETTO:-0700
TZNAME:PDT
DTSTART:20250309T100000
END:DAYLIGHT
BEGIN:STANDARD
TZOFFSETFROM:-0700
TZOFFSETTO:-0800
TZNAME:PST
DTSTART:20251102T090000
END:STANDARD
END:VTIMEZONE
BEGIN:VEVENT
DTSTART;TZID=America/Los_Angeles:20240210T083000
DTEND;TZID=America/Los_Angeles:20240210T103000
DTSTAMP:20260425T164837
CREATED:20240130T214013Z
LAST-MODIFIED:20240130T214013Z
UID:10001352-1707553800-1707561000@whcouncil.org
SUMMARY:Saturday Clean-Up - Feb 10th
DESCRIPTION:We can use your help to clean-up Woodland Hills! \nEvery month\, the Neighborhood Council identifies an area in our community that needs a little TLC and volunteers remove overgrowth and trash as well as trim trees and bushes as needed.  The more volunteers we have\, the more impact we can make.  No experience necessary. Simply show up and we’ll provide the tools. \nOn February 10th (please note date change due to expected rain on Feb 3rd)\, we will be clearing the Center Divider on Ventura Blvd at Oakdale (across from the ex-Osh business)\, from 8:30-10:30am \nWe look forward to seeing you there!
URL:https://whcouncil.org/event/saturday-clean-up-feb-10th/
LOCATION:CA
CATEGORIES:Community,Environment & Beautification
END:VEVENT
BEGIN:VEVENT
DTSTART;TZID=America/Los_Angeles:20240213T183000
DTEND;TZID=America/Los_Angeles:20240213T200000
DTSTAMP:20260425T164837
CREATED:20240211T065542Z
LAST-MODIFIED:20240229T194909Z
UID:10001356-1707849000-1707854400@whcouncil.org
SUMMARY:Special Environment & Beautification Committee Meeting
DESCRIPTION:Please join us for a special Environment & Beautification Meeting on Tuesday\, February 13th at 6:30pm at the Woodland Hills Public Library (2nd floor meeting room). \nThe agenda can be found HERE
URL:https://whcouncil.org/event/special-environment-beautification-committee-meeting/
LOCATION:Woodland Hills Public Library\, Upper Room\, 22200 Ventura Blvd.\, Woodland Hills\, CA\, 91364\, United States
CATEGORIES:Environment & Beautification
GEO:34.1678825;-118.6106854
X-APPLE-STRUCTURED-LOCATION;VALUE=URI;X-ADDRESS=Woodland Hills Public Library Upper Room 22200 Ventura Blvd. Woodland Hills CA 91364 United States;X-APPLE-RADIUS=500;X-TITLE=22200 Ventura Blvd.:geo:-118.6106854,34.1678825
END:VEVENT
END:VCALENDAR