BEGIN:VCALENDAR
VERSION:2.0
PRODID:-//Woodland Hills Warner - Center Neighborhood Council | Your most local part of CIty Government - ECPv6.15.20//NONSGML v1.0//EN
CALSCALE:GREGORIAN
METHOD:PUBLISH
X-ORIGINAL-URL:https://whcouncil.org
X-WR-CALDESC:Events for Woodland Hills Warner - Center Neighborhood Council | Your most local part of CIty Government
REFRESH-INTERVAL;VALUE=DURATION:PT1H
X-Robots-Tag:noindex
X-PUBLISHED-TTL:PT1H
BEGIN:VTIMEZONE
TZID:America/Los_Angeles
BEGIN:DAYLIGHT
TZOFFSETFROM:-0800
TZOFFSETTO:-0700
TZNAME:PDT
DTSTART:20240310T100000
END:DAYLIGHT
BEGIN:STANDARD
TZOFFSETFROM:-0700
TZOFFSETTO:-0800
TZNAME:PST
DTSTART:20241103T090000
END:STANDARD
BEGIN:DAYLIGHT
TZOFFSETFROM:-0800
TZOFFSETTO:-0700
TZNAME:PDT
DTSTART:20250309T100000
END:DAYLIGHT
BEGIN:STANDARD
TZOFFSETFROM:-0700
TZOFFSETTO:-0800
TZNAME:PST
DTSTART:20251102T090000
END:STANDARD
BEGIN:DAYLIGHT
TZOFFSETFROM:-0800
TZOFFSETTO:-0700
TZNAME:PDT
DTSTART:20260308T100000
END:DAYLIGHT
BEGIN:STANDARD
TZOFFSETFROM:-0700
TZOFFSETTO:-0800
TZNAME:PST
DTSTART:20261101T090000
END:STANDARD
END:VTIMEZONE
BEGIN:VEVENT
DTSTART;TZID=America/Los_Angeles:20250930T183000
DTEND;TZID=America/Los_Angeles:20250930T200000
DTSTAMP:20260424T023051
CREATED:20250926T050121Z
LAST-MODIFIED:20250926T224734Z
UID:10001543-1759257000-1759262400@whcouncil.org
SUMMARY:Homeless and Social Justice Advocacy Committee
DESCRIPTION:Agenda: Sep 30\, 2025 \nREVISED AGENDA: https://drive.google.com/file/d/1CaCgw_ww7IqL8QXEBFelAVeih-ECWIt3/view?usp=drivesdk \nMinutes: Sep 4\, 2025
URL:https://whcouncil.org/event/homeless-and-social-justice-advocacy-committee/
LOCATION:Platt Library\, 23600 Victory Boulevard\, \, Woodland Hills\, CA\, 91367\, United States
CATEGORIES:Homeless & Social Justice
GEO:34.1862321;-118.6413591
X-APPLE-STRUCTURED-LOCATION;VALUE=URI;X-ADDRESS=Platt Library 23600 Victory Boulevard  Woodland Hills CA 91367 United States;X-APPLE-RADIUS=500;X-TITLE=23600 Victory Boulevard\,:geo:-118.6413591,34.1862321
END:VEVENT
BEGIN:VEVENT
DTSTART;TZID=America/Los_Angeles:20251001T183000
DTEND;TZID=America/Los_Angeles:20251001T210000
DTSTAMP:20260424T023051
CREATED:20250928T181624Z
LAST-MODIFIED:20260226T044302Z
UID:10001544-1759343400-1759352400@whcouncil.org
SUMMARY:Canceled - WHWCNC Governance Cmte Mtg October 1\, 2025
DESCRIPTION:
URL:https://whcouncil.org/event/whwcnc-governance-cmte-mtg-october-1-2025/
LOCATION:LAFD Fire Station 84\, 21050 Burbank Blvd.\, Woodland Hills\, CA\, 91367\, United States
CATEGORIES:Governance
GEO:34.1729585;-118.5915767
X-APPLE-STRUCTURED-LOCATION;VALUE=URI;X-ADDRESS=LAFD Fire Station 84 21050 Burbank Blvd. Woodland Hills CA 91367 United States;X-APPLE-RADIUS=500;X-TITLE=21050 Burbank Blvd.:geo:-118.5915767,34.1729585
END:VEVENT
BEGIN:VEVENT
DTSTART;TZID=America/Los_Angeles:20251002T160000
DTEND;TZID=America/Los_Angeles:20251002T173000
DTSTAMP:20260424T023051
CREATED:20250928T214548Z
LAST-MODIFIED:20250928T214548Z
UID:10001545-1759420800-1759426200@whcouncil.org
SUMMARY:Special Arts & Culture Committee Meeting
DESCRIPTION:Join us in our next Arts & Culture Special Committee Meeting! \nTopic: Arts & Culture Special Meeting\nTime: Oct 2\, 2025 04:00 PM Pacific Time (US and Canada)\nJoin Zoom Meeting\nhttps://us02web.zoom.us/j/82442573049 \nMeeting ID: 824 4257 3049 \nAgenda: ArtsAgendas_2025-10-02.pdf
URL:https://whcouncil.org/event/special-arts-culture-committee-meeting/
LOCATION:CA
CATEGORIES:Arts & Culture
ORGANIZER;CN="Harout Aristakessian":MAILTO:h.aristakessian@whcouncil.org
END:VEVENT
BEGIN:VEVENT
DTSTART;TZID=America/Los_Angeles:20251002T183000
DTEND;TZID=America/Los_Angeles:20251002T183000
DTSTAMP:20260424T023051
CREATED:20250912T231648Z
LAST-MODIFIED:20250930T210435Z
UID:10001546-1759429800-1759429800@whcouncil.org
SUMMARY:Plum Committee Meeting-Canceled
DESCRIPTION:
URL:https://whcouncil.org/event/plum-committee-meeting-2/
LOCATION:CA
CATEGORIES:PLUM
END:VEVENT
BEGIN:VEVENT
DTSTART;TZID=America/Los_Angeles:20251003T183000
DTEND;TZID=America/Los_Angeles:20251003T193000
DTSTAMP:20260424T023051
CREATED:20251003T002317Z
LAST-MODIFIED:20260226T044402Z
UID:10001547-1759516200-1759519800@whcouncil.org
SUMMARY:WHWCNC WHIP Special Cmte Mtg 10-3-25
DESCRIPTION:
URL:https://whcouncil.org/event/whwcnc-whip-special-cmte-mtg-10-3-25/
LOCATION:ZOOM\, NONE\, NONE\, CA\, NONE\, United States
CATEGORIES:WHIP
GEO:37.0982847;-122.0979399
X-APPLE-STRUCTURED-LOCATION;VALUE=URI;X-ADDRESS=ZOOM NONE NONE CA NONE United States;X-APPLE-RADIUS=500;X-TITLE=NONE:geo:-122.0979399,37.0982847
END:VEVENT
BEGIN:VEVENT
DTSTART;TZID=America/Los_Angeles:20251004T120000
DTEND;TZID=America/Los_Angeles:20251004T150000
DTSTAMP:20260424T023051
CREATED:20251003T185434Z
LAST-MODIFIED:20251003T185552Z
UID:10001548-1759579200-1759590000@whcouncil.org
SUMMARY:WHWCNC Special ZOOM Governance Cmte Mtg 10-4-25
DESCRIPTION:
URL:https://whcouncil.org/event/whwcnc-special-zoom-governance-cmte-mtg-10-4-25/
LOCATION:ZOOM\, NONE\, NONE\, CA\, NONE\, United States
CATEGORIES:Governance
GEO:37.0982847;-122.0979399
X-APPLE-STRUCTURED-LOCATION;VALUE=URI;X-ADDRESS=ZOOM NONE NONE CA NONE United States;X-APPLE-RADIUS=500;X-TITLE=NONE:geo:-122.0979399,37.0982847
END:VEVENT
END:VCALENDAR