BEGIN:VCALENDAR
VERSION:2.0
PRODID:-//Woodland Hills Warner - Center Neighborhood Council | Your most local part of CIty Government - ECPv6.15.20//NONSGML v1.0//EN
CALSCALE:GREGORIAN
METHOD:PUBLISH
X-ORIGINAL-URL:https://whcouncil.org
X-WR-CALDESC:Events for Woodland Hills Warner - Center Neighborhood Council | Your most local part of CIty Government
REFRESH-INTERVAL;VALUE=DURATION:PT1H
X-Robots-Tag:noindex
X-PUBLISHED-TTL:PT1H
BEGIN:VTIMEZONE
TZID:America/Los_Angeles
BEGIN:DAYLIGHT
TZOFFSETFROM:-0800
TZOFFSETTO:-0700
TZNAME:PDT
DTSTART:20240310T100000
END:DAYLIGHT
BEGIN:STANDARD
TZOFFSETFROM:-0700
TZOFFSETTO:-0800
TZNAME:PST
DTSTART:20241103T090000
END:STANDARD
BEGIN:DAYLIGHT
TZOFFSETFROM:-0800
TZOFFSETTO:-0700
TZNAME:PDT
DTSTART:20250309T100000
END:DAYLIGHT
BEGIN:STANDARD
TZOFFSETFROM:-0700
TZOFFSETTO:-0800
TZNAME:PST
DTSTART:20251102T090000
END:STANDARD
BEGIN:DAYLIGHT
TZOFFSETFROM:-0800
TZOFFSETTO:-0700
TZNAME:PDT
DTSTART:20260308T100000
END:DAYLIGHT
BEGIN:STANDARD
TZOFFSETFROM:-0700
TZOFFSETTO:-0800
TZNAME:PST
DTSTART:20261101T090000
END:STANDARD
END:VTIMEZONE
BEGIN:VEVENT
DTSTART;TZID=America/Los_Angeles:20250428T180000
DTEND;TZID=America/Los_Angeles:20250428T200000
DTSTAMP:20260424T092522
CREATED:20250427T003252Z
LAST-MODIFIED:20250427T003252Z
UID:10001270-1745863200-1745870400@whcouncil.org
SUMMARY:WHWCNC SPECIAL GOVERNANCE COMMITTEE MEETING
DESCRIPTION:WH-WC NC  \nSpecial Governance Committee \nMeeting \n  \n\n\n\n\n\n\n\n\n\n\n\n  \n  \n  \n  \n  \n  \n200 N. Spring Street \nLos Ángeles\, CA 9001 \n  \nEmail: NCsupport@lacity.org \nWebsite: www.empowerla.org \n  \n  \n  \n  \n  \n  \n  \n                    By Zoom   \n             Agenda \nMonday\, April 28\, 2025 \n6:00 PM  \n  \nZoom Meeting Online or By Telephone \nPlease click the link below to join the webinar: \nhttps://us02web.zoom.us/j/7974989053 \nOr Dial (669) 900-6833 to Join the Meeting \nThen Enter This Webinar ID: 7974989053  and Press # \nSi requiere servicios de traducción\, favor de avisar al Concejo Vecinal 3 días de trabajo (72 horas) antes del evento. Por favor contacte Karen DiaBiase\, Secretaria\, al 818-639-9444 o por correo electrónico www.whcouncil.org para avisar al Concejo Vecinal. \nIN CONFORMITY WITH THE OCTOBER 6\, 2023 ENACTMENT OF CALIFORNIA SENATE BILL 411 (PORTANTINO) AND LA CITY COUNCIL APPROVAL ON NOVEMBER 1\, 2023\, THIS WOODLAND HILLS WARNER CENTER NEIGHBORHOOD COUNCIL COMMITTEE MEETING WILL BE AVAILABLE VIRTUALLY. \n  \nEvery person wishing to address the Committee must enter the meeting via the above Zoom link or dial (669) 900-6833 and enter 7974989053 and then press # to join the meeting. When prompted by the presiding officer\, to provide public input at the Meeting of the Woodland Hills – Warner Center Neighborhood Council [WHWCNC] Governance Committee [GOVCOM] meeting\, the public will be requested to dial *9 by phone or use the Raise Hand option on Zoom\, to address the GOVCOM on any agenda item before the GOVCOM takes an action on an item. Comments from the public on agenda items will be heard only when the respective item is being considered. \n  \nComments from the public on other matters not appearing on the agenda that are within the GOVCOM’s jurisdiction will be heard during the General Public Comment period. Please note that under the Brown Act\, the GOVCOM is prevented from acting on a matter that you bring to its attention during the General Public Comment period; however\, the issue raised by a member of the public may become the subject of a future WHWCNC Board or GOVCOM meeting. Public comment is limited to 1 minute per speaker\, unless adjusted by the presiding officer of the GOVCOM. \n  \n SB 411 Updates: \nIn the event of a disruption that prevents the GOVCOM from broadcasting the meeting to members of the public using the call-in option or internet-based service option\, or in the event of a disruption within the GOVCOM control that prevents members of the public from offering public comments using the call-in option or internet-based service option\, the GOVCOM shall take no further action on items appearing on the meeting agenda until public access to the meeting via the call-in option or internet-based service option is restored. Actions taken on agenda items during a disruption that prevents the GOVCOM from broadcasting the meeting may be challenged pursuant to Section 54960.1. \nThe GOVCOM shall not require public comments to be submitted in advance of the meeting and shall provide an opportunity for the public to address the GOVCOM and offer comments in real time. \nNotwithstanding Section 54953.3\, an individual desiring to provide public comment through the use of an internet website\, or other online platform\, not under the control of the GOVCOM\, that requires registration to log in to a teleconference may be required to register as required by the third-party internet website or online platform to participate. \n(i) If the GOVCOM provides a timed public comment period for each agenda item shall not close the public comment period for the agenda item\, or the opportunity to register\, pursuant to subparagraph to provide public comment until that timed public comment period has elapsed. \n(ii) If the GOVCOM  does not provide a timed public comment period\, but takes public comment separately on each agenda item\, shall allow a reasonable amount of time per agenda item to allow public members the opportunity to provide public comment\, including time for members of the public to register pursuant to subparagraph (D)\, or otherwise be recognized for the purpose of providing public comment. \n(iii) If the GOVCOM provides a timed general public comment period that does not correspond to a specific agenda item shall not close the public comment period or the opportunity to register\, pursuant to subparagraph (D)\, until the timed general public comment period has elapsed. \nAGENDA \nCall to Order \nRoll Call: \nPresident – Dena Weiss   \nVice President – Elie El Habr \nTreasurer – Heath Kline \nSecretary -Karen DiBiase   \nParliamentarian – Don Patterson \n  \nPublic Announcements: \nOffice of Councilmember Bob Blumenfield – if available                                                                                                                  (2 minute each) \nOffice of Local and State Officials – if available                                                                                                                  (2 minute each) \nOther Local Agencies – if available                                                                                                                  (2 minute each) \n  \nGeneral Public Comment\, by the Public\, on Non-Agenda Items: \nGeneral Public Comment is limited to (1) minutes per speaker and 10 minutes total. \n\n\n\n\n\n\n\n\n\n\n\n  \n  \n  \n\n Organization\, Operation\, Policies\, & Procedures: \n\nDeferred to our regular meeting. \n  \n\n Items for Discussion and Possible Action: \n\n  \nItem One: Election Candidate Forum  \nDiscussion and possible action:                                                                     (approximately 10 minutes) \nEmpower LA has provided guideline for Neighborhood councils who may wish to provide a forum for candidates to provide information to voters. It is up to the Board whether we do so or not. There are various laws that restrict the use of public resources for election matter and our Neighborhood councils should plan the forum in advance and consult with the Department’s Neighborhood of Empowerment Advocate throughout the planning and implementation process. \nMotion to suggest to the Board that an Ad Hoc committee be created to set up a Candidate Forum\,  while coordinating with Empower LA regarding logistics and moderator and content. \nSee attached guidance document. \nRoll call vote \n  \n  \nItem Two: Continued Review of Ad Hoc Committee’s proposed Amendments to Standing Rules \nDiscussion and possible action:                                                                      (approximately 90 minutes) \nThe continuation of a review of existing Standing Rules and the Ad Hoc Committee’s suggestions for modifications. \n  \nSee supporting documents for the Ad Hoc Committees April 13\, 2025\, Revisions to the Standing Rules. \n  \nRoll call vote \n  \nAdjournment of Meeting \nThe next Regular GOVCOM meeting will be held on May 20\, 2025\, by Zoom\, unless otherwise indicated. Please visit the calendar page at whcouncil.org for the complete details and to confirm the date\, time\, venue and method of the next GOVCOM meeting. \nMeeting dates for the 2025-2026 year: GOVCOM meetings are held on the third Tuesday of every month at 6:30 p.m. Check the NC website calendar for a complete list of committee and board meetings. Meeting dates and times are subject to change. Check the NC calendar for updated meeting schedules. \n  \n*THE AMERICAN WITH DISABILITIES ACT – As a covered entity under Title II of the Americans with Disabilities Act\, the City of Los Angeles does not discriminate based on disability and\, upon request will provide reasonable accommodation to ensure equal access to its programs\, services\, and activities. Sign language interpreters\, assistive listening devices\, or other auxiliary aids and/or services may be provided upon request. To ensure the availability of services\, please make your request at least 3 business days (72 hours) before the meeting by contacting the Department of Neighborhood Empowerment by calling (213) 978-1551 or email: NCsupport@lacity.org. \n  \n*PUBLIC ACCESS OF RECORDS – In compliance with Government Code section 54957.5\, non- exempt writings that are distributed to a majority or all of the board in advance of a meeting may be viewed at our website: www.whcouncil.org or at the scheduled meeting. In addition\, if you would like a copy of any record\, if available\, related to an item on the agenda\, please contact the President and / or Dena Weiss\, at email address d.weiss@whcouncil.org. \n  \n*PUBLIC POSTING OF AGENDAS – agendas are posted for public review as follows: \n\nwhcouncil.org and go to the website Calendar page and click on the date – Board meetings are held on the second Wednesday of each month. Check the calendar for any change of meeting date and/or time.\nYou can also receive our agendas via email by subscribing to A. City’s Early Notification System at https://www.lacity.org/subscriptions\n\n  \nA copy of this agenda is also physically posted in the plexiglass case fixed to the front door of the Fire Station 84  located at  21050 Burbank Blvd.\, Woodland Hills\, CA\, 91367 \n\n. \n\n\n*RECONSIDERATION AND GRIEVANCE PROCESS – For information on the WHWCNC process for board action reconsideration\, stakeholder grievance policy\, or any other procedural matters related to this Council\, please consult the WHWCNC The Bylaws are available at our website at www.whcouncil.org\n\n  \n\nSERVICIOS DE TRADUCCIÓN – Si requiere servicios de traducción\, favor de avisar al Concejo Vecinal 3 días de trabajo (72 horas) antes del evento. Por favor contacte a Dena Weiss al weiss@whcouncil.org o por correo electrónico avisar al Concejo Vecinal.\n\n  \n\nNotice to Paid Representatives – If you are compensated to monitor\, attend\, or speak at this meeting\, City law may require you to register as a lobbyist and report your activity. See Los Angeles Municipal Code §§ 48.01 et seq. More information is available at lacity.org/lobbying. For assistance\, please contact the Ethics Commission at {213) 978- 1960 or ethics.commission@lacity.org.\n\nApr 28\, 2025
URL:https://whcouncil.org/event/whwcnc-special-governance-committee-meeting/
LOCATION:ZOOM\, NONE\, NONE\, CA\, NONE\, United States
CATEGORIES:Governance
GEO:37.0982847;-122.0979399
X-APPLE-STRUCTURED-LOCATION;VALUE=URI;X-ADDRESS=ZOOM NONE NONE CA NONE United States;X-APPLE-RADIUS=500;X-TITLE=NONE:geo:-122.0979399,37.0982847
END:VEVENT
BEGIN:VEVENT
DTSTART;TZID=America/Los_Angeles:20250428T183000
DTEND;TZID=America/Los_Angeles:20250428T200000
DTSTAMP:20260424T092522
CREATED:20250425T190444Z
LAST-MODIFIED:20250428T211740Z
UID:10001264-1745865000-1745870400@whcouncil.org
SUMMARY:Outreach Committee Meeting 4/28/25
DESCRIPTION:Outreach Committee Meeting  \nApril 28\, 2025\, 6:30pm \nCommunity Room\, Capital One Cafe at Westfield Topanga  \n6600 Topanga Canyon Boulevard\, 1038\, Los Angeles\, CA 91303 \n  \nThe AGENDA can be downloaded HERE or viewed below \n        \n                                    \n                        \n                            \n\n\n  \nThe Supporting Documents can be downloaded HERE
URL:https://whcouncil.org/event/outreach-committee-meeting-4-28-25/
LOCATION:Community Room\, Capital One Cafe\, 6600 CA-27 Suite 1038 Suite 103\, Canoga Park\, CA\, 91303\, United States
CATEGORIES:Community Outreach
ATTACH;FMTTYPE=image/jpeg:https://whcouncil.org/wp-content/uploads/2024/11/Outreach-Committee-2.jpg
ORGANIZER;CN="Tracey Rosen":MAILTO:tracey.rosen@gmail.com
GEO:34.1900362;-118.6035049
X-APPLE-STRUCTURED-LOCATION;VALUE=URI;X-ADDRESS=Community Room Capital One Cafe 6600 CA-27 Suite 1038 Suite 103 Canoga Park CA 91303 United States;X-APPLE-RADIUS=500;X-TITLE=6600 CA-27 Suite 1038 Suite 103:geo:-118.6035049,34.1900362
END:VEVENT
BEGIN:VEVENT
DTSTART;TZID=America/Los_Angeles:20250429T183000
DTEND;TZID=America/Los_Angeles:20250429T200000
DTSTAMP:20260424T092522
CREATED:20250426T225804Z
LAST-MODIFIED:20250426T230138Z
UID:10001268-1745951400-1745956800@whcouncil.org
SUMMARY:Homeless & Social Justice Advocacy Committee Special Meeting – Zoom
DESCRIPTION:Looking forward to seeing everyone on Zoom! \nAgenda: Apr 29\, 2025 \nWoodland Hills – Warner Center NC is inviting you to a scheduled Zoom meeting. \nTopic: HSJA Committee Meeting – Woodland Hills NC \nTime: Apr 29\, 2025 06:30 PM Pacific Time (US and Canada) \nJoin Zoom Meeting \nhttps://us02web.zoom.us/j/87182952726 \nMeeting ID: 871 8295 2726
URL:https://whcouncil.org/event/homeless-social-justice-advocacy-committee-special-meeting-zoom-2/
LOCATION:CA
CATEGORIES:Homeless & Social Justice
ORGANIZER;CN="Jayce Baron":MAILTO:j.baron@whcouncil.org
END:VEVENT
BEGIN:VEVENT
DTSTART;TZID=America/Los_Angeles:20250503T080000
DTEND;TZID=America/Los_Angeles:20250503T100000
DTSTAMP:20260424T092522
CREATED:20250501T004620Z
LAST-MODIFIED:20250501T004620Z
UID:10001505-1746259200-1746266400@whcouncil.org
SUMMARY:1st Saturday Clean-Up - May 3rd
DESCRIPTION:The WHWCNC 1st Saturday Community Cleanup will be on May 3rd.\n\nWe will be meeting at the American Legion Hall at 5320 Fallbrook Ave.\, Woodland Hills (just north of Fallbrook/Ventura Blvd).\n\nThis is our turn to help our veterans improve their meeting building and get them ready for Memorial Day.\n\nTime:  8-10am\nWear:  work clothes\, closed-toe shoes\, a hat\, gloves\, etc.\nSee you there!
URL:https://whcouncil.org/event/1st-saturday-clean-up-may-3rd/
LOCATION:CA
CATEGORIES:Community,Environment & Beautification
ATTACH;FMTTYPE=image/png:https://whcouncil.org/wp-content/uploads/2025/04/1st-Saturdays.png
END:VEVENT
END:VCALENDAR