BEGIN:VCALENDAR
VERSION:2.0
PRODID:-//Woodland Hills Warner - Center Neighborhood Council | Your most local part of CIty Government - ECPv6.15.20//NONSGML v1.0//EN
CALSCALE:GREGORIAN
METHOD:PUBLISH
X-ORIGINAL-URL:https://whcouncil.org
X-WR-CALDESC:Events for Woodland Hills Warner - Center Neighborhood Council | Your most local part of CIty Government
REFRESH-INTERVAL;VALUE=DURATION:PT1H
X-Robots-Tag:noindex
X-PUBLISHED-TTL:PT1H
BEGIN:VTIMEZONE
TZID:America/Los_Angeles
BEGIN:DAYLIGHT
TZOFFSETFROM:-0800
TZOFFSETTO:-0700
TZNAME:PDT
DTSTART:20240310T100000
END:DAYLIGHT
BEGIN:STANDARD
TZOFFSETFROM:-0700
TZOFFSETTO:-0800
TZNAME:PST
DTSTART:20241103T090000
END:STANDARD
BEGIN:DAYLIGHT
TZOFFSETFROM:-0800
TZOFFSETTO:-0700
TZNAME:PDT
DTSTART:20250309T100000
END:DAYLIGHT
BEGIN:STANDARD
TZOFFSETFROM:-0700
TZOFFSETTO:-0800
TZNAME:PST
DTSTART:20251102T090000
END:STANDARD
BEGIN:DAYLIGHT
TZOFFSETFROM:-0800
TZOFFSETTO:-0700
TZNAME:PDT
DTSTART:20260308T100000
END:DAYLIGHT
BEGIN:STANDARD
TZOFFSETFROM:-0700
TZOFFSETTO:-0800
TZNAME:PST
DTSTART:20261101T090000
END:STANDARD
END:VTIMEZONE
BEGIN:VEVENT
DTSTART;TZID=America/Los_Angeles:20250303T180000
DTEND;TZID=America/Los_Angeles:20250303T200000
DTSTAMP:20260425T083102
CREATED:20250228T235706Z
LAST-MODIFIED:20250228T235706Z
UID:10001488-1741024800-1741032000@whcouncil.org
SUMMARY:Community Services Committee Meeting
DESCRIPTION:  \n  \n  \nCommunity Services Committee Members \nJoyce Fletcher\, Chair                               Karen Di Biase \nKate Kennedy \nJulian Tu \n  \n  \n  \nWOODLAND HILLS \n WARNER CENTER   \nNEIGHBORHOOD COUNCIL \n  \nEmail: NCsupport@lacity.org \nWebsite: www.empowerla.org \n  \nCommunity Services Committee Meeting Agenda \n    Monday\, March 3\, 2025  \n          6pm to 7:45pm \n Click for Agenda \n            Located at the \nCommunity Room\, Capital One Café \ninside Westfield Topanga Mall – First Floor near Nordstrom \n6600 Topanga Canyon Boulevard\, 1038\, Los Angeles\, CA 91303 \n  \nSi requiere servicios de traducción\, favor de avisar al Concejo Vecinal 3 días de trabajo (72 horas) antes del evento. Por favor contacte a Dena Weiss de la Mesa Directiva\, d.weiss@whcouncil.org o por correo electrónico avisar al Concejo Vecinal. \nComments from the public on other matters not appearing on the agenda that are within the Board’s jurisdiction will be heard during the General Public Comment period. Please note that under the Brown Act\, the Board is prevented from acting on a matter that you bring to its attention during the General Public Comment period; however\, the issue raised by a member of the public may become the subject of a future Board meeting. Public comment is limited to two (2) minutes per speaker\, unless adjusted by the presiding officer of the Board. \n  \nI.                CALL TO ORDER AND COMMITTEE ROLL CALL\nMembers: Joyce Fletcher-Chair\, Karen DiBiase\, Kate Kennedy\, Julian Tu\n  \n\nAPPROVAL OF MINUTES – February 3\, 2025 \n\n                                            February 17\, 2025 \n                                                                                                                  \n  \n\nGENERAL PUBLIC COMMENT – Comments from the public on non-agenda items that are within the WHWCNC’s Board jurisdiction and within the committee’s jurisdiction.\n\nEach speaker will be allowed two (2) minute(s). \n  \n\nAGENDA ITEMS\n\n  \nFor discussion and possible action: \n  \n\nDiscussion and possible action related to writing a possible NC Community Impact\n\nStatement per the “Appeal’ of removal made by Former Fire Chief Kristen Crowley. \nShould there be an internal investigation so stakeholders will have confidence in the City.? \nCouncil File: 25-0212 \n               Title – Kristin Crowley / Former Fire Chief / Los Angeles Fire Department / Appeal\nAppeal\, dated February 27\, 2025\, relative to the February 21\, 2025\, removal from the \nposition of Fire Chief\, Los Angeles Fire Department\, by Mayor Bass\, pursuant to Los Angeles City       Charter                Section 508(e). Time Limit Last Day to Act Pursuant To 03/26/2025. \n  \n\nDiscussion of plans for NC participation in the Chamber of Commerce Asian Fair.\n\n  \n\nDiscussion related to any neighborhood issues and concerns.\n\n  \n\nDiscussion about ways to support diversity\, seniors\, veterans and LGBTQ neighbors\n\nin our community. \n  \n\nDiscussion about events and committee goals for fiscal year 2024/2025.\n\n  \n\nNew Business – for discussion and possible action at the next committee meeting.\n\n  \nADJOURNMENT  \n  \nAs a covered entity under Title II of the Americans with Disabilities Act\, the City of Los Angeles does \nnot discriminate on the basis of disability and upon request will provide reasonable accommodation \nto ensure equal access to its programs\, services\, and activities. Sign language interpreters\, assistive \nlistening devices\, or other auxiliary aids and/or services may be provided upon request. To ensure \navailability of services\, please make your request at least 3 business days (72 hours) prior to the \nmeeting by contacting the Department of Neighborhood Empowerment by calling (213) 978-1551 \nor email: NCsupport@lacity.org \n  \nPublic Posting of Agendas  \nThe Community Services Committee meets on the 1st and 3rd Monday of each month. However\, visit our  \nwebsite calendar page at whcouncil.org\, to review all committee meeting dates\, as a date may change. \nNeighborhood Council agendas are posted for public review as follows: \nFire Station 84 front window located at 21050 Burbank Blvd. Woodland Hills CA 91367. \nOn the Woodland Hills-Warner Center Neighborhood Council website at calendar page at www.whcouncil.org \nYou can also receive our agendas via email by subscribing to L.A. City’s Early Notification System (ENS) \nNotice to Paid Representatives  \nIf you are compensated to monitor\, attend\, or speak at this meeting\, City law may require you to register as a lobbyist and report your activity. See Los Angeles Municipal Code Section 48.01 et seq. \nMore information is available at ethics.lacity.org/lobbying. For assistance\, please contact the Ethics Commission at (213) 978-1960 or ethics.commission@lacity.org \nPublic Access of Records  \nIn compliance with Government Code section 54957.5\, non-exempt writings that are distributed to a majority or all the board in advance of a meeting may be viewed at our website: www.whcouncil.org or at the scheduled meeting. In addition\, if you would like a copy of any record related to an item on the agenda\, please get in touch with Dena Weiss by email to d.weiss@whcouncil.org \nReconsideration and Grievance Process  \nFor information on the NC’s process for board action reconsideration\, stakeholder grievance policy\, or any other procedural matters related to this Council\, please consult the NC Bylaws. The Bylaws are available at our Board meetings and our website www.whcouncil.org.
URL:https://whcouncil.org/event/community-services-committee-meeting-34/
LOCATION:Community Room\, Capital One Cafe\, 6600 CA-27 Suite 1038 Suite 103\, Canoga Park\, CA\, 91303\, United States
CATEGORIES:Community Services
GEO:34.1900362;-118.6035049
X-APPLE-STRUCTURED-LOCATION;VALUE=URI;X-ADDRESS=Community Room Capital One Cafe 6600 CA-27 Suite 1038 Suite 103 Canoga Park CA 91303 United States;X-APPLE-RADIUS=500;X-TITLE=6600 CA-27 Suite 1038 Suite 103:geo:-118.6035049,34.1900362
END:VEVENT
BEGIN:VEVENT
DTSTART;TZID=America/Los_Angeles:20250306T180000
DTEND;TZID=America/Los_Angeles:20250306T183000
DTSTAMP:20260425T083102
CREATED:20250306T001914Z
LAST-MODIFIED:20250306T001950Z
UID:10001489-1741284000-1741285800@whcouncil.org
SUMMARY:Arts & Culture Committee Special Meeting
DESCRIPTION:Please join us for a special Arts and Culture committee meeting via Zoom on Thursday\, March 6\, 2025\, at 6 pm. \nZoom Information: \nWoodland Hills-Warner Center NC is inviting you to a scheduled Zoom meeting. \nTopic: Arts and Culture Committee—Special Meeting\nTime: Mar 6\, 2025\, 06:00 PM Pacific Time (US and Canada)\nJoin Zoom Meeting\nhttps://us02web.zoom.us/j/81813591968 \nMeeting ID: 818 1359 1968 \n— \nOne tap mobile\n+16469313860\,\,81813591968# US\n+19292056099\,\,81813591968# US (New York) \n— \nDial by your location\n• +1 646 931 3860 US\n• +1 929 205 6099 US (New York)\n• +1 301 715 8592 US (Washington DC) \nMeeting ID: 818 1359 1968 \nFind your local number: https://us02web.zoom.us/u/kbnDsOdfgI \nAgenda:  https://whcouncil.org/wp-content/uploads/minutes-agendas-newsletters/ArtsAgendas_2025-03-06.pdf
URL:https://whcouncil.org/event/16102/
LOCATION:CA
CATEGORIES:Arts & Culture
END:VEVENT
BEGIN:VEVENT
DTSTART;TZID=America/Los_Angeles:20250306T183000
DTEND;TZID=America/Los_Angeles:20250306T200000
DTSTAMP:20260425T083102
CREATED:20250306T024812Z
LAST-MODIFIED:20250306T024812Z
UID:10001490-1741285800-1741291200@whcouncil.org
SUMMARY:Planning\, Land Use\, and Mobility (PLUM) Committee (3/6/25) - CANCELLED
DESCRIPTION:The March 6 PLUM Committee meeting is cancelled.
URL:https://whcouncil.org/event/planning-land-use-and-mobility-plum-committee-3-6-25-cancelled/
LOCATION:CA
CATEGORIES:PLUM
END:VEVENT
END:VCALENDAR