BEGIN:VCALENDAR
VERSION:2.0
PRODID:-//Woodland Hills Warner - Center Neighborhood Council | Your most local part of CIty Government - ECPv6.15.20//NONSGML v1.0//EN
CALSCALE:GREGORIAN
METHOD:PUBLISH
X-WR-CALNAME:Woodland Hills Warner - Center Neighborhood Council | Your most local part of CIty Government
X-ORIGINAL-URL:https://whcouncil.org
X-WR-CALDESC:Events for Woodland Hills Warner - Center Neighborhood Council | Your most local part of CIty Government
REFRESH-INTERVAL;VALUE=DURATION:PT1H
X-Robots-Tag:noindex
X-PUBLISHED-TTL:PT1H
BEGIN:VTIMEZONE
TZID:America/Los_Angeles
BEGIN:DAYLIGHT
TZOFFSETFROM:-0800
TZOFFSETTO:-0700
TZNAME:PDT
DTSTART:20240310T100000
END:DAYLIGHT
BEGIN:STANDARD
TZOFFSETFROM:-0700
TZOFFSETTO:-0800
TZNAME:PST
DTSTART:20241103T090000
END:STANDARD
BEGIN:DAYLIGHT
TZOFFSETFROM:-0800
TZOFFSETTO:-0700
TZNAME:PDT
DTSTART:20250309T100000
END:DAYLIGHT
BEGIN:STANDARD
TZOFFSETFROM:-0700
TZOFFSETTO:-0800
TZNAME:PST
DTSTART:20251102T090000
END:STANDARD
BEGIN:DAYLIGHT
TZOFFSETFROM:-0800
TZOFFSETTO:-0700
TZNAME:PDT
DTSTART:20260308T100000
END:DAYLIGHT
BEGIN:STANDARD
TZOFFSETFROM:-0700
TZOFFSETTO:-0800
TZNAME:PST
DTSTART:20261101T090000
END:STANDARD
END:VTIMEZONE
BEGIN:VEVENT
DTSTART;TZID=America/Los_Angeles:20250203T183000
DTEND;TZID=America/Los_Angeles:20250203T210000
DTSTAMP:20260425T171223
CREATED:20250131T211507Z
LAST-MODIFIED:20250201T003312Z
UID:10001229-1738607400-1738616400@whcouncil.org
SUMMARY:Community Services Committee Meeting
DESCRIPTION:  \n  \n  \nCommunity Services Committee Members \nJoyce Fletcher\, Chair                               Karen Di Biase \nKate Kennedy \nJulian Tu \n  \n  \n  \nWOODLAND HILLS \n WARNER CENTER   \nNEIGHBORHOOD COUNCIL \n  \nEmail: NCsupport@lacity.org \nWebsite: www.empowerla.org \n  \nCommunity Services Committee Meeting Agenda \n    Monday\, January 20\, 2025 \n Click for Agenda \n6:30p.m. to 9:00p.m. \n  \nCity of Los Angeles Fire Station # 84 – Community Room \n21050 Burbank Blvd\, Woodland Hills\, CA 91367 \nParking is available in the lot across the street. \n  \nSi requiere servicios de traducción\, favor de avisar al Concejo Vecinal 3 días de trabajo (72 horas) antes del evento. Por favor contacte a Dena Weiss de la Mesa Directiva\, d.weiss@whcouncil.org o por correo electrónico avisar al Concejo Vecinal. \nComments from the public on other matters not appearing on the agenda that are within the Board’s jurisdiction will be heard during the General Public Comment period. Please note that under the Brown Act\, the Board is prevented from acting on a matter that you bring to its attention during the General Public Comment period; however\, the issue raised by a member of the public may become the subject of a future Board meeting. Public comment is limited to two (2) minutes per speaker\, unless adjusted by the presiding officer of the Board. \n  \nI.                CALL TO ORDER AND COMMITTEE ROLL CALL\nMembers: Joyce Fletcher-Chair\, Karen DiBiase\, Kate Kennedy\, Julian Tu\n  \n\nAPPROVAL OF MINUTES – January 6\, 2025                                             \n\n  \n\nGENERAL PUBLIC COMMENT – Comments from the public on non-agenda items that are within the WHWCNC’s Board jurisdiction and within the committee’s jurisdiction.\n\nEach speaker will be allowed two (2) minute(s). \n  \n\nAGENDA ITEMS\n\n  \nFor discussion and possible action: \n  \n\nDiscussion related to new water fountains and lights at Warner Park.\n\n  \n\nDiscussion related to any neighborhood issues and concerns.\n\n  \n\nDiscussion: NPG’s and other spending until the end of the fiscal year June 30\, 2025.\n\n  \n\nDiscussion about ways to support Diversity\, Seniors\, Veterans and LGBTQ neighbors in our community.\n\n  \n\nDiscussion about plans and committee goals for fiscal year 2024/2025.\n\n  \n\nNew Business – for discussion and possible action at the next committee meeting.\n\n  \nADJOURNMENT  \n  \nAs a covered entity under Title II of the Americans with Disabilities Act\, the City of Los Angeles does \nnot discriminate on the basis of disability and upon request will provide reasonable accommodation \nto ensure equal access to its programs\, services\, and activities. Sign language interpreters\, assistive \nlistening devices\, or other auxiliary aids and/or services may be provided upon request. To ensure \navailability of services\, please make your request at least 3 business days (72 hours) prior to the \nmeeting by contacting the Department of Neighborhood Empowerment by calling (213) 978-1551 \nor email: NCsupport@lacity.org \n  \nPublic Posting of Agendas  \nThe Community Services Committee meets on the 1st and 3rd Monday of each month. However\, visit our  \nwebsite calendar page at whcouncil.org\, to review all committee meeting dates\, as a date may change. \n  \nNeighborhood Council agendas are posted for public review as follows: \nFire Station 84 front window located at 21050 Burbank Blvd. Woodland Hills CA 91367. \nOn the Woodland Hills-Warner Center Neighborhood Council website at calendar page at www.whcouncil.org \nYou can also receive our agendas via email by subscribing to L.A. City’s Early Notification System (ENS) \n  \nNotice to Paid Representatives  \nIf you are compensated to monitor\, attend\, or speak at this meeting\, City law may require you to register as a lobbyist and report your activity. See Los Angeles Municipal Code Section 48.01 et seq. \nMore information is available at ethics.lacity.org/lobbying. For assistance\, please contact the Ethics Commission at (213) 978-1960 or ethics.commission@lacity.org \n  \nPublic Access of Records  \nIn compliance with Government Code section 54957.5\, non-exempt writings that are distributed to a majority or all the board in advance of a meeting may be viewed at our website: www.whcouncil.org or at the scheduled meeting. In addition\, if you would like a copy of any record related to an item on the agenda\, please get in touch with Dena Weiss by email to d.weiss@whcouncil.org \n  \nReconsideration and Grievance Process  \nFor information on the NC’s process for board action reconsideration\, stakeholder grievance policy\, or any other procedural matters related to this Council\, please consult the NC Bylaws. The Bylaws are available at our Board meetings and our website www.whcouncil.org.
URL:https://whcouncil.org/event/community-services-committee-meeting-32/
LOCATION:LAFD Fire Station 84\, 21050 Burbank Blvd.\, Woodland Hills\, CA\, 91367\, United States
CATEGORIES:Community Services
GEO:34.1729585;-118.5915767
X-APPLE-STRUCTURED-LOCATION;VALUE=URI;X-ADDRESS=LAFD Fire Station 84 21050 Burbank Blvd. Woodland Hills CA 91367 United States;X-APPLE-RADIUS=500;X-TITLE=21050 Burbank Blvd.:geo:-118.5915767,34.1729585
END:VEVENT
BEGIN:VEVENT
DTSTART;TZID=America/Los_Angeles:20250204T183000
DTEND;TZID=America/Los_Angeles:20250204T203000
DTSTAMP:20260425T171223
CREATED:20250202T022856Z
LAST-MODIFIED:20250202T022856Z
UID:10001230-1738693800-1738701000@whcouncil.org
SUMMARY:Education Committee Regular Meeting
DESCRIPTION:The Education Committee hosts their regular meeting Tuesday February 4\, 2025 6:30 pm to 8:30 pm via Zoom.  For zoom link and agenda\, click here:Feb 4\, 2025
URL:https://whcouncil.org/event/education-committee-regular-meeting/
LOCATION:ZOOM\, NONE\, NONE\, CA\, NONE\, United States
CATEGORIES:Education
ORGANIZER;CN="Julie Waltrip":MAILTO:J.waltrip@whcouncil.org
GEO:37.0982847;-122.0979399
X-APPLE-STRUCTURED-LOCATION;VALUE=URI;X-ADDRESS=ZOOM NONE NONE CA NONE United States;X-APPLE-RADIUS=500;X-TITLE=NONE:geo:-122.0979399,37.0982847
END:VEVENT
BEGIN:VEVENT
DTSTART;TZID=America/Los_Angeles:20250206T173000
DTEND;TZID=America/Los_Angeles:20250206T183000
DTSTAMP:20260425T171223
CREATED:20250206T015541Z
LAST-MODIFIED:20250206T020255Z
UID:10001232-1738863000-1738866600@whcouncil.org
SUMMARY:Art & Culture Committee Special Meeting
DESCRIPTION:Please join us for our Arts and Culture Committee Special Meeting on Thursday\, February 6\, 2025\, at 5:30 pm: \nWoodland Hills – Warner Center NC is inviting you to a scheduled Zoom meeting. \nTopic: Arts and Culture Committee Special Meeting\nTime: Feb 6\, 2025\, 05:30 PM Pacific Time (US and Canada)\nJoin Zoom Meeting\nhttps://us02web.zoom.us/j/84038657000 \nMeeting ID: 840 3865 7000 \n— \nOne tap mobile\n+16694449171\,\,84038657000# US\n+16699006833\,\,84038657000# US (San Jose) \n— \nDial by your location\n• +1 669 444 9171 US\n• +1 669 900 6833 US (San Jose)\n• +1 253 205 0468 US\n• +1 253 215 8782 US (Tacoma)\n• +1 346 248 7799 US (Houston)\n• +1 719 359 4580 US\n• +1 929 205 6099 US (New York)\n• +1 301 715 8592 US (Washington DC)\n• +1 305 224 1968 US\n• +1 309 205 3325 US\n• +1 312 626 6799 US (Chicago)\n• +1 360 209 5623 US\n• +1 386 347 5053 US\n• +1 507 473 4847 US\n• +1 564 217 2000 US\n• +1 646 931 3860 US\n• +1 689 278 1000 US\n• 833 548 0276 US Toll-free\n• 833 548 0282 US Toll-free\n• 877 853 5257 US Toll-free\n• 888 475 4499 US Toll-free \nMeeting ID: 840 3865 7000 \nFind your local number: https://us02web.zoom.us/u/kd5TCFWZcP
URL:https://whcouncil.org/event/art-culture-committee-special-meeting/
LOCATION:CA
CATEGORIES:Arts & Culture
END:VEVENT
BEGIN:VEVENT
DTSTART;TZID=America/Los_Angeles:20250206T183000
DTEND;TZID=America/Los_Angeles:20250206T210000
DTSTAMP:20260425T171223
CREATED:20250205T030718Z
LAST-MODIFIED:20250205T030718Z
UID:10001231-1738866600-1738875600@whcouncil.org
SUMMARY:Planning Land Use and Mobility (PLUM) Committee CANCELLED
DESCRIPTION:The February 6\, 2025 meeting of the Planning\, Land Use\, and Mobility (PLUM) Committee is cancelled.
URL:https://whcouncil.org/event/planning-land-use-and-mobility-plum-committee-cancelled-3/
LOCATION:CA
CATEGORIES:PLUM
END:VEVENT
END:VCALENDAR