BEGIN:VCALENDAR
VERSION:2.0
PRODID:-//Woodland Hills Warner - Center Neighborhood Council | Your most local part of CIty Government - ECPv6.15.20//NONSGML v1.0//EN
CALSCALE:GREGORIAN
METHOD:PUBLISH
X-ORIGINAL-URL:https://whcouncil.org
X-WR-CALDESC:Events for Woodland Hills Warner - Center Neighborhood Council | Your most local part of CIty Government
REFRESH-INTERVAL;VALUE=DURATION:PT1H
X-Robots-Tag:noindex
X-PUBLISHED-TTL:PT1H
BEGIN:VTIMEZONE
TZID:America/Los_Angeles
BEGIN:DAYLIGHT
TZOFFSETFROM:-0800
TZOFFSETTO:-0700
TZNAME:PDT
DTSTART:20190310T100000
END:DAYLIGHT
BEGIN:STANDARD
TZOFFSETFROM:-0700
TZOFFSETTO:-0800
TZNAME:PST
DTSTART:20191103T090000
END:STANDARD
BEGIN:DAYLIGHT
TZOFFSETFROM:-0800
TZOFFSETTO:-0700
TZNAME:PDT
DTSTART:20200308T100000
END:DAYLIGHT
BEGIN:STANDARD
TZOFFSETFROM:-0700
TZOFFSETTO:-0800
TZNAME:PST
DTSTART:20201101T090000
END:STANDARD
BEGIN:DAYLIGHT
TZOFFSETFROM:-0800
TZOFFSETTO:-0700
TZNAME:PDT
DTSTART:20210314T100000
END:DAYLIGHT
BEGIN:STANDARD
TZOFFSETFROM:-0700
TZOFFSETTO:-0800
TZNAME:PST
DTSTART:20211107T090000
END:STANDARD
END:VTIMEZONE
BEGIN:VEVENT
DTSTART;TZID=America/Los_Angeles:20200721T183000
DTEND;TZID=America/Los_Angeles:20200721T210000
DTSTAMP:20260424T042654
CREATED:20200718T212102Z
LAST-MODIFIED:20200718T212102Z
UID:10000857-1595356200-1595365200@whcouncil.org
SUMMARY:Governance Committee Meeting
DESCRIPTION:The Governance Committee will hold its regular meeting on Tuesday\, July 21 at 6:30 p.m. via zoom. The full agenda can be found here: [pdf-embedder url=”https://whcouncil.org/wp-content/uploads/2020/07/NC-Governance-Committee-20200721.pdf” title=”NC Governance Committee 20200721″][pdf-embedder url=”https://whcouncil.org/wp-content/uploads/2020/07/NC-Board-Member-Attendance-Record-for-2019-2020-thru-July-2020-1.pdf” title=”NC Board Member Attendance Record for 2019-2020 thru July 2020-1″]
URL:https://whcouncil.org/event/governance-committee-meeting-12/
CATEGORIES:Governance
END:VEVENT
BEGIN:VEVENT
DTSTART;TZID=America/Los_Angeles:20200616T183000
DTEND;TZID=America/Los_Angeles:20200616T210000
DTSTAMP:20260424T042654
CREATED:20200613T005510Z
LAST-MODIFIED:20200616T235628Z
UID:10000822-1592332200-1592341200@whcouncil.org
SUMMARY:Governance Committee Teleconference Meeting-Cancelled
DESCRIPTION:Woodland Hills Warner Center Neighborhood Council\nGovernance Meeting Teleconference \nJune 16\, 2020 \n6:30 pm \nMeeting Cancelled \nPlease contact the WHWCNC at d.patterson@whcouncil.org \n0r \n818-639-9444 \nShould there be any questions
URL:https://whcouncil.org/event/governance-committee-meeting-11/
CATEGORIES:Governance
END:VEVENT
BEGIN:VEVENT
DTSTART;TZID=America/Los_Angeles:20200218T183000
DTEND;TZID=America/Los_Angeles:20200218T203000
DTSTAMP:20260424T042654
CREATED:20200215T164713Z
LAST-MODIFIED:20200215T164828Z
UID:10000794-1582050600-1582057800@whcouncil.org
SUMMARY:Governance Committee Meeting
DESCRIPTION:The Governance Committee will hold its regular meeting on Tuesday\, February 18\, 2020. Major items to be discussed are below. \n\nDiscussion and review of the Woodland Hills Warner Center Neighborhood Council Bylaws and Standing Rules and process to facilitate review of the proposed changes by the Board.\nReview of Board Member attendance and discussion of possible recommendation(s) to the Board to remove Board members pursuant to Article V\, Section 7 of the Bylaws\nDiscussion of process to establish a new regular meeting date for Board meetings.\n\nThe full agenda can be found here: [pdf-embedder url=”https://whcouncil.org/wp-content/uploads/2020/02/NC-Governance-Committee-20200218.pdf” title=”NC Governance Committee 20200218″] \n 
URL:https://whcouncil.org/event/governance-committee-meeting-10/
LOCATION:West Valley-Warner Center Chamber of Commerce\, 6351 Owensmouth Avenue\, Suite 101A\, Woodland Hills\, CA\, 91367\, United States
CATEGORIES:Governance
GEO:34.1808143;-118.6038048
X-APPLE-STRUCTURED-LOCATION;VALUE=URI;X-ADDRESS=West Valley-Warner Center Chamber of Commerce 6351 Owensmouth Avenue Suite 101A Woodland Hills CA 91367 United States;X-APPLE-RADIUS=500;X-TITLE=6351 Owensmouth Avenue\, Suite 101A:geo:-118.6038048,34.1808143
END:VEVENT
END:VCALENDAR